Workbook
Name DadosExternos15: CALÇAMENTO!$B$6:$B$23
Name DadosExternos15_1: CALÇAMENTO!$B$6:$B$23
Name DadosExternos15_2: CALÇAMENTO!$B$6:$B$23
Name DadosExternos16: CALÇAMENTO!$B$6:$B$23
Name DadosExternos16_1: CALÇAMENTO!$B$6:$B$23
Name DadosExternos16_2: CALÇAMENTO!$B$6:$B$23
Name DadosExternos17: CALÇAMENTO!$B$6:$B$23
Name DadosExternos17_1: CALÇAMENTO!$B$6:$B$23
Name DadosExternos17_2: CALÇAMENTO!$B$6:$B$23
Name DadosExternos18: CALÇAMENTO!$B$8:$E$23
Name DadosExternos18_1: CALÇAMENTO!$B$8:$E$23
Name DadosExternos18_2: CALÇAMENTO!$B$8:$E$23
Name DadosExternos2: CALÇAMENTO!$B$6:$B$23
Name DadosExternos2_1: CALÇAMENTO!$B$6:$B$23
Name DadosExternos2_2: CALÇAMENTO!$B$6:$B$23
Name DadosExternos5: CALÇAMENTO!$B$6:$B$23
Name DadosExternos5_1: CALÇAMENTO!$B$6:$B$23
Name DadosExternos5_2: CALÇAMENTO!$B$6:$B$23
Name DadosExternos6: CALÇAMENTO!$B$6:$B$23
Name DadosExternos6_1: CALÇAMENTO!$B$6:$B$23
Name DadosExternos6_2: CALÇAMENTO!$B$6:$B$23
Name FIM: #REF!
Name FIM: #REF!

Sheet Cronograma
B2: SEPLAN | C2: SECRETARIA DE PLANEJAMENTO
B3: Município: | C3: =CALÇAMENTO!D3 -> SANTA TEREZA DO OESTE / PR | R3: FIN FDU | S3: 1
B4: Projeto: | C4: =CALÇAMENTO!D4 -> PAVIMENTAÇÃO POLIÉDRICA LINHA GROLLI - CONVENIO 4500072597 | R4: C.P.M. | S4: 0
B5: Local: | C5: =CALÇAMENTO!D5 -> LINHA GROLLI
B6: CRONOGRAMA FÍSICO FINANCEIRO
B7: GRUPO | C7: SERVIÇOS | E7: PARCELAS (%) | R7: TOTAL | S7: % S/
B8: ITEM | E8: 1 | F8: 2 | G8: 3 | H8: 4 | I8: 5 | J8: 6 | K8: 7 | L8: 8 | R8: ITEM (R$) | S8: TOTAL | T8: Controle
B9: 1 | C9: =IF(B9="","",VLOOKUP(B9,CALÇAMENTO!$B$8:$I$25,3,FALSE)) -> SERVIÇOS PRELIMINARES E TERRAPLANAGEM | E9: 20 | F9: 20 | G9: 20 | H9: 20 | I9: 20 | J9: 0 | K9: 0 | L9: 0 | R9: =CALÇAMENTO!I13 -> 152357.88 | S9: =IF(B9="","",IF($R$17=0,0,(R9/$R$17)*100)) -> 30.314651 | T9: =SUM(E9:Q9) -> 100
B10: 2 | C10: =IF(B10="","",VLOOKUP(B10,CALÇAMENTO!$B$8:$I$25,3,FALSE)) -> PAVIMENTAÇÃO POLIÉDRICA | E10: 10 | F10: 10 | G10: 10 | H10: 10 | I10: 20 | J10: 20 | K10: =100/10 -> 10 | L10: 10 | R10: =CALÇAMENTO!I23 -> 350230.39 | S10: =IF(B10="","",IF($R$17=0,0,(R10/$R$17)*100)) -> 69.685349 | T10: =SUM(E10:Q10) -> 100
B11: 3 | C11: =IF(B11="","",VLOOKUP(B11,CALÇAMENTO!$B$8:$I$25,3,FALSE)) -> #N/A | E11: 0 | F11: 0 | G11: 0 | H11: 0 | I11: 0 | J11: 0 | K11: 0 | L11: 0 | R11: =CALÇAMENTO!#REF! -> #REF! | S11: =IF(B11="","",IF($R$17=0,0,(R11/$R$17)*100)) -> #REF! | T11: =SUM(E11:Q11) -> 0
B12: 4 | C12: =IF(B12="","",VLOOKUP(B12,CALÇAMENTO!$B$8:$I$25,3,FALSE)) -> #N/A | E12: 0 | F12: 0 | G12: 0 | H12: 0 | I12: 0 | J12: 0 | K12: 0 | L12: 0 | R12: =CALÇAMENTO!#REF! -> #REF! | S12: =IF(B12="","",IF($R$17=0,0,(R12/$R$17)*100)) -> #REF! | T12: =SUM(E12:Q12) -> 0
B13: 5 | C13: =IF(B13="","",VLOOKUP(B13,CALÇAMENTO!$B$8:$I$25,3,FALSE)) -> #N/A | E13: 0 | F13: 0 | G13: 0 | H13: 0 | I13: 0 | J13: 0 | K13: 0 | L13: 0 | R13: =CALÇAMENTO!#REF! -> #REF! | S13: =IF(B13="","",IF($R$17=0,0,(R13/$R$17)*100)) -> #REF! | T13: =SUM(E13:Q13) -> 0
C14: =IF(B14="","",VLOOKUP(B14,#REF!,3,FALSE)) | D14: 6 | R14: =IF(B14="","",SUMIF(#REF!,"S9",#REF!)) | S14: =IF(B14="","",IF($R$17=0,0,(R14/$R$17)*100)) | T14: =SUM(E14:Q14) -> 0
C15: =IF(B15="","",VLOOKUP(B15,#REF!,3,FALSE)) | D15: 6 | R15: =IF(B15="","",SUMIF(#REF!,"S10",#REF!)) | S15: =IF(B15="","",IF($R$17=0,0,(R15/$R$17)*100)) | T15: =SUM(E15:Q15) -> 0
C17: TOTAIS | R17: =R9+R10 -> 502588.27 | S17: =S9+S10 -> 100
B18: COMPOSIÇÃO DO FINANCIAMENTO
B19: ITEM | E19: PARCELAS | R19: TOTAL | S19: % S/
E20: 1 | F20: 2 | G20: 3 | H20: 4 | I20: 5 | J20: 6 | K20: 7 | L20: 8 | M20: 11 | N20: 12 | O20: 13 | P20: 14 | Q20: 15 | R20: ITEM | S20: ITEM
B21: =IF(B9="","",B9) -> 1 | C21: =IF(B21="","","FINANCIAMENTO") -> FINANCIAMENTO | D21: R$ | E21: =IF(E9="","",((E9/100)*$R$9)*$S$3) -> 30471.576 | F21: =IF(F9="","",((F9/100)*$R$9)*$S$3) -> 30471.576 | G21: =IF(G9="","",((G9/100)*$R$9)*$S$3) -> 30471.576 | H21: =IF(H9="","",((H9/100)*$R$9)*$S$3) -> 30471.576 | I21: =IF(I9="","",((I9/100)*$R$9)*$S$3) -> 30471.576 | J21: =IF(J9="","",((J9/100)*$R$9)*$S$3) -> 0 | K21: =IF(K9="","",((K9/100)*$R$9)*$S$3) -> 0 | L21: =IF(L9="","",((L9/100)*$R$9)*$S$3) -> 0 | ... Q21: =IF(Q9="","",((Q9/100)*$R$9)*$S$3) | R21: =ROUND(SUM(E21:Q21),2) -> 152357.88 | S21: =IF($R$32=0,0,(R21/$R$32)) -> 0.30314651
C22: =IF(B21="","","CONTRAPARTIDA") -> CONTRAPARTIDA | D22: R$ | E22: =IF(E9="","",((E9/100)*$R$9)*$S$4) -> 0 | F22: =IF(F9="","",((F9/100)*$R$9)*$S$4) -> 0 | G22: =IF(G9="","",((G9/100)*$R$9)*$S$4) -> 0 | H22: =IF(H9="","",((H9/100)*$R$9)*$S$4) -> 0 | I22: =IF(I9="","",((I9/100)*$R$9)*$S$4) -> 0 | J22: =IF(J9="","",((J9/100)*$R$9)*$S$4) -> 0 | K22: =IF(K9="","",((K9/100)*$R$9)*$S$4) -> 0 | L22: =IF(L9="","",((L9/100)*$R$9)*$S$4) -> 0 | ... Q22: =IF(Q9="","",((Q9/100)*$R$9)*$S$4) | R22: =SUM(E22:Q22) -> 0 | S22: =IF($R$32=0,0,(R22/$R$32)) -> 0
B23: =IF(B10="","",B10) -> 2 | C23: =IF(B23="","","FINANCIAMENTO") -> FINANCIAMENTO | D23: R$ | E23: =IF(E10="","",((E10/100)*$R$10)*$S$3) -> 35023.039 | F23: =IF(F10="","",((F10/100)*$R$10)*$S$3) -> 35023.039 | G23: =IF(G10="","",((G10/100)*$R$10)*$S$3) -> 35023.039 | H23: =IF(H10="","",((H10/100)*$R$10)*$S$3) -> 35023.039 | I23: =IF(I10="","",((I10/100)*$R$10)*$S$3) -> 70046.078 | J23: =IF(J10="","",((J10/100)*$R$10)*$S$3) -> 70046.078 | K23: =IF(K10="","",((K10/100)*$R$10)*$S$3) -> 35023.039 | L23: =IF(L10="","",((L10/100)*$R$10)*$S$3) -> 35023.039 | ... Q23: =IF(Q10="","",((Q10/100)*$R$10)*$S$3) | R23: =SUM(E23:Q23) -> 350230.39 | S23: =IF($R$32=0,0,(R23/$R$32)) -> 0.69685349
C24: =IF(B23="","","CONTRAPARTIDA") -> CONTRAPARTIDA | D24: R$ | E24: =IF(E10="","",((E10/100)*$R$10)*$S$4) -> 0 | F24: =IF(F10="","",((F10/100)*$R$10)*$S$4) -> 0 | G24: =IF(G10="","",((G10/100)*$R$10)*$S$4) -> 0 | H24: =IF(H10="","",((H10/100)*$R$10)*$S$4) -> 0 | I24: =IF(I10="","",((I10/100)*$R$10)*$S$4) -> 0 | J24: =IF(J10="","",((J10/100)*$R$10)*$S$4) -> 0 | K24: =IF(K10="","",((K10/100)*$R$10)*$S$4) -> 0 | L24: =IF(L10="","",((L10/100)*$R$10)*$S$4) -> 0 | ... Q24: =IF(Q10="","",((Q10/100)*$R$10)*$S$4) | R24: =SUM(E24:Q24) -> 0 | S24: =IF($R$32=0,0,(R24/$R$32)) -> 0
C25: =IF(#REF!="","","CONTRAPARTIDA") -> #REF! | D25: R$ | E25: =IF(E14="","",((E14/100)*$R$14)*$S$4) | F25: =IF(F14="","",((F14/100)*$R$14)*$S$4) | G25: =IF(G14="","",((G14/100)*$R$14)*$S$4) | H25: =IF(H14="","",((H14/100)*$R$14)*$S$4) | I25: =IF(I14="","",((I14/100)*$R$14)*$S$4) | J25: =IF(J14="","",((J14/100)*$R$14)*$S$4) | K25: =IF(K14="","",((K14/100)*$R$14)*$S$4) | L25: =IF(L14="","",((L14/100)*$R$14)*$S$4) | ... Q25: =IF(Q14="","",((Q14/100)*$R$14)*$S$4) | R25: =SUM(E25:Q25) -> 0 | S25: =IF($R$32=0,0,(R25/$R$32)) -> 0
B26: =IF(B15="","",B15) | C26: =IF(B26="","","FINANCIAMENTO") | D26: R$ | E26: =IF(E15="","",((E15/100)*$R$15)*$S$3) | F26: =IF(F15="","",((F15/100)*$R$15)*$S$3) | G26: =IF(G15="","",((G15/100)*$R$15)*$S$3) | H26: =IF(H15="","",((H15/100)*$R$15)*$S$3) | I26: =IF(I15="","",((I15/100)*$R$15)*$S$3) | J26: =IF(J15="","",((J15/100)*$R$15)*$S$3) | K26: =IF(K15="","",((K15/100)*$R$15)*$S$3) | L26: =IF(L15="","",((L15/100)*$R$15)*$S$3) | ... Q26: =IF(Q15="","",((Q15/100)*$R$15)*$S$3) | R26: =SUM(E26:Q26) -> 0 | S26: =IF($R$32=0,0,(R26/$R$32)) -> 0
C27: =IF(B26="","","CONTRAPARTIDA") | D27: R$ | E27: =IF(E15="","",((E15/100)*$R$15)*$S$4) | F27: =IF(F15="","",((F15/100)*$R$15)*$S$4) | G27: =IF(G15="","",((G15/100)*$R$15)*$S$4) | H27: =IF(H15="","",((H15/100)*$R$15)*$S$4) | I27: =IF(I15="","",((I15/100)*$R$15)*$S$4) | J27: =IF(J15="","",((J15/100)*$R$15)*$S$4) | K27: =IF(K15="","",((K15/100)*$R$15)*$S$4) | L27: =IF(L15="","",((L15/100)*$R$15)*$S$4) | ... Q27: =IF(Q15="","",((Q15/100)*$R$15)*$S$4) | R27: =SUM(E27:Q27) -> 0 | S27: =IF($R$32=0,0,(R27/$R$32)) -> 0
B29: SUB- | C29: FINANCIAMENTO | D29: R$ | E29: =SUMIF($C$21:$C$27,"FINANCIAMENTO",E$21:E$27) -> 65494.615 | F29: =SUMIF($C$21:$C$27,"FINANCIAMENTO",F$21:F$27) -> 65494.615 | G29: =SUMIF($C$21:$C$27,"FINANCIAMENTO",G$21:G$27) -> 65494.615 | H29: =SUMIF($C$21:$C$27,"FINANCIAMENTO",H$21:H$27) -> 65494.615 | I29: =SUMIF($C$21:$C$27,"FINANCIAMENTO",I$21:I$27) -> 100517.65 | J29: =SUMIF($C$21:$C$27,"FINANCIAMENTO",J$21:J$27) -> 70046.078 | K29: =SUMIF($C$21:$C$27,"FINANCIAMENTO",K$21:K$27) -> 35023.039 | L29: =SUMIF($C$21:$C$27,"FINANCIAMENTO",L$21:L$27) -> 35023.039 | ... S29: =SUMIF($C$21:$C$27,"FINANCIAMENTO",S$21:S$27) -> 1
B30: TOTAL | C30: CONTRAPARTIDA | D30: R$ | E30: =SUMIF($C$21:$C$27,"CONTRAPARTIDA",E$21:E$27) -> 0 | F30: =SUMIF($C$21:$C$27,"CONTRAPARTIDA",F$21:F$27) -> 0 | G30: =SUMIF($C$21:$C$27,"CONTRAPARTIDA",G$21:G$27) -> 0 | H30: =SUMIF($C$21:$C$27,"CONTRAPARTIDA",H$21:H$27) -> 0 | I30: =SUMIF($C$21:$C$27,"CONTRAPARTIDA",I$21:I$27) -> 0 | J30: =SUMIF($C$21:$C$27,"CONTRAPARTIDA",J$21:J$27) -> 0 | K30: =SUMIF($C$21:$C$27,"CONTRAPARTIDA",K$21:K$27) -> 0 | L30: =SUMIF($C$21:$C$27,"CONTRAPARTIDA",L$21:L$27) -> 0 | ... S30: =SUMIF($C$21:$C$27,"CONTRAPARTIDA",S$21:S$27) -> 0
B32: FATURAMENTO MENSAL PREVISTO | D32: R$ | E32: =SUM(E29:E30) -> 65494.615 | F32: =SUM(F29:F30) -> 65494.615 | G32: =SUM(G29:G30) -> 65494.615 | H32: =SUM(H29:H30) -> 65494.615 | I32: =SUM(I29:I30) -> 100517.65 | J32: =SUM(J29:J30) -> 70046.078 | K32: =SUM(K29:K30) -> 35023.039 | L32: =SUM(L29:L30) -> 35023.039 | ... Q32: =SUM(Q29:Q30) -> 0 | R32: =SUM(E32:Q32) -> 502588.27 | S32: =SUM(S29:S30) -> 1
B33: MENSAL PREVISTO EM % | D33: R$ | E33: =IF($R$32=0,0,E32/$R$32) -> 0.13031465 | F33: =IF($R$32=0,0,F32/$R$32) -> 0.13031465 | G33: =IF($R$32=0,0,G32/$R$32) -> 0.13031465 | H33: =IF($R$32=0,0,H32/$R$32) -> 0.13031465 | I33: =IF($R$32=0,0,I32/$R$32) -> 0.2 | J33: =IF($R$32=0,0,J32/$R$32) -> 0.1393707 | K33: =IF($R$32=0,0,K32/$R$32) -> 0.069685349 | L33: =IF($R$32=0,0,L32/$R$32) -> 0.069685349 | ... R33: =IF($R$32=0,0,R32/$R$32) -> 1 | S33: =SUM(S29:S30) -> 1
B34: Pref. Municipal: | D34: Resp. Técnico: | N34: Data:

Sheet CALÇAMENTO
D2: PLANILHA DE SERVIÇOS - PAVIMENTAÇÃO POLIÉDRICA
B3: Município: | D3: SANTA TEREZA DO OESTE / PR
B4: Projeto: | D4: PAVIMENTAÇÃO POLIÉDRICA LINHA GROLLI - CONVENIO 4500072597 | K4: DESCONTO EMPRESA | M4: MEDIÇÕES
B5: Local: | D5: LINHA GROLLI | H5: BDI | I5: 0.25 | K5: =1-(#REF!/I25) -> #REF! | M5: MEDIÇÃO | N5: DATA | O5: MEDIÇÃO | P5: DATA | Q5: MEDIÇÃO | R5: DATA | S5: MEDIÇÃO | T5: DATA | U5: MEDIÇÃO | V5: DATA | W5: MEDIÇÃO | X5: DATA | Y5: TOTAIS
B6: ITENS | C6: CÓDIGOS SINAPI / DER / ITAIPU | D6: DESCRIÇÃO DOS SERVIÇOS | E6: UNID | F6: QUANT | H6: PREÇO (R$) | K6: LICITAÇÃO | M6: 1 | N6: 45741 | O6: 2 | Q6: 3 | S6: 4 | U6: 5 | W6: 6 | Y6: ACUMULADOS
F7: (a) | G7: UNITÁRIO (b) | H7: PARCIAL (c = a . b) | I7: PARCIAL COM BDI | K7: UNITÁRIO (b) | L7: PARCIAL COM BDI | M7: EXECUTADO | N7: TOTAL SUBITEM | O7: EXECUTADO | P7: TOTAL SUBITEM | Q7: EXECUTADO | R7: TOTAL SUBITEM | S7: EXECUTADO | T7: TOTAL SUBITEM | U7: EXECUTADO | V7: TOTAL SUBITEM | W7: EXECUTADO | X7: TOTAL SUBITEM | Y7: EXECUTADO | Z7: TOTAL
B8: 1 | D8: SERVIÇOS PRELIMINARES E TERRAPLANAGEM | AA8: =#REF!+#REF!+#REF!+#REF!+#REF!+#REF!+#REF!+#REF!+#REF! -> #REF!
A9: S1 | B9: 1.1 | C9: 103689 | D9: FORNECIMENTO E INSTALAÇÃO DE PLACA DE OBRA COM CHAPA GALVANIZADA E ESTRUTURA DE MADEIRA (90x120cm). AF_03/2022_PS | E9: M2 | F9: 1.08 | G9: 316.94 | H9: =IF($F9=0,0,ROUND($F9*$G9,2)) -> 342.3 | I9: =ROUND(H9*(1+$I$5),2) -> 427.88 | K9: 287.25 | L9: =ROUND(F9*K9*(1+$I$5),2) -> 387.79 | M9: 1 | N9: =IF(M9="","",L9*M9) -> 387.79 | P9: =IF(O9="","",L9*O9) | R9: =IF(Q9="","",L9*Q9) | T9: =IF(S9="","",L9*S9) | V9: =IF(U9="","",L9*U9) | X9: =IF(W9="","",L9*W9) | Y9: =IF(AND(M9="",O9="",Q9="",S9="",U9="",W9=""),"",IF(M9+O9+Q9+S9+U9+W9>1,"ERRO",M9+O9+Q9+S9+U9+W9)) -> 1 | Z9: =IF(Y9="","",IF(Y9="ERRO","ERRO",Y9*L9)) -> 387.79
A10: S1 | B10: 1.2 | C10: 98525 | D10: LIMPEZA MECANIZADA DE CAMADA VEGETAL, VEGETAÇÃO E PEQUENAS ÁRVORES (DIÂMETRO DE TRONCO MENOR QUE 0,20 M), COM TRATOR DE ESTEIRAS.AF 05/2018 | E10: M2 | F10: 8000 | G10: 0.47 | H10: =IF($F10=0,0,ROUND($F10*$G10,2)) -> 3760 | I10: =ROUND(H10*(1+$I$5),2) -> 4700 | K10: =G10*0.84 -> 0.3948 | L10: =ROUND(F10*K10*(1+$I$5),2) -> 3948 | M10: 1 | N10: =IF(M10="","",L10*M10) -> 3948 | P10: =IF(O10="","",L10*O10) | R10: =IF(Q10="","",L10*Q10) | T10: =IF(S10="","",L10*S10) | V10: =IF(U10="","",L10*U10) | X10: =IF(W10="","",L10*W10) | Y10: =IF(AND(M10="",O10="",Q10="",S10="",U10="",W10=""),"",IF(M10+O10+Q10+S10+U10+W10>1,"ERRO",M10+O10+Q10+S10+U10+W10)) -> 1 | Z10: =IF(Y10="","",IF(Y10="ERRO","ERRO",Y10*L10)) -> 3948
A11: S1 | B11: 1.3 | C11: 101127 | D11: ESCAVAÇÃO HORIZONTAL, INCLUINDO CARGA E DESCARGA EM SOLO DE 1A CATEGORIA COM TRATOR DE ESTEIRAS (347HP/LÂMINA: 8,70M3). AF_07/2020 | E11: M3 | F11: =F10*0.7 -> 5600 | G11: 14.89 | H11: =IF($F11=0,0,ROUND($F11*$G11,2)) -> 83384 | I11: =ROUND(H11*(1+$I$5),2) -> 104230 | K11: =G11*0.84 -> 12.5076 | L11: =ROUND(F11*K11*(1+$I$5),2) -> 87553.2 | M11: 1 | N11: =IF(M11="","",L11*M11) -> 87553.2 | P11: =IF(O11="","",L11*O11) | R11: =IF(Q11="","",L11*Q11) | T11: =IF(S11="","",L11*S11) | V11: =IF(U11="","",L11*U11) | X11: =IF(W11="","",L11*W11) | Y11: =IF(AND(M11="",O11="",Q11="",S11="",U11="",W11=""),"",IF(M11+O11+Q11+S11+U11+W11>1,"ERRO",M11+O11+Q11+S11+U11+W11)) -> 1 | Z11: =IF(Y11="","",IF(Y11="ERRO","ERRO",Y11*L11)) -> 87553.2
A12: S1 | B12: 1.4 | C12: 511100 | D12: REGULARIZAÇÃO, ENCAIXE DO GREIDE E COMPACTAÇÃO DO SUBLEITO 100% PN | E12: M2 | F12: 8000 | G12: 4.3 | H12: =IF($F12=0,0,ROUND($F12*$G12,2)) -> 34400 | I12: =ROUND(H12*(1+$I$5),2) -> 43000 | K12: =G12*0.84 -> 3.612 | L12: =ROUND(F12*K12*(1+$I$5),2) -> 36120 | M12: 1 | N12: =IF(M12="","",L12*M12) -> 36120 | P12: =IF(O12="","",L12*O12) | R12: =IF(Q12="","",L12*Q12) | T12: =IF(S12="","",L12*S12) | V12: =IF(U12="","",L12*U12) | X12: =IF(W12="","",L12*W12) | Y12: =IF(AND(M12="",O12="",Q12="",S12="",U12="",W12=""),"",IF(M12+O12+Q12+S12+U12+W12>1,"ERRO",M12+O12+Q12+S12+U12+W12)) -> 1 | Z12: =IF(Y12="","",IF(Y12="ERRO","ERRO",Y12*L12)) -> 36120
G13: SUBTOTAL | H13: =SUM(H9:H12) -> 121886.3 | I13: =SUM(I9:I12) -> 152357.88 | K13: SUBTOTAL | L13: =SUM(L9:L12) -> 128008.99 | M13: SUBTOTAL | N13: =SUM(N9:N12) -> 128008.99 | O13: SUBTOTAL | P13: =SUM(P9:P12) -> 0 | Q13: SUBTOTAL | R13: =SUM(R9:R12) -> 0 | S13: SUBTOTAL | T13: =SUM(T9:T12) -> 0 | U13: SUBTOTAL | V13: =SUM(V9:V12) -> 0 | W13: SUBTOTAL | X13: =SUM(X9:X12) -> 0 | Y13: SUBTOTAL | Z13: =SUM(Z9:Z12) -> 128008.99
B14: 2 | D14: PAVIMENTAÇÃO POLIÉDRICA
A15: S2 | B15: 2.1 | C15: 521450 | D15: EXTRAÇÃO, CARGA, TRANSP. PREPARO E ASSENTAMENTO DO POLIEDRO CORTADO | E15: M2 | F15: 6000 | G15: 25.66 | H15: =IF($F15=0,0,ROUND($F15*$G15,2)) -> 153960 | I15: =ROUND(H15*(1+$I$5),2) -> 192450 | K15: 21.56 | L15: =F15*K15*(1+$I$5) -> 161700 | M15: 0 | N15: =IF(M15="","",L15*M15) -> 0 | P15: =IF(O15="","",L15*O15) | R15: =IF(Q15="","",L15*Q15) | T15: =IF(S15="","",L15*S15) | V15: =IF(U15="","",L15*U15) | X15: =IF(W15="","",L15*W15) | Y15: =IF(AND(M15="",O15="",Q15="",S15="",U15="",W15=""),"",IF(M15+O15+Q15+S15+U15+W15>1,"ERRO",M15+O15+Q15+S15+U15+W15)) -> 0 | Z15: =IF(Y15="","",IF(Y15="ERRO","ERRO",Y15*L15)) -> 0
A16: S2 | B16: 2.3 | C16: 972000 | D16: COMERCIAL - CAMINHÃO BASCULANTE | E16: T | F16: =F15*1.5*0.3 -> 2700 | G16: =21.5*1.02 -> 21.93 | H16: =IF($F16=0,0,ROUND($F16*$G16,2)) -> 59211 | I16: =ROUND(H16*(1+$I$5),2) -> 74013.75 | K16: 18.43 | L16: =F16*K16*(1+$I$5) -> 62201.25 | M16: 0 | N16: =IF(M16="","",L16*M16) -> 0 | P16: =IF(O16="","",L16*O16) | R16: =IF(Q16="","",L16*Q16) | T16: =IF(S16="","",L16*S16) | V16: =IF(U16="","",L16*U16) | X16: =IF(W16="","",L16*W16) | Y16: =IF(AND(M16="",O16="",Q16="",S16="",U16="",W16=""),"",IF(M16+O16+Q16+S16+U16+W16>1,"ERRO",M16+O16+Q16+S16+U16+W16)) -> 0 | Z16: =IF(Y16="","",IF(Y16="ERRO","ERRO",Y16*L16)) -> 0
A17: S2 | B17: 2.2 | C17: 532600 | D17: COLCHÃO DE ARGILA/SAIBRO/MAT. DE JAZIDA - ESPESSURA DE 15CM | E17: M2 | F17: =F15 -> 6000 | G17: 2.42 | H17: =IF($F17=0,0,ROUND($F17*$G17,2)) -> 14520 | I17: =ROUND(H17*(1+$I$5),2) -> 18150 | K17: =G17*0.84 -> 2.0328 | L17: =F17*K17*(1+$I$5) -> 15246 | M17: 0 | N17: =IF(M17="","",L17*M17) -> 0 | P17: =IF(O17="","",L17*O17) | R17: =IF(Q17="","",L17*Q17) | T17: =IF(S17="","",L17*S17) | V17: =IF(U17="","",L17*U17) | X17: =IF(W17="","",L17*W17) | Y17: =IF(AND(M17="",O17="",Q17="",S17="",U17="",W17=""),"",IF(M17+O17+Q17+S17+U17+W17>1,"ERRO",M17+O17+Q17+S17+U17+W17)) -> 0 | Z17: =IF(Y17="","",IF(Y17="ERRO","ERRO",Y17*L17)) -> 0
A18: S2 | B18: 2.3 | C18: 972000 | D18: COMERCIAL - CAMINHÃO BASCULANTE | E18: T | F18: =F15*0.15*1.8 -> 1620 | G18: =21.5*1.02 -> 21.93 | H18: =IF($F18=0,0,ROUND($F18*$G18,2)) -> 35526.6 | I18: =ROUND(H18*(1+$I$5),2) -> 44408.25 | K18: 18.43 | L18: =F18*K18*(1+$I$5) -> 37320.75 | M18: 0 | N18: =IF(M18="","",L18*M18) -> 0 | P18: =IF(O18="","",L18*O18) | R18: =IF(Q18="","",L18*Q18) | T18: =IF(S18="","",L18*S18) | V18: =IF(U18="","",L18*U18) | X18: =IF(W18="","",L18*W18) | Y18: =IF(AND(M18="",O18="",Q18="",S18="",U18="",W18=""),"",IF(M18+O18+Q18+S18+U18+W18>1,"ERRO",M18+O18+Q18+S18+U18+W18)) -> 0 | Z18: =IF(Y18="","",IF(Y18="ERRO","ERRO",Y18*L18)) -> 0
A19: S2 | B19: 2.4 | C19: 532600 | D19: COLCHÃO DE PÓ DE PEDRA (REJUNTE) - ESPESSURA DE 3CM | E19: M2 | F19: =F15 -> 6000 | G19: =G17*0.2 -> 0.484 | H19: =IF($F19=0,0,ROUND($F19*$G19,2)) -> 2904 | I19: =ROUND(H19*(1+$I$5),2) -> 3630 | K19: 0.48 | L19: =F19*K19*(1+$I$5) -> 3600 | M19: 0 | N19: =IF(M19="","",L19*M19) -> 0 | P19: =IF(O19="","",L19*O19) | R19: =IF(Q19="","",L19*Q19) | T19: =IF(S19="","",L19*S19) | V19: =IF(U19="","",L19*U19) | X19: =IF(W19="","",L19*W19) | Y19: =IF(AND(M19="",O19="",Q19="",S19="",U19="",W19=""),"",IF(M19+O19+Q19+S19+U19+W19>1,"ERRO",M19+O19+Q19+S19+U19+W19)) -> 0 | Z19: =IF(Y19="","",IF(Y19="ERRO","ERRO",Y19*L19)) -> 0
A20: S2 | B20: 2.5 | C20: 972000 | D20: COMERCIAL - CAMINHÃO BASCULANTE | E20: T | F20: =F15*0.03*1.8 -> 324 | G20: =21.5*1.02 -> 21.93 | H20: =IF($F20=0,0,ROUND($F20*$G20,2)) -> 7105.32 | I20: =ROUND(H20*(1+$I$5),2) -> 8881.65 | K20: 18.43 | L20: =F20*K20*(1+$I$5) -> 7464.15 | M20: 0 | N20: =IF(M20="","",L20*M20) -> 0 | P20: =IF(O20="","",L20*O20) | R20: =IF(Q20="","",L20*Q20) | T20: =IF(S20="","",L20*S20) | V20: =IF(U20="","",L20*U20) | X20: =IF(W20="","",L20*W20) | Y20: =IF(AND(M20="",O20="",Q20="",S20="",U20="",W20=""),"",IF(M20+O20+Q20+S20+U20+W20>1,"ERRO",M20+O20+Q20+S20+U20+W20)) -> 0 | Z20: =IF(Y20="","",IF(Y20="ERRO","ERRO",Y20*L20)) -> 0
A21: S2 | B21: 2.6 | C21: 972000 | D21: COMERCIAL - CAMINHÃO BASCULANTE | E21: T | F21: =F16*0.03*1.8 -> 145.8 | G21: =21.5*1.02 -> 21.93 | H21: =IF($F21=0,0,ROUND($F21*$G21,2)) -> 3197.39 | I21: =ROUND(H21*(1+$I$5),2) -> 3996.74 | K21: 18.43 | L21: 3358.86 | M21: 0 | N21: =IF(M21="","",L21*M21) -> 0 | P21: =IF(O21="","",L21*O21) | R21: =IF(Q21="","",L21*Q21) | T21: =IF(S21="","",L21*S21) | V21: =IF(U21="","",L21*U21) | X21: =IF(W21="","",L21*W21) | Y21: =IF(AND(M21="",O21="",Q21="",S21="",U21="",W21=""),"",IF(M21+O21+Q21+S21+U21+W21>1,"ERRO",M21+O21+Q21+S21+U21+W21)) -> 0 | Z21: =IF(Y21="","",IF(Y21="ERRO","ERRO",Y21*L21)) -> 0
A22: S2 | B22: 2.7 | C22: 98525 | D22: LIMPEZA FINAL.AF_05/2018 | E22: M2 | F22: =F10 -> 8000 | G22: 0.47 | H22: =IF($F22=0,0,ROUND($F22*$G22,2)) -> 3760 | I22: =ROUND(H22*(1+$I$5),2) -> 4700 | K22: 0.4 | L22: =F22*K22*(1+$I$5) -> 4000 | M22: 0 | N22: =IF(M22="","",L22*M22) -> 0 | P22: =IF(O22="","",L22*O22) | R22: =IF(Q22="","",L22*Q22) | T22: =IF(S22="","",L22*S22) | V22: =IF(U22="","",L22*U22) | X22: =IF(W22="","",L22*W22) | Y22: =IF(AND(M22="",O22="",Q22="",S22="",U22="",W22=""),"",IF(M22+O22+Q22+S22+U22+W22>1,"ERRO",M22+O22+Q22+S22+U22+W22)) -> 0 | Z22: =IF(Y22="","",IF(Y22="ERRO","ERRO",Y22*L22)) -> 0
G23: SUBTOTAL | H23: =SUM(H15:H22) -> 280184.31 | I23: =SUM(I15:I22) -> 350230.39 | K23: SUBTOTAL | L23: =SUM(L15:L22) -> 294891.01 | M23: SUBTOTAL | N23: =SUM(N22) -> 0 | O23: SUBTOTAL | P23: =SUM(P22) -> 0 | Q23: SUBTOTAL | R23: =SUM(R22) -> 0 | S23: SUBTOTAL | T23: =SUM(T22) -> 0 | U23: SUBTOTAL | V23: =SUM(V22) -> 0 | W23: SUBTOTAL | X23: =SUM(X22) -> 0 | Y23: SUBTOTAL | Z23: =SUM(Z22) -> 0
H24: PREÇO GLOBAL SEM BDI | I24: =SUMIF(G9:G23,"SUBTOTAL",H9:H23) -> 402070.61 | AA24: =SUBTOTAL(9,AA8:AA23) -> #REF!
H25: PREÇO GLOBAL COM BDI | I25: =SUMIF(G9:G23,"SUBTOTAL",I9:I23) -> 502588.27
B30: ____________________________________
B31: RESPONSÁVEL TÉCNICO MUNICÍPIO
AJ32: =SUBTOTAL(9,AJ8:AJ31) -> 0

Sheet Planilha1
