Workbook
Name DadosExternos15: 'TRECHO 01'!$B$7:$B$17
Name DadosExternos15_1: 'TRECHO 01'!$B$7:$B$17
Name DadosExternos15_2: 'TRECHO 01'!$B$7:$B$17
Name DadosExternos16: 'TRECHO 01'!$B$7:$B$17
Name DadosExternos16_1: 'TRECHO 01'!$B$7:$B$17
Name DadosExternos16_2: 'TRECHO 01'!$B$7:$B$17
Name DadosExternos17: 'TRECHO 01'!$B$7:$B$17
Name DadosExternos17_1: 'TRECHO 01'!$B$7:$B$17
Name DadosExternos17_2: 'TRECHO 01'!$B$7:$B$17
Name DadosExternos18: 'TRECHO 01'!$B$12:$E$17
Name DadosExternos18_1: 'TRECHO 01'!$B$12:$E$17
Name DadosExternos18_2: 'TRECHO 01'!$B$12:$E$17
Name DadosExternos18_3: 'TRECHO 01'!$B$19:$E$24
Name DadosExternos18_4: 'TRECHO 01'!$B$19:$E$24
Name DadosExternos18_5: 'TRECHO 01'!$B$19:$E$24
Name DadosExternos18_6: 'TRECHO 01'!$B$26:$E$32
Name DadosExternos18_7: 'TRECHO 01'!$B$26:$E$32
Name DadosExternos18_8: 'TRECHO 01'!$B$26:$E$32
Name DadosExternos2: 'TRECHO 01'!$B$7:$B$17
Name DadosExternos2_1: 'TRECHO 01'!$B$7:$B$17
Name DadosExternos2_2: 'TRECHO 01'!$B$7:$B$17
Name DadosExternos5: 'TRECHO 01'!$B$7:$B$17
Name DadosExternos5_1: 'TRECHO 01'!$B$7:$B$17
Name DadosExternos5_2: 'TRECHO 01'!$B$7:$B$17
Name DadosExternos6: 'TRECHO 01'!$B$7:$B$17
Name DadosExternos6_1: 'TRECHO 01'!$B$7:$B$17
Name DadosExternos6_2: 'TRECHO 01'!$B$7:$B$17
Name FIM: #REF!
Name FIM: #REF!

Sheet Cronograma
B2: SEPLAN | C2: SECRETARIA DE PLANEJAMENTO | T2: DATA BASE | U2: 03-2024
B3: Município: | C3: ='TRECHO 01'!D3 -> SANTA TEREZA DO OESTE / PR | T3: ITAIPU | U3: 0.9
B4: Projeto: | C4: ='TRECHO 01'!D4 -> ADEQUAÇÃO DE ESTRADA RURAL | T4: C.P.M. | U4: 0.1
B5: Local: | C5: ='TRECHO 01'!D5 -> ESTRADA RURAIS
B6: CRONOGRAMA FÍSICO FINANCEIRO
B7: GRUPO | C7: SERVIÇOS | E7: PARCELAS SEMANAIS (%) | T7: TOTAL | U7: % S/
B8: ITEM | E8: 1 | F8: 2 | G8: 3 | H8: 4 | I8: 5 | J8: 6 | K8: 7 | L8: 8 | M8: 9 | N8: 10 | T8: ITEM (R$) | U8: TOTAL | V8: Controle
B9: 1 | C9: =IF(B9="","",VLOOKUP(B9,'TRECHO 01'!$B$9:$I$34,3,FALSE)) -> PLACA DE OBRA | E9: 100 | F9: 0 | G9: 0 | H9: 0 | I9: 0 | J9: 0 | K9: 0 | L9: 0 | M9: 0 | N9: 0 | T9: ='TRECHO 01'!I11 -> 2740.96 | U9: =IF(B9="","",IF($T$17=0,0,(T9/$T$17)*100)) -> 0.37681124 | V9: =SUM(E9:S9) -> 100
B10: 2 | C10: =IF(B10="","",VLOOKUP(B10,'TRECHO 01'!$B$12:$I$34,3,FALSE)) -> ESCAVAÇÃO MECANIZADA | E10: 10 | F10: 10 | G10: 10 | H10: 10 | I10: 20 | J10: 15 | K10: =100/10 -> 10 | L10: 10 | M10: 5 | N10: 0 | T10: ='TRECHO 01'!I14 -> 162570.24 | U10: =IF(B10="","",IF($T$17=0,0,(T10/$T$17)*100)) -> 22.349211 | V10: =SUM(E10:S10) -> 100
B11: 3 | C11: =IF(B11="","",VLOOKUP(B11,'TRECHO 01'!$B$12:$I$34,3,FALSE)) -> REGULARIZAÇÃO E COMPACTAÇÃO DE SUBLEITO | E11: =100/10 -> 10 | F11: =100/10 -> 10 | G11: =100/10 -> 10 | H11: =100/10 -> 10 | I11: =100/10 -> 10 | J11: =100/10 -> 10 | K11: =100/10 -> 10 | L11: =100/10 -> 10 | ... N11: =100/10 -> 10 | T11: ='TRECHO 01'!I17 -> 75801.6 | U11: =IF(B11="","",IF($T$17=0,0,(T11/$T$17)*100)) -> 10.420763 | V11: =SUM(E11:S11) -> 100
B12: 4 | C12: =IF(B12="","",VLOOKUP(B12,'TRECHO 01'!$B$12:$I$34,3,FALSE)) -> ESCAVAÇÃO MECANIZADA | E12: =100/10 -> 10 | F12: =100/10 -> 10 | G12: =100/10 -> 10 | H12: =100/10 -> 10 | I12: =100/10 -> 10 | J12: =100/10 -> 10 | K12: =100/10 -> 10 | L12: =100/10 -> 10 | ... N12: =100/10 -> 10 | T12: ='TRECHO 01'!I21 -> 203212.8 | U12: =IF(B12="","",IF($T$17=0,0,(T12/$T$17)*100)) -> 27.936514 | V12: =SUM(E12:S12) -> 100
B13: 5 | C13: =IF(B13="","",VLOOKUP(B13,'TRECHO 01'!$B$12:$I$34,3,FALSE)) -> REGULARIZAÇÃO E COMPACTAÇÃO DE SUBLEITO | E13: =100/10 -> 10 | F13: =100/10 -> 10 | G13: =100/10 -> 10 | H13: =100/10 -> 10 | I13: =100/10 -> 10 | J13: =100/10 -> 10 | K13: =100/10 -> 10 | L13: =100/10 -> 10 | ... N13: =100/10 -> 10 | T13: ='TRECHO 01'!I24 -> 94752 | U13: =IF(B13="","",IF($T$17=0,0,(T13/$T$17)*100)) -> 13.025954 | V13: =SUM(E13:S13) -> 100
B14: 6 | C14: =IF(B14="","",VLOOKUP(B14,'TRECHO 01'!$B$12:$I$34,3,FALSE)) -> ESCAVAÇÃO MECANIZADA | D14: 6 | E14: =100/10 -> 10 | F14: =100/10 -> 10 | G14: =100/10 -> 10 | H14: =100/10 -> 10 | I14: =100/10 -> 10 | J14: =100/10 -> 10 | K14: =100/10 -> 10 | L14: =100/10 -> 10 | ... N14: =100/10 -> 10 | T14: ='TRECHO 01'!I29 -> 129585.46 | U14: =IF(B14="","",IF($T$17=0,0,(T14/$T$17)*100)) -> 17.814655 | V14: =SUM(E14:S14) -> 100
B15: 7 | C15: =IF(B15="","",VLOOKUP(B15,'TRECHO 01'!$B$12:$I$34,3,FALSE)) -> REGULARIZAÇÃO E COMPACTAÇÃO DE SUBLEITO | D15: 6 | E15: =100/10 -> 10 | F15: =100/10 -> 10 | G15: =100/10 -> 10 | H15: =100/10 -> 10 | I15: =100/10 -> 10 | J15: =100/10 -> 10 | K15: =100/10 -> 10 | L15: =100/10 -> 10 | ... N15: =100/10 -> 10 | T15: ='TRECHO 01'!I32 -> 58746.24 | U15: =IF(B15="","",IF($T$17=0,0,(T15/$T$17)*100)) -> 8.0760914 | V15: =SUM(E15:S15) -> 100
C17: TOTAIS | T17: =SUM(T9:T16) -> 727409.3 | U17: =SUM(U9:U15) -> 100
B18: COMPOSIÇÃO DO FINANCIAMENTO
B19: ITEM | E19: PARCELAS | T19: TOTAL | U19: % S/
E20: 1 | F20: 2 | G20: 3 | H20: 4 | I20: 5 | J20: 6 | K20: 7 | L20: 8 | M20: 9 | N20: 10 | O20: 11 | P20: 12 | Q20: 13 | R20: 14 | S20: 15 | T20: ITEM | U20: ITEM
B21: =IF(B9="","",B9) -> 1 | C21: =IF(B21="","","FINANCIAMENTO") -> FINANCIAMENTO | D21: R$ | E21: =IF(E9="","",((E9/100)*$T$9)*$U$3) -> 2466.864 | F21: =IF(F9="","",((F9/100)*$T$9)*$U$3) -> 0 | G21: =IF(G9="","",((G9/100)*$T$9)*$U$3) -> 0 | H21: =IF(H9="","",((H9/100)*$T$9)*$U$3) -> 0 | I21: =IF(I9="","",((I9/100)*$T$9)*$U$3) -> 0 | J21: =IF(J9="","",((J9/100)*$T$9)*$U$3) -> 0 | K21: =IF(K9="","",((K9/100)*$T$9)*$U$3) -> 0 | L21: =IF(L9="","",((L9/100)*$T$9)*$U$3) -> 0 | ... S21: =IF(S9="","",((S9/100)*$T$9)*$U$3) | T21: =ROUND(SUM(E21:S21),2) -> 2466.86 | U21: =IF($T$45=0,0,(T21/$T$45)) -> 0.0033912957
C22: =IF(B21="","","CONTRAPARTIDA") -> CONTRAPARTIDA | D22: R$ | E22: =IF(E9="","",((E9/100)*$T$9)*$U$4) -> 274.096 | F22: =IF(F9="","",((F9/100)*$T$9)*$U$4) -> 0 | G22: =IF(G9="","",((G9/100)*$T$9)*$U$4) -> 0 | H22: =IF(H9="","",((H9/100)*$T$9)*$U$4) -> 0 | I22: =IF(I9="","",((I9/100)*$T$9)*$U$4) -> 0 | J22: =IF(J9="","",((J9/100)*$T$9)*$U$4) -> 0 | K22: =IF(K9="","",((K9/100)*$T$9)*$U$4) -> 0 | L22: =IF(L9="","",((L9/100)*$T$9)*$U$4) -> 0 | ... S22: =IF(S9="","",((S9/100)*$T$9)*$U$4) | T22: =SUM(E22:S22) -> 274.096 | U22: =IF($T$45=0,0,(T22/$T$45)) -> 0.00037681124
B23: =IF(B10="","",B10) -> 2 | C23: =IF(B23="","","FINANCIAMENTO") -> FINANCIAMENTO | D23: R$ | E23: =IF(E10="","",((E10/100)*$T$10)*$U$3) -> 14631.322 | F23: =IF(F10="","",((F10/100)*$T$10)*$U$3) -> 14631.322 | G23: =IF(G10="","",((G10/100)*$T$10)*$U$3) -> 14631.322 | H23: =IF(H10="","",((H10/100)*$T$10)*$U$3) -> 14631.322 | I23: =IF(I10="","",((I10/100)*$T$10)*$U$3) -> 29262.643 | J23: =IF(J10="","",((J10/100)*$T$10)*$U$3) -> 21946.982 | K23: =IF(K10="","",((K10/100)*$T$10)*$U$3) -> 14631.322 | L23: =IF(L10="","",((L10/100)*$T$10)*$U$3) -> 14631.322 | ... S23: =IF(S10="","",((S10/100)*$T$10)*$U$3) | T23: =SUM(E23:S23) -> 146313.22 | U23: =IF($T$45=0,0,(T23/$T$45)) -> 0.2011429
C24: =IF(B23="","","CONTRAPARTIDA") -> CONTRAPARTIDA | D24: R$ | E24: =IF(E10="","",((E10/100)*$T$10)*$U$4) -> 1625.7024 | F24: =IF(F10="","",((F10/100)*$T$10)*$U$4) -> 1625.7024 | G24: =IF(G10="","",((G10/100)*$T$10)*$U$4) -> 1625.7024 | H24: =IF(H10="","",((H10/100)*$T$10)*$U$4) -> 1625.7024 | I24: =IF(I10="","",((I10/100)*$T$10)*$U$4) -> 3251.4048 | J24: =IF(J10="","",((J10/100)*$T$10)*$U$4) -> 2438.5536 | K24: =IF(K10="","",((K10/100)*$T$10)*$U$4) -> 1625.7024 | L24: =IF(L10="","",((L10/100)*$T$10)*$U$4) -> 1625.7024 | ... S24: =IF(S10="","",((S10/100)*$T$10)*$U$4) | T24: =SUM(E24:S24) -> 16257.024 | U24: =IF($T$45=0,0,(T24/$T$45)) -> 0.022349211
B25: =IF(#REF!="","",#REF!) -> #REF! | C25: =IF(B25="","","FINANCIAMENTO") -> #REF! | D25: R$ | E25: =IF(#REF!="","",((#REF!/100)*#REF!)*$U$3) -> #REF! | F25: =IF(#REF!="","",((#REF!/100)*#REF!)*$U$3) -> #REF! | G25: =IF(#REF!="","",((#REF!/100)*#REF!)*$U$3) -> #REF! | H25: =IF(#REF!="","",((#REF!/100)*#REF!)*$U$3) -> #REF! | I25: =IF(#REF!="","",((#REF!/100)*#REF!)*$U$3) -> #REF! | J25: =IF(#REF!="","",((#REF!/100)*#REF!)*$U$3) -> #REF! | K25: =IF(#REF!="","",((#REF!/100)*#REF!)*$U$3) -> #REF! | L25: =IF(#REF!="","",((#REF!/100)*#REF!)*$U$3) -> #REF! | ... S25: =IF(#REF!="","",((#REF!/100)*#REF!)*$U$3) -> #REF! | T25: =SUM(E25:S25) -> #REF! | U25: =IF($T$45=0,0,(T25/$T$45)) -> #REF!
C26: =IF(B25="","","CONTRAPARTIDA") -> #REF! | D26: R$ | E26: =IF(#REF!="","",((#REF!/100)*#REF!)*$U$4) -> #REF! | F26: =IF(#REF!="","",((#REF!/100)*#REF!)*$U$4) -> #REF! | G26: =IF(#REF!="","",((#REF!/100)*#REF!)*$U$4) -> #REF! | H26: =IF(#REF!="","",((#REF!/100)*#REF!)*$U$4) -> #REF! | I26: =IF(#REF!="","",((#REF!/100)*#REF!)*$U$4) -> #REF! | J26: =IF(#REF!="","",((#REF!/100)*#REF!)*$U$4) -> #REF! | K26: =IF(#REF!="","",((#REF!/100)*#REF!)*$U$4) -> #REF! | L26: =IF(#REF!="","",((#REF!/100)*#REF!)*$U$4) -> #REF! | ... S26: =IF(#REF!="","",((#REF!/100)*#REF!)*$U$4) -> #REF! | T26: =SUM(E26:S26) -> #REF! | U26: =IF($T$45=0,0,(T26/$T$45)) -> #REF!
B27: =IF(#REF!="","",#REF!) -> #REF! | C27: =IF(B27="","","FINANCIAMENTO") -> #REF! | D27: R$ | E27: =IF(#REF!="","",((#REF!/100)*#REF!)*$U$3) -> #REF! | F27: =IF(#REF!="","",((#REF!/100)*#REF!)*$U$3) -> #REF! | G27: =IF(#REF!="","",((#REF!/100)*#REF!)*$U$3) -> #REF! | H27: =IF(#REF!="","",((#REF!/100)*#REF!)*$U$3) -> #REF! | I27: =IF(#REF!="","",((#REF!/100)*#REF!)*$U$3) -> #REF! | J27: =IF(#REF!="","",((#REF!/100)*#REF!)*$U$3) -> #REF! | K27: =IF(#REF!="","",((#REF!/100)*#REF!)*$U$3) -> #REF! | L27: =IF(#REF!="","",((#REF!/100)*#REF!)*$U$3) -> #REF! | ... S27: =IF(#REF!="","",((#REF!/100)*#REF!)*$U$3) -> #REF! | T27: =SUM(E27:S27) -> #REF! | U27: =IF($T$45=0,0,(T27/$T$45)) -> #REF!
C28: =IF(B27="","","CONTRAPARTIDA") -> #REF! | D28: R$ | E28: =IF(#REF!="","",((#REF!/100)*#REF!)*$U$4) -> #REF! | F28: =IF(#REF!="","",((#REF!/100)*#REF!)*$U$4) -> #REF! | G28: =IF(#REF!="","",((#REF!/100)*#REF!)*$U$4) -> #REF! | H28: =IF(#REF!="","",((#REF!/100)*#REF!)*$U$4) -> #REF! | I28: =IF(#REF!="","",((#REF!/100)*#REF!)*$U$4) -> #REF! | J28: =IF(#REF!="","",((#REF!/100)*#REF!)*$U$4) -> #REF! | K28: =IF(#REF!="","",((#REF!/100)*#REF!)*$U$4) -> #REF! | L28: =IF(#REF!="","",((#REF!/100)*#REF!)*$U$4) -> #REF! | ... S28: =IF(#REF!="","",((#REF!/100)*#REF!)*$U$4) -> #REF! | T28: =SUM(E28:S28) -> #REF! | U28: =IF($T$45=0,0,(T28/$T$45)) -> #REF!
B29: =IF(#REF!="","",#REF!) -> #REF! | C29: =IF(B29="","","FINANCIAMENTO") -> #REF! | D29: R$ | E29: =IF(#REF!="","",((#REF!/100)*#REF!)*$U$3) -> #REF! | F29: =IF(#REF!="","",((#REF!/100)*#REF!)*$U$3) -> #REF! | G29: =IF(#REF!="","",((#REF!/100)*#REF!)*$U$3) -> #REF! | H29: =IF(#REF!="","",((#REF!/100)*#REF!)*$U$3) -> #REF! | I29: =IF(#REF!="","",((#REF!/100)*#REF!)*$U$3) -> #REF! | J29: =IF(#REF!="","",((#REF!/100)*#REF!)*$U$3) -> #REF! | K29: =IF(#REF!="","",((#REF!/100)*#REF!)*$U$3) -> #REF! | L29: =IF(#REF!="","",((#REF!/100)*#REF!)*$U$3) -> #REF! | ... S29: =IF(#REF!="","",((#REF!/100)*#REF!)*$U$3) -> #REF! | T29: =SUM(E29:S29) -> #REF! | U29: =IF($T$45=0,0,(T29/$T$45)) -> #REF!
C30: =IF(B29="","","CONTRAPARTIDA") -> #REF! | D30: R$ | E30: =IF(#REF!="","",((#REF!/100)*#REF!)*$U$4) -> #REF! | F30: =IF(#REF!="","",((#REF!/100)*#REF!)*$U$4) -> #REF! | G30: =IF(#REF!="","",((#REF!/100)*#REF!)*$U$4) -> #REF! | H30: =IF(#REF!="","",((#REF!/100)*#REF!)*$U$4) -> #REF! | I30: =IF(#REF!="","",((#REF!/100)*#REF!)*$U$4) -> #REF! | J30: =IF(#REF!="","",((#REF!/100)*#REF!)*$U$4) -> #REF! | K30: =IF(#REF!="","",((#REF!/100)*#REF!)*$U$4) -> #REF! | L30: =IF(#REF!="","",((#REF!/100)*#REF!)*$U$4) -> #REF! | ... S30: =IF(#REF!="","",((#REF!/100)*#REF!)*$U$4) -> #REF! | T30: =SUM(E30:S30) -> #REF! | U30: =IF($T$45=0,0,(T30/$T$45)) -> #REF!
B31: =IF(B11="","",B11) -> 3 | C31: =IF(B31="","","FINANCIAMENTO") -> FINANCIAMENTO | D31: R$ | E31: =IF(E11="","",((E11/100)*$T$11)*$U$3) -> 6822.144 | F31: =IF(F11="","",((F11/100)*$T$11)*$U$3) -> 6822.144 | G31: =IF(G11="","",((G11/100)*$T$11)*$U$3) -> 6822.144 | H31: =IF(H11="","",((H11/100)*$T$11)*$U$3) -> 6822.144 | I31: =IF(I11="","",((I11/100)*$T$11)*$U$3) -> 6822.144 | J31: =IF(J11="","",((J11/100)*$T$11)*$U$3) -> 6822.144 | K31: =IF(K11="","",((K11/100)*$T$11)*$U$3) -> 6822.144 | L31: =IF(L11="","",((L11/100)*$T$11)*$U$3) -> 6822.144 | ... S31: =IF(S11="","",((S11/100)*$T$11)*$U$3) | T31: =SUM(E31:S31) -> 68221.44 | U31: =IF($T$45=0,0,(T31/$T$45)) -> 0.093786868
C32: =IF(B31="","","CONTRAPARTIDA") -> CONTRAPARTIDA | D32: R$ | E32: =IF(E11="","",((E11/100)*$T$11)*$U$4) -> 758.016 | F32: =IF(F11="","",((F11/100)*$T$11)*$U$4) -> 758.016 | G32: =IF(G11="","",((G11/100)*$T$11)*$U$4) -> 758.016 | H32: =IF(H11="","",((H11/100)*$T$11)*$U$4) -> 758.016 | I32: =IF(I11="","",((I11/100)*$T$11)*$U$4) -> 758.016 | J32: =IF(J11="","",((J11/100)*$T$11)*$U$4) -> 758.016 | K32: =IF(K11="","",((K11/100)*$T$11)*$U$4) -> 758.016 | L32: =IF(L11="","",((L11/100)*$T$11)*$U$4) -> 758.016 | ... S32: =IF(S11="","",((S11/100)*$T$11)*$U$4) | T32: =SUM(E32:S32) -> 7580.16 | U32: =IF($T$45=0,0,(T32/$T$45)) -> 0.010420763
B33: =IF(B12="","",B12) -> 4 | C33: =IF(B33="","","FINANCIAMENTO") -> FINANCIAMENTO | D33: R$ | E33: =IF(E12="","",((E12/100)*$T$12)*$U$3) -> 18289.152 | F33: =IF(F12="","",((F12/100)*$T$12)*$U$3) -> 18289.152 | G33: =IF(G12="","",((G12/100)*$T$12)*$U$3) -> 18289.152 | H33: =IF(H12="","",((H12/100)*$T$12)*$U$3) -> 18289.152 | I33: =IF(I12="","",((I12/100)*$T$12)*$U$3) -> 18289.152 | J33: =IF(J12="","",((J12/100)*$T$12)*$U$3) -> 18289.152 | K33: =IF(K12="","",((K12/100)*$T$12)*$U$3) -> 18289.152 | L33: =IF(L12="","",((L12/100)*$T$12)*$U$3) -> 18289.152 | ... S33: =IF(S12="","",((S12/100)*$T$12)*$U$3) | T33: =SUM(E33:S33) -> 182891.52 | U33: =IF($T$45=0,0,(T33/$T$45)) -> 0.25142862
C34: =IF(B33="","","CONTRAPARTIDA") -> CONTRAPARTIDA | D34: R$ | E34: =IF(E12="","",((E12/100)*$T$12)*$U$4) -> 2032.128 | F34: =IF(F12="","",((F12/100)*$T$12)*$U$4) -> 2032.128 | G34: =IF(G12="","",((G12/100)*$T$12)*$U$4) -> 2032.128 | H34: =IF(H12="","",((H12/100)*$T$12)*$U$4) -> 2032.128 | I34: =IF(I12="","",((I12/100)*$T$12)*$U$4) -> 2032.128 | J34: =IF(J12="","",((J12/100)*$T$12)*$U$4) -> 2032.128 | K34: =IF(K12="","",((K12/100)*$T$12)*$U$4) -> 2032.128 | L34: =IF(L12="","",((L12/100)*$T$12)*$U$4) -> 2032.128 | ... S34: =IF(S12="","",((S12/100)*$T$12)*$U$4) | T34: =SUM(E34:S34) -> 20321.28 | U34: =IF($T$45=0,0,(T34/$T$45)) -> 0.027936514
B35: =IF(B13="","",B13) -> 5 | C35: =IF(B35="","","FINANCIAMENTO") -> FINANCIAMENTO | D35: R$ | E35: =IF(E13="","",((E13/100)*$T$13)*$U$3) -> 8527.68 | F35: =IF(F13="","",((F13/100)*$T$13)*$U$3) -> 8527.68 | G35: =IF(G13="","",((G13/100)*$T$13)*$U$3) -> 8527.68 | H35: =IF(H13="","",((H13/100)*$T$13)*$U$3) -> 8527.68 | I35: =IF(I13="","",((I13/100)*$T$13)*$U$3) -> 8527.68 | J35: =IF(J13="","",((J13/100)*$T$13)*$U$3) -> 8527.68 | K35: =IF(K13="","",((K13/100)*$T$13)*$U$3) -> 8527.68 | L35: =IF(L13="","",((L13/100)*$T$13)*$U$3) -> 8527.68 | ... S35: =IF(S13="","",((S13/100)*$T$13)*$U$3) | T35: =SUM(E35:S35) -> 85276.8 | U35: =IF($T$45=0,0,(T35/$T$45)) -> 0.11723358
C36: =IF(B35="","","CONTRAPARTIDA") -> CONTRAPARTIDA | D36: R$ | E36: =IF(E13="","",((E13/100)*$T$13)*$U$4) -> 947.52 | F36: =IF(F13="","",((F13/100)*$T$13)*$U$4) -> 947.52 | G36: =IF(G13="","",((G13/100)*$T$13)*$U$4) -> 947.52 | H36: =IF(H13="","",((H13/100)*$T$13)*$U$4) -> 947.52 | I36: =IF(I13="","",((I13/100)*$T$13)*$U$4) -> 947.52 | J36: =IF(J13="","",((J13/100)*$T$13)*$U$4) -> 947.52 | K36: =IF(K13="","",((K13/100)*$T$13)*$U$4) -> 947.52 | L36: =IF(L13="","",((L13/100)*$T$13)*$U$4) -> 947.52 | ... S36: =IF(S13="","",((S13/100)*$T$13)*$U$4) | T36: =SUM(E36:S36) -> 9475.2 | U36: =IF($T$45=0,0,(T36/$T$45)) -> 0.013025954
B37: =IF(B14="","",B14) -> 6 | C37: =IF(B37="","","FINANCIAMENTO") -> FINANCIAMENTO | D37: R$ | E37: =IF(E14="","",((E14/100)*$T$14)*$U$3) -> 11662.691 | F37: =IF(F14="","",((F14/100)*$T$14)*$U$3) -> 11662.691 | G37: =IF(G14="","",((G14/100)*$T$14)*$U$3) -> 11662.691 | H37: =IF(H14="","",((H14/100)*$T$14)*$U$3) -> 11662.691 | I37: =IF(I14="","",((I14/100)*$T$14)*$U$3) -> 11662.691 | J37: =IF(J14="","",((J14/100)*$T$14)*$U$3) -> 11662.691 | K37: =IF(K14="","",((K14/100)*$T$14)*$U$3) -> 11662.691 | L37: =IF(L14="","",((L14/100)*$T$14)*$U$3) -> 11662.691 | ... S37: =IF(S14="","",((S14/100)*$T$14)*$U$3) | T37: =SUM(E37:S37) -> 116626.91 | U37: =IF($T$45=0,0,(T37/$T$45)) -> 0.1603319
C38: =IF(B37="","","CONTRAPARTIDA") -> CONTRAPARTIDA | D38: R$ | E38: =IF(E14="","",((E14/100)*$T$14)*$U$4) -> 1295.8546 | F38: =IF(F14="","",((F14/100)*$T$14)*$U$4) -> 1295.8546 | G38: =IF(G14="","",((G14/100)*$T$14)*$U$4) -> 1295.8546 | H38: =IF(H14="","",((H14/100)*$T$14)*$U$4) -> 1295.8546 | I38: =IF(I14="","",((I14/100)*$T$14)*$U$4) -> 1295.8546 | J38: =IF(J14="","",((J14/100)*$T$14)*$U$4) -> 1295.8546 | K38: =IF(K14="","",((K14/100)*$T$14)*$U$4) -> 1295.8546 | L38: =IF(L14="","",((L14/100)*$T$14)*$U$4) -> 1295.8546 | ... S38: =IF(S14="","",((S14/100)*$T$14)*$U$4) | T38: =SUM(E38:S38) -> 12958.546 | U38: =IF($T$45=0,0,(T38/$T$45)) -> 0.017814655
B39: =IF(B15="","",B15) -> 7 | C39: =IF(B39="","","FINANCIAMENTO") -> FINANCIAMENTO | D39: R$ | E39: =IF(E15="","",((E15/100)*$T$15)*$U$3) -> 5287.1616 | F39: =IF(F15="","",((F15/100)*$T$15)*$U$3) -> 5287.1616 | G39: =IF(G15="","",((G15/100)*$T$15)*$U$3) -> 5287.1616 | H39: =IF(H15="","",((H15/100)*$T$15)*$U$3) -> 5287.1616 | I39: =IF(I15="","",((I15/100)*$T$15)*$U$3) -> 5287.1616 | J39: =IF(J15="","",((J15/100)*$T$15)*$U$3) -> 5287.1616 | K39: =IF(K15="","",((K15/100)*$T$15)*$U$3) -> 5287.1616 | L39: =IF(L15="","",((L15/100)*$T$15)*$U$3) -> 5287.1616 | ... S39: =IF(S15="","",((S15/100)*$T$15)*$U$3) | T39: =SUM(E39:S39) -> 52871.616 | U39: =IF($T$45=0,0,(T39/$T$45)) -> 0.072684823
C40: =IF(B39="","","CONTRAPARTIDA") -> CONTRAPARTIDA | D40: R$ | E40: =IF(E15="","",((E15/100)*$T$15)*$U$4) -> 587.4624 | F40: =IF(F15="","",((F15/100)*$T$15)*$U$4) -> 587.4624 | G40: =IF(G15="","",((G15/100)*$T$15)*$U$4) -> 587.4624 | H40: =IF(H15="","",((H15/100)*$T$15)*$U$4) -> 587.4624 | I40: =IF(I15="","",((I15/100)*$T$15)*$U$4) -> 587.4624 | J40: =IF(J15="","",((J15/100)*$T$15)*$U$4) -> 587.4624 | K40: =IF(K15="","",((K15/100)*$T$15)*$U$4) -> 587.4624 | L40: =IF(L15="","",((L15/100)*$T$15)*$U$4) -> 587.4624 | ... S40: =IF(S15="","",((S15/100)*$T$15)*$U$4) | T40: =SUM(E40:S40) -> 5874.624 | U40: =IF($T$45=0,0,(T40/$T$45)) -> 0.0080760914
B42: SUB- | C42: FINANCIAMENTO | D42: R$ | E42: =SUMIF($C$21:$C$40,"FINANCIAMENTO",E$21:E$40) -> 67687.015 | F42: =SUMIF($C$21:$C$40,"FINANCIAMENTO",F$21:F$40) -> 65220.151 | G42: =SUMIF($C$21:$C$40,"FINANCIAMENTO",G$21:G$40) -> 65220.151 | H42: =SUMIF($C$21:$C$40,"FINANCIAMENTO",H$21:H$40) -> 65220.151 | I42: =SUMIF($C$21:$C$40,"FINANCIAMENTO",I$21:I$40) -> 79851.472 | J42: =SUMIF($C$21:$C$40,"FINANCIAMENTO",J$21:J$40) -> 72535.811 | K42: =SUMIF($C$21:$C$40,"FINANCIAMENTO",K$21:K$40) -> 65220.151 | L42: =SUMIF($C$21:$C$40,"FINANCIAMENTO",L$21:L$40) -> 65220.151 | ... U42: =SUMIF($C$21:$C$40,"FINANCIAMENTO",U$21:U$40) -> 0.89999999
B43: TOTAL | C43: CONTRAPARTIDA | D43: R$ | E43: =SUMIF($C$21:$C$40,"CONTRAPARTIDA",E$21:E$40) -> 7520.7794 | F43: =SUMIF($C$21:$C$40,"CONTRAPARTIDA",F$21:F$40) -> 7246.6834 | G43: =SUMIF($C$21:$C$40,"CONTRAPARTIDA",G$21:G$40) -> 7246.6834 | H43: =SUMIF($C$21:$C$40,"CONTRAPARTIDA",H$21:H$40) -> 7246.6834 | I43: =SUMIF($C$21:$C$40,"CONTRAPARTIDA",I$21:I$40) -> 8872.3858 | J43: =SUMIF($C$21:$C$40,"CONTRAPARTIDA",J$21:J$40) -> 8059.5346 | K43: =SUMIF($C$21:$C$40,"CONTRAPARTIDA",K$21:K$40) -> 7246.6834 | L43: =SUMIF($C$21:$C$40,"CONTRAPARTIDA",L$21:L$40) -> 7246.6834 | ... U43: =SUMIF($C$21:$C$40,"CONTRAPARTIDA",U$21:U$40) -> 0.1
B45: SEMANAL MENSAL PREVISTO | D45: R$ | E45: =SUM(E42:E43) -> 75207.794 | F45: =SUM(F42:F43) -> 72466.834 | G45: =SUM(G42:G43) -> 72466.834 | H45: =SUM(H42:H43) -> 72466.834 | I45: =SUM(I42:I43) -> 88723.858 | J45: =SUM(J42:J43) -> 80595.346 | K45: =SUM(K42:K43) -> 72466.834 | L45: =SUM(L42:L43) -> 72466.834 | ... S45: =SUM(S42:S43) -> 0 | T45: =SUM(E45:S45) -> 727409.3 | U45: =SUM(U42:U43) -> 0.99999999
B46: SEMANAL PREVISTO EM % | D46: R$ | E46: =IF($T$45=0,0,E45/$T$45) -> 0.1033913 | F46: =IF($T$45=0,0,F45/$T$45) -> 0.099623189 | G46: =IF($T$45=0,0,G45/$T$45) -> 0.099623189 | H46: =IF($T$45=0,0,H45/$T$45) -> 0.099623189 | I46: =IF($T$45=0,0,I45/$T$45) -> 0.1219724 | J46: =IF($T$45=0,0,J45/$T$45) -> 0.11079779 | K46: =IF($T$45=0,0,K45/$T$45) -> 0.099623189 | L46: =IF($T$45=0,0,L45/$T$45) -> 0.099623189 | ... T46: =IF($T$45=0,0,T45/$T$45) -> 1 | U46: =SUM(U42:U43) -> 0.99999999
B47: Pref. Municipal: | D47: Resp. Técnico: | P47: Data:
F486: 11.5
F487: 11.5

Sheet TRECHO 01
D2: PLANILHA DE SERVIÇOS - ADEQUAÇÃO DE ESTRADA RURAL
B3: Município: | D3: SANTA TEREZA DO OESTE / PR
B4: Projeto: | D4: ADEQUAÇÃO DE ESTRADA RURAL | H4: DATA BASE | I4: 03-2024 | K4: DESCONTO EMPRESA | M4: MEDIÇÕES
B5: Local: | D5: ESTRADA RURAIS | H5: BDI | I5: 0.2 | K5: =1-(L33/I34) -> 0.0027480814 | M5: MEDIÇÃO | N5: DATA | O5: MEDIÇÃO | P5: DATA | Q5: MEDIÇÃO | R5: DATA | S5: MEDIÇÃO | T5: DATA | U5: MEDIÇÃO | V5: DATA | W5: MEDIÇÃO | X5: DATA | Y5: TOTAIS
B6: ESTRADA PINHALZINHO
B7: ITENS | C7: CÓDIGOS SINAPI / DER / ITAIPU | D7: DESCRIÇÃO DOS SERVIÇOS | E7: UNID | F7: QUANT | H7: PREÇO (R$) | K7: LICITAÇÃO | M7: 1 | N7: 45922 | O7: 2 | Q7: 3 | S7: 4 | U7: 5 | W7: 6 | Y7: ACUMULADOS
F8: (a) | G8: UNITÁRIO (b) | H8: PARCIAL (c = a . b) | I8: PARCIAL COM BDI | K8: UNITÁRIO (b) | L8: PARCIAL COM BDI | M8: EXECUTADO | N8: TOTAL SUBITEM | O8: EXECUTADO | P8: TOTAL SUBITEM | Q8: EXECUTADO | R8: TOTAL SUBITEM | S8: EXECUTADO | T8: TOTAL SUBITEM | U8: EXECUTADO | V8: TOTAL SUBITEM | W8: EXECUTADO | X8: TOTAL SUBITEM | Y8: EXECUTADO | Z8: TOTAL
B9: 1 | D9: PLACA DE OBRA
A10: S1 | B10: 1.1 | C10: 103689 | D10: FORNECIMENTO E INSTALAÇÃO DE PLACA DE OBRA COM CHAPA GALVANIZADA E ESTRUTURA DE MADEIRA 3x2,4M. AF_03/2022_PS | E10: M2 | F10: =3*2.4 -> 7.2 | G10: 317.24 | H10: =IF($F10=0,0,ROUND($F10*$G10,2)) -> 2284.13 | I10: =ROUND(H10*(1+$I$5),2) -> 2740.96 | K10: 300 | L10: =F10*K10*(1+$I$5) -> 2592 | N10: =IF(M10="","",L10*M10) | P10: =IF(O10="","",L10*O10) | R10: =IF(Q10="","",L10*Q10) | T10: =IF(S10="","",L10*S10) | V10: =IF(U10="","",L10*U10) | X10: =IF(W10="","",L10*W10) | Y10: =IF(AND(M10="",O10="",Q10="",S10="",U10="",W10=""),"",IF(M10+O10+Q10+S10+U10+W10>1,"ERRO",M10+O10+Q10+S10+U10+W10)) | Z10: =IF(Y10="","",IF(Y10="ERRO","ERRO",Y10*L10))
G11: SUBTOTAL | H11: =SUM(H10:H10) -> 2284.13 | I11: =SUM(I10:I10) -> 2740.96 | K11: SUBTOTAL | L11: =SUM(L10) -> 2592 | M11: SUBTOTAL | N11: =SUM(N10) -> 0 | O11: SUBTOTAL | P11: =SUM(P10) -> 0 | Q11: SUBTOTAL | R11: =SUM(R10) -> 0 | S11: SUBTOTAL | T11: =SUM(T10) -> 0 | U11: SUBTOTAL | V11: =SUM(V10) -> 0 | W11: SUBTOTAL | X11: =SUM(X10) -> 0 | Y11: SUBTOTAL | Z11: =SUM(Z10) -> 0
B12: 2 | D12: ESCAVAÇÃO MECANIZADA
A13: S2 | B13: 2.1 | C13: 101233 | D13: ESCAVAÇÃO VERTICAL PARA INFRAESTRUTURA, COM CARGA, DESCARGA E TRANSPORTE DE SOLO DE 1ª CATEGORIA, COM ESCAVADEIRA HIDRÁULICA (CAÇAMBA: 1,2 M³ / 155 HP), FROTA DE 3 CAMINHÕES BASCULANTES DE 18 M³, DMT ATÉ 1 KM E VELOCIDADE MÉDIA14 KM/H. AF_05/2020 | E13: M3 | F13: =0.7*8*2800 -> 15680 | G13: 8.64 | H13: =IF($F13=0,0,ROUND($F13*$G13,2)) -> 135475.2 | I13: =ROUND(H13*(1+$I$5),2) -> 162570.24 | K13: 8.64 | L13: =F13*K13*(1+$I$5) -> 162570.24 | N13: =IF(M13="","",L13*M13) | P13: =IF(O13="","",L13*O13) | R13: =IF(Q13="","",L13*Q13) | T13: =IF(S13="","",L13*S13) | V13: =IF(U13="","",L13*U13) | X13: =IF(W13="","",L13*W13) | Y13: =IF(AND(M13="",O13="",Q13="",S13="",U13="",W13=""),"",IF(M13+O13+Q13+S13+U13+W13>1,"ERRO",M13+O13+Q13+S13+U13+W13)) | Z13: =IF(Y13="","",IF(Y13="ERRO","ERRO",Y13*L13))
G14: SUBTOTAL | H14: =SUM(H13:H13) -> 135475.2 | I14: =SUM(I13:I13) -> 162570.24 | K14: SUBTOTAL | L14: =SUM(L13) -> 162570.24 | M14: SUBTOTAL | N14: =SUM(N13) -> 0 | O14: SUBTOTAL | P14: =SUM(P13) -> 0 | Q14: SUBTOTAL | R14: =SUM(R13) -> 0 | S14: SUBTOTAL | T14: =SUM(T13) -> 0 | U14: SUBTOTAL | V14: =SUM(V13) -> 0 | W14: SUBTOTAL | X14: =SUM(X13) -> 0 | Y14: SUBTOTAL | Z14: =SUM(Z13) -> 0
B15: 3 | D15: REGULARIZAÇÃO E COMPACTAÇÃO DE SUBLEITO
A16: S3 | B16: 3.1 | C16: 100576 | D16: REGULARIZAÇÃO E COMPACTAÇÃO DE SUBLEITO DE SOLO PREDOMINANTEMENTE ARGILOSO. AF_11/2019 | E16: M2 | F16: =8*2800 -> 22400 | G16: 2.82 | H16: =IF($F16=0,0,ROUND($F16*$G16,2)) -> 63168 | I16: =ROUND(H16*(1+$I$5),2) -> 75801.6 | K16: 2.8 | L16: =ROUND(F16*K16*(1+$I$5),2) -> 75264 | N16: =IF(M16="","",L16*M16) | P16: =IF(O16="","",L16*O16) | R16: =IF(Q16="","",L16*Q16) | T16: =IF(S16="","",L16*S16) | V16: =IF(U16="","",L16*U16) | X16: =IF(W16="","",L16*W16) | Y16: =IF(AND(M16="",O16="",Q16="",S16="",U16="",W16=""),"",IF(M16+O16+Q16+S16+U16+W16>1,"ERRO",M16+O16+Q16+S16+U16+W16)) | Z16: =IF(Y16="","",IF(Y16="ERRO","ERRO",Y16*L16))
G17: SUBTOTAL | H17: =SUM(H16:H16) -> 63168 | I17: =SUM(I16:I16) -> 75801.6 | K17: SUBTOTAL | L17: =SUM(L16) -> 75264 | M17: SUBTOTAL | N17: =SUM(N16) -> 0 | O17: SUBTOTAL | P17: =SUM(P16) -> 0 | Q17: SUBTOTAL | R17: =SUM(R16) -> 0 | S17: SUBTOTAL | T17: =SUM(T16) -> 0 | U17: SUBTOTAL | V17: =SUM(V16) -> 0 | W17: SUBTOTAL | X17: =SUM(X16) -> 0 | Y17: SUBTOTAL | Z17: =SUM(Z16) -> 0
B18: ESTRADA SÍTIO BAHIA TRECHO 01
B19: 4 | D19: ESCAVAÇÃO MECANIZADA
A20: S4 | B20: 4.1 | C20: 101233 | D20: ESCAVAÇÃO VERTICAL PARA INFRAESTRUTURA, COM CARGA, DESCARGA E TRANSPORTE DE SOLO DE 1ª CATEGORIA, COM ESCAVADEIRA HIDRÁULICA (CAÇAMBA: 1,2 M³ / 155 HP), FROTA DE 3 CAMINHÕES BASCULANTES DE 18 M³, DMT ATÉ 1 KM E VELOCIDADE MÉDIA14 KM/H. AF_05/2020 | E20: M3 | F20: =0.7*8*3500 -> 19600 | G20: 8.64 | H20: =IF($F20=0,0,ROUND($F20*$G20,2)) -> 169344 | I20: =ROUND(H20*(1+$I$5),2) -> 203212.8 | K20: 8.64 | L20: =F20*K20*(1+$I$5) -> 203212.8 | M20: 0.25 | N20: =IF(M20="","",L20*M20) -> 50803.2 | P20: =IF(O20="","",L20*O20) | R20: =IF(Q20="","",L20*Q20) | T20: =IF(S20="","",L20*S20) | V20: =IF(U20="","",L20*U20) | X20: =IF(W20="","",L20*W20) | Y20: =IF(AND(M20="",O20="",Q20="",S20="",U20="",W20=""),"",IF(M20+O20+Q20+S20+U20+W20>1,"ERRO",M20+O20+Q20+S20+U20+W20)) -> 0.25 | Z20: =IF(Y20="","",IF(Y20="ERRO","ERRO",Y20*L20)) -> 50803.2
G21: SUBTOTAL | H21: =SUM(H20:H20) -> 169344 | I21: =SUM(I20:I20) -> 203212.8 | K21: SUBTOTAL | L21: =SUM(L20) -> 203212.8 | M21: SUBTOTAL | N21: =SUM(N20) -> 50803.2 | O21: SUBTOTAL | P21: =SUM(P20) -> 0 | Q21: SUBTOTAL | R21: =SUM(R20) -> 0 | S21: SUBTOTAL | T21: =SUM(T20) -> 0 | U21: SUBTOTAL | V21: =SUM(V20) -> 0 | W21: SUBTOTAL | X21: =SUM(X20) -> 0 | Y21: SUBTOTAL | Z21: =SUM(Z20) -> 50803.2
B22: 5 | D22: REGULARIZAÇÃO E COMPACTAÇÃO DE SUBLEITO
A23: S1 | B23: 5.1 | C23: 100576 | D23: REGULARIZAÇÃO E COMPACTAÇÃO DE SUBLEITO DE SOLO PREDOMINANTEMENTE ARGILOSO. AF_11/2019 | E23: M2 | F23: =8*3500 -> 28000 | G23: 2.82 | H23: =IF($F23=0,0,ROUND($F23*$G23,2)) -> 78960 | I23: =ROUND(H23*(1+$I$5),2) -> 94752 | K23: 2.82 | L23: =ROUND(F23*K23*(1+$I$5),2) -> 94752 | M23: 0.25 | N23: =IF(M23="","",L23*M23) -> 23688 | P23: =IF(O23="","",L23*O23) | R23: =IF(Q23="","",L23*Q23) | T23: =IF(S23="","",L23*S23) | V23: =IF(U23="","",L23*U23) | X23: =IF(W23="","",L23*W23) | Y23: =IF(AND(M23="",O23="",Q23="",S23="",U23="",W23=""),"",IF(M23+O23+Q23+S23+U23+W23>1,"ERRO",M23+O23+Q23+S23+U23+W23)) -> 0.25 | Z23: =IF(Y23="","",IF(Y23="ERRO","ERRO",Y23*L23)) -> 23688
G24: SUBTOTAL | H24: =SUM(H23:H23) -> 78960 | I24: =SUM(I23:I23) -> 94752 | K24: SUBTOTAL | L24: =SUM(L23) -> 94752 | M24: SUBTOTAL | N24: =SUM(N23) -> 23688 | O24: SUBTOTAL | P24: =SUM(P23) -> 0 | Q24: SUBTOTAL | R24: =SUM(R23) -> 0 | S24: SUBTOTAL | T24: =SUM(T23) -> 0 | U24: SUBTOTAL | V24: =SUM(V23) -> 0 | W24: SUBTOTAL | X24: =SUM(X23) -> 0 | Y24: SUBTOTAL | Z24: =SUM(Z23) -> 23688
B25: ESTRADA SÍTIO BAHIA TRECHO 02
B26: 6 | D26: ESCAVAÇÃO MECANIZADA
A27: S6 | B27: 6.1 | C27: 101233 | D27: ESCAVAÇÃO VERTICAL PARA INFRAESTRUTURA, COM CARGA, DESCARGA E TRANSPORTE DE SOLO DE 1ª CATEGORIA, COM ESCAVADEIRA HIDRÁULICA (CAÇAMBA: 1,2 M³ / 155 HP), FROTA DE 3 CAMINHÕES BASCULANTES DE 18 M³, DMT ATÉ 1 KM E VELOCIDADE MÉDIA14 KM/H. AF_05/2020 | E27: M3 | F27: =0.7*8*2170 -> 12152 | G27: 8.64 | H27: =IF($F27=0,0,ROUND($F27*$G27,2)) -> 104993.28 | I27: =ROUND(H27*(1+$I$5),2) -> 125991.94 | K27: 8.6 | L27: =F27*K27*(1+$I$5) -> 125408.64 | N27: =IF(M27="","",L27*M27) | P27: =IF(O27="","",L27*O27) | R27: =IF(Q27="","",L27*Q27) | T27: =IF(S27="","",L27*S27) | V27: =IF(U27="","",L27*U27) | X27: =IF(W27="","",L27*W27) | Y27: =IF(AND(M27="",O27="",Q27="",S27="",U27="",W27=""),"",IF(M27+O27+Q27+S27+U27+W27>1,"ERRO",M27+O27+Q27+S27+U27+W27)) | Z27: =IF(Y27="","",IF(Y27="ERRO","ERRO",Y27*L27))
A28: S6 | B28: 6.2 | C28: 98525 | D28: LIMPEZA MECANIZADA DE CAMADA VEGETAL, VEGETAÇÃO E PEQUENAS ÁRVORES (DIÂMETRO DE TRONCO MENOR QUE 0,20 M), COM TRATOR DE ESTEIRAS. AF_03/2024 | E28: M2 | F28: =2170*2 -> 4340 | G28: 0.69 | H28: =IF($F28=0,0,ROUND($F28*$G28,2)) -> 2994.6 | I28: =ROUND(H28*(1+$I$5),2) -> 3593.52 | K28: 0.55 | L28: =F28*K28*(1+$I$5) -> 2864.4 | N28: =IF(M28="","",L28*M28) | P28: =IF(O28="","",L28*O28) | R28: =IF(Q28="","",L28*Q28) | T28: =IF(S28="","",L28*S28) | V28: =IF(U28="","",L28*U28) | X28: =IF(W28="","",L28*W28) | Y28: =IF(AND(M28="",O28="",Q28="",S28="",U28="",W28=""),"",IF(M28+O28+Q28+S28+U28+W28>1,"ERRO",M28+O28+Q28+S28+U28+W28)) | Z28: =IF(Y28="","",IF(Y28="ERRO","ERRO",Y28*L28))
G29: SUBTOTAL | H29: =SUM(H27:H28) -> 107987.88 | I29: =SUM(I27:I28) -> 129585.46 | K29: SUBTOTAL | L29: =SUM(L27:L28) -> 128273.04 | M29: SUBTOTAL | N29: =SUM(N27:N28) -> 0 | O29: SUBTOTAL | P29: =SUM(P27:P28) -> 0 | Q29: SUBTOTAL | R29: =SUM(R27:R28) -> 0 | S29: SUBTOTAL | T29: =SUM(T27:T28) -> 0 | U29: SUBTOTAL | V29: =SUM(V27:V28) -> 0 | W29: SUBTOTAL | X29: =SUM(X27:X28) -> 0 | Y29: SUBTOTAL | Z29: =SUM(Z27:Z28) -> 0
B30: 7 | D30: REGULARIZAÇÃO E COMPACTAÇÃO DE SUBLEITO
A31: S7 | B31: 7.1 | C31: 100576 | D31: REGULARIZAÇÃO E COMPACTAÇÃO DE SUBLEITO DE SOLO PREDOMINANTEMENTE ARGILOSO. AF_11/2019 | E31: M2 | F31: =8*2170 -> 17360 | G31: 2.82 | H31: =IF($F31=0,0,ROUND($F31*$G31,2)) -> 48955.2 | I31: =ROUND(H31*(1+$I$5),2) -> 58746.24 | K31: 2.82 | L31: =ROUND(F31*K31*(1+$I$5),2) -> 58746.24 | N31: =IF(M31="","",L31*M31) | P31: =IF(O31="","",L31*O31) | R31: =IF(Q31="","",L31*Q31) | T31: =IF(S31="","",L31*S31) | V31: =IF(U31="","",L31*U31) | X31: =IF(W31="","",L31*W31) | Y31: =IF(AND(M31="",O31="",Q31="",S31="",U31="",W31=""),"",IF(M31+O31+Q31+S31+U31+W31>1,"ERRO",M31+O31+Q31+S31+U31+W31)) | Z31: =IF(Y31="","",IF(Y31="ERRO","ERRO",Y31*L31))
G32: SUBTOTAL | H32: =SUM(H31:H31) -> 48955.2 | I32: =SUM(I31:I31) -> 58746.24 | K32: SUBTOTAL | L32: =SUM(L31) -> 58746.24 | M32: SUBTOTAL | N32: =SUM(N31) -> 0 | O32: SUBTOTAL | P32: =SUM(P31) -> 0 | Q32: SUBTOTAL | R32: =SUM(R31) -> 0 | S32: SUBTOTAL | T32: =SUM(T31) -> 0 | U32: SUBTOTAL | V32: =SUM(V31) -> 0 | W32: SUBTOTAL | X32: =SUM(X31) -> 0 | Y32: SUBTOTAL | Z32: =SUM(Z31) -> 0
H33: PREÇO GLOBAL SEM BDI | I33: =SUMIF(G10:G32,"SUBTOTAL",H10:H32) -> 606174.41 | K33: TOTAL | L33: =SUMIF(K10:K32,"SUBTOTAL",L10:L32) -> 725410.32 | M33: TOTAL | N33: =SUMIF(M10:M32,"SUBTOTAL",N10:N32) -> 74491.2 | O33: TOTAL | P33: =SUMIF(O10:O32,"SUBTOTAL",P10:P32) -> 0 | Q33: TOTAL | R33: =SUMIF(Q10:Q32,"SUBTOTAL",R10:R32) -> 0 | S33: TOTAL | T33: =SUMIF(S10:S32,"SUBTOTAL",T10:T32) -> 0 | U33: TOTAL | V33: =SUMIF(U10:U32,"SUBTOTAL",V10:V32) -> 0 | W33: TOTAL | X33: =SUMIF(W10:W32,"SUBTOTAL",X10:X32) -> 0 | Y33: TOTAL | Z33: =SUMIF(Y10:Y32,"SUBTOTAL",Z10:Z32) -> 74491.2 | AA33: =SUBTOTAL(9,AA12:AA32) -> 0
H34: PREÇO GLOBAL COM BDI | I34: =SUMIF(G10:G32,"SUBTOTAL",I10:I32) -> 727409.3
B39: ____________________________________
B40: ELIZEU R. M MATTE
B41: ENG. CIVIL - CREA PR-129.586/D | AJ41: =SUBTOTAL(9,AJ12:AJ40) -> 0
B42: SEPLAN
L45: 548856
I46: 609840 | L46: =L33-L45 -> 176554.32
I47: =I34-I46 -> 117569.3 | L47: =ROUND(L46/L45,4) -> 0.3217 | M47: =ROUND(N33*L47,2) -> 23963.82
I48: 60984

Sheet Planilha1

Sheet Cronograma Licitado
B2: SEPLAN | C2: SECRETARIA DE PLANEJAMENTO | T2: DATA BASE | U2: 03-2024
B3: Município: | C3: ='TRECHO 01'!D3 -> SANTA TEREZA DO OESTE / PR | T3: ITAIPU | U3: 0.9
B4: Projeto: | C4: ='TRECHO 01'!D4 -> ADEQUAÇÃO DE ESTRADA RURAL | T4: C.P.M. | U4: 0.1
B5: Local: | C5: ='TRECHO 01'!D5 -> ESTRADA RURAIS
B6: CRONOGRAMA FÍSICO FINANCEIRO
B7: GRUPO | C7: SERVIÇOS | E7: PARCELAS SEMANAIS (%) | T7: TOTAL | U7: % S/
B8: ITEM | E8: 1 | F8: 2 | G8: 3 | H8: 4 | I8: 5 | J8: 6 | K8: 7 | L8: 8 | M8: 9 | N8: 10 | T8: ITEM (R$) | U8: TOTAL | V8: Controle
B9: 1 | C9: =IF(B9="","",VLOOKUP(B9,'TRECHO 01'!$B$9:$I$34,3,FALSE)) -> PLACA DE OBRA | E9: 100 | F9: 0 | G9: 0 | H9: 0 | I9: 0 | J9: 0 | K9: 0 | L9: 0 | M9: 0 | N9: 0 | T9: ='TRECHO 01'!I11 -> 2740.96 | U9: =IF(B9="","",IF($T$17=0,0,(T9/$T$17)*100)) -> 0.37681124 | V9: =SUM(E9:S9) -> 100
B10: 2 | C10: =IF(B10="","",VLOOKUP(B10,'TRECHO 01'!$B$12:$I$34,3,FALSE)) -> ESCAVAÇÃO MECANIZADA | E10: 10 | F10: 10 | G10: 10 | H10: 10 | I10: 20 | J10: 15 | K10: =100/10 -> 10 | L10: 10 | M10: 5 | N10: 0 | T10: ='TRECHO 01'!I14 -> 162570.24 | U10: =IF(B10="","",IF($T$17=0,0,(T10/$T$17)*100)) -> 22.349211 | V10: =SUM(E10:S10) -> 100
B11: 3 | C11: =IF(B11="","",VLOOKUP(B11,'TRECHO 01'!$B$12:$I$34,3,FALSE)) -> REGULARIZAÇÃO E COMPACTAÇÃO DE SUBLEITO | E11: =100/10 -> 10 | F11: =100/10 -> 10 | G11: =100/10 -> 10 | H11: =100/10 -> 10 | I11: =100/10 -> 10 | J11: =100/10 -> 10 | K11: =100/10 -> 10 | L11: =100/10 -> 10 | ... N11: =100/10 -> 10 | T11: ='TRECHO 01'!I17 -> 75801.6 | U11: =IF(B11="","",IF($T$17=0,0,(T11/$T$17)*100)) -> 10.420763 | V11: =SUM(E11:S11) -> 100
B12: 4 | C12: =IF(B12="","",VLOOKUP(B12,'TRECHO 01'!$B$12:$I$34,3,FALSE)) -> ESCAVAÇÃO MECANIZADA | E12: =100/10 -> 10 | F12: =100/10 -> 10 | G12: =100/10 -> 10 | H12: =100/10 -> 10 | I12: =100/10 -> 10 | J12: =100/10 -> 10 | K12: =100/10 -> 10 | L12: =100/10 -> 10 | ... N12: =100/10 -> 10 | T12: ='TRECHO 01'!I21 -> 203212.8 | U12: =IF(B12="","",IF($T$17=0,0,(T12/$T$17)*100)) -> 27.936514 | V12: =SUM(E12:S12) -> 100
B13: 5 | C13: =IF(B13="","",VLOOKUP(B13,'TRECHO 01'!$B$12:$I$34,3,FALSE)) -> REGULARIZAÇÃO E COMPACTAÇÃO DE SUBLEITO | E13: =100/10 -> 10 | F13: =100/10 -> 10 | G13: =100/10 -> 10 | H13: =100/10 -> 10 | I13: =100/10 -> 10 | J13: =100/10 -> 10 | K13: =100/10 -> 10 | L13: =100/10 -> 10 | ... N13: =100/10 -> 10 | T13: ='TRECHO 01'!I24 -> 94752 | U13: =IF(B13="","",IF($T$17=0,0,(T13/$T$17)*100)) -> 13.025954 | V13: =SUM(E13:S13) -> 100
B14: 6 | C14: =IF(B14="","",VLOOKUP(B14,'TRECHO 01'!$B$12:$I$34,3,FALSE)) -> ESCAVAÇÃO MECANIZADA | D14: 6 | E14: =100/10 -> 10 | F14: =100/10 -> 10 | G14: =100/10 -> 10 | H14: =100/10 -> 10 | I14: =100/10 -> 10 | J14: =100/10 -> 10 | K14: =100/10 -> 10 | L14: =100/10 -> 10 | ... N14: =100/10 -> 10 | T14: ='TRECHO 01'!I29 -> 129585.46 | U14: =IF(B14="","",IF($T$17=0,0,(T14/$T$17)*100)) -> 17.814655 | V14: =SUM(E14:S14) -> 100
B15: 7 | C15: =IF(B15="","",VLOOKUP(B15,'TRECHO 01'!$B$12:$I$34,3,FALSE)) -> REGULARIZAÇÃO E COMPACTAÇÃO DE SUBLEITO | D15: 6 | E15: =100/10 -> 10 | F15: =100/10 -> 10 | G15: =100/10 -> 10 | H15: =100/10 -> 10 | I15: =100/10 -> 10 | J15: =100/10 -> 10 | K15: =100/10 -> 10 | L15: =100/10 -> 10 | ... N15: =100/10 -> 10 | T15: ='TRECHO 01'!I32 -> 58746.24 | U15: =IF(B15="","",IF($T$17=0,0,(T15/$T$17)*100)) -> 8.0760914 | V15: =SUM(E15:S15) -> 100
C17: TOTAIS | T17: =SUM(T9:T16) -> 727409.3 | U17: =SUM(U9:U15) -> 100
B18: COMPOSIÇÃO DO FINANCIAMENTO
B19: ITEM | E19: PARCELAS | T19: TOTAL | U19: % S/
E20: 1 | F20: 2 | G20: 3 | H20: 4 | I20: 5 | J20: 6 | K20: 7 | L20: 8 | M20: 9 | N20: 10 | O20: 11 | P20: 12 | Q20: 13 | R20: 14 | S20: 15 | T20: ITEM | U20: ITEM
B21: =IF(B9="","",B9) -> 1 | C21: =IF(B21="","","FINANCIAMENTO") -> FINANCIAMENTO | D21: R$ | E21: =IF(E9="","",((E9/100)*$T$9)*$U$3) -> 2466.864 | F21: =IF(F9="","",((F9/100)*$T$9)*$U$3) -> 0 | G21: =IF(G9="","",((G9/100)*$T$9)*$U$3) -> 0 | H21: =IF(H9="","",((H9/100)*$T$9)*$U$3) -> 0 | I21: =IF(I9="","",((I9/100)*$T$9)*$U$3) -> 0 | J21: =IF(J9="","",((J9/100)*$T$9)*$U$3) -> 0 | K21: =IF(K9="","",((K9/100)*$T$9)*$U$3) -> 0 | L21: =IF(L9="","",((L9/100)*$T$9)*$U$3) -> 0 | ... S21: =IF(S9="","",((S9/100)*$T$9)*$U$3) | T21: =ROUND(SUM(E21:S21),2) -> 2466.86 | U21: =IF($T$45=0,0,(T21/$T$45)) -> 0.0033912957
C22: =IF(B21="","","CONTRAPARTIDA") -> CONTRAPARTIDA | D22: R$ | E22: =IF(E9="","",((E9/100)*$T$9)*$U$4) -> 274.096 | F22: =IF(F9="","",((F9/100)*$T$9)*$U$4) -> 0 | G22: =IF(G9="","",((G9/100)*$T$9)*$U$4) -> 0 | H22: =IF(H9="","",((H9/100)*$T$9)*$U$4) -> 0 | I22: =IF(I9="","",((I9/100)*$T$9)*$U$4) -> 0 | J22: =IF(J9="","",((J9/100)*$T$9)*$U$4) -> 0 | K22: =IF(K9="","",((K9/100)*$T$9)*$U$4) -> 0 | L22: =IF(L9="","",((L9/100)*$T$9)*$U$4) -> 0 | ... S22: =IF(S9="","",((S9/100)*$T$9)*$U$4) | T22: =SUM(E22:S22) -> 274.096 | U22: =IF($T$45=0,0,(T22/$T$45)) -> 0.00037681124
B23: =IF(B10="","",B10) -> 2 | C23: =IF(B23="","","FINANCIAMENTO") -> FINANCIAMENTO | D23: R$ | E23: =IF(E10="","",((E10/100)*$T$10)*$U$3) -> 14631.322 | F23: =IF(F10="","",((F10/100)*$T$10)*$U$3) -> 14631.322 | G23: =IF(G10="","",((G10/100)*$T$10)*$U$3) -> 14631.322 | H23: =IF(H10="","",((H10/100)*$T$10)*$U$3) -> 14631.322 | I23: =IF(I10="","",((I10/100)*$T$10)*$U$3) -> 29262.643 | J23: =IF(J10="","",((J10/100)*$T$10)*$U$3) -> 21946.982 | K23: =IF(K10="","",((K10/100)*$T$10)*$U$3) -> 14631.322 | L23: =IF(L10="","",((L10/100)*$T$10)*$U$3) -> 14631.322 | ... S23: =IF(S10="","",((S10/100)*$T$10)*$U$3) | T23: =SUM(E23:S23) -> 146313.22 | U23: =IF($T$45=0,0,(T23/$T$45)) -> 0.2011429
C24: =IF(B23="","","CONTRAPARTIDA") -> CONTRAPARTIDA | D24: R$ | E24: =IF(E10="","",((E10/100)*$T$10)*$U$4) -> 1625.7024 | F24: =IF(F10="","",((F10/100)*$T$10)*$U$4) -> 1625.7024 | G24: =IF(G10="","",((G10/100)*$T$10)*$U$4) -> 1625.7024 | H24: =IF(H10="","",((H10/100)*$T$10)*$U$4) -> 1625.7024 | I24: =IF(I10="","",((I10/100)*$T$10)*$U$4) -> 3251.4048 | J24: =IF(J10="","",((J10/100)*$T$10)*$U$4) -> 2438.5536 | K24: =IF(K10="","",((K10/100)*$T$10)*$U$4) -> 1625.7024 | L24: =IF(L10="","",((L10/100)*$T$10)*$U$4) -> 1625.7024 | ... S24: =IF(S10="","",((S10/100)*$T$10)*$U$4) | T24: =SUM(E24:S24) -> 16257.024 | U24: =IF($T$45=0,0,(T24/$T$45)) -> 0.022349211
B25: =IF(#REF!="","",#REF!) -> #REF! | C25: =IF(B25="","","FINANCIAMENTO") -> #REF! | D25: R$ | E25: =IF(#REF!="","",((#REF!/100)*#REF!)*$U$3) -> #REF! | F25: =IF(#REF!="","",((#REF!/100)*#REF!)*$U$3) -> #REF! | G25: =IF(#REF!="","",((#REF!/100)*#REF!)*$U$3) -> #REF! | H25: =IF(#REF!="","",((#REF!/100)*#REF!)*$U$3) -> #REF! | I25: =IF(#REF!="","",((#REF!/100)*#REF!)*$U$3) -> #REF! | J25: =IF(#REF!="","",((#REF!/100)*#REF!)*$U$3) -> #REF! | K25: =IF(#REF!="","",((#REF!/100)*#REF!)*$U$3) -> #REF! | L25: =IF(#REF!="","",((#REF!/100)*#REF!)*$U$3) -> #REF! | ... S25: =IF(#REF!="","",((#REF!/100)*#REF!)*$U$3) -> #REF! | T25: =SUM(E25:S25) -> #REF! | U25: =IF($T$45=0,0,(T25/$T$45)) -> #REF!
C26: =IF(B25="","","CONTRAPARTIDA") -> #REF! | D26: R$ | E26: =IF(#REF!="","",((#REF!/100)*#REF!)*$U$4) -> #REF! | F26: =IF(#REF!="","",((#REF!/100)*#REF!)*$U$4) -> #REF! | G26: =IF(#REF!="","",((#REF!/100)*#REF!)*$U$4) -> #REF! | H26: =IF(#REF!="","",((#REF!/100)*#REF!)*$U$4) -> #REF! | I26: =IF(#REF!="","",((#REF!/100)*#REF!)*$U$4) -> #REF! | J26: =IF(#REF!="","",((#REF!/100)*#REF!)*$U$4) -> #REF! | K26: =IF(#REF!="","",((#REF!/100)*#REF!)*$U$4) -> #REF! | L26: =IF(#REF!="","",((#REF!/100)*#REF!)*$U$4) -> #REF! | ... S26: =IF(#REF!="","",((#REF!/100)*#REF!)*$U$4) -> #REF! | T26: =SUM(E26:S26) -> #REF! | U26: =IF($T$45=0,0,(T26/$T$45)) -> #REF!
B27: =IF(#REF!="","",#REF!) -> #REF! | C27: =IF(B27="","","FINANCIAMENTO") -> #REF! | D27: R$ | E27: =IF(#REF!="","",((#REF!/100)*#REF!)*$U$3) -> #REF! | F27: =IF(#REF!="","",((#REF!/100)*#REF!)*$U$3) -> #REF! | G27: =IF(#REF!="","",((#REF!/100)*#REF!)*$U$3) -> #REF! | H27: =IF(#REF!="","",((#REF!/100)*#REF!)*$U$3) -> #REF! | I27: =IF(#REF!="","",((#REF!/100)*#REF!)*$U$3) -> #REF! | J27: =IF(#REF!="","",((#REF!/100)*#REF!)*$U$3) -> #REF! | K27: =IF(#REF!="","",((#REF!/100)*#REF!)*$U$3) -> #REF! | L27: =IF(#REF!="","",((#REF!/100)*#REF!)*$U$3) -> #REF! | ... S27: =IF(#REF!="","",((#REF!/100)*#REF!)*$U$3) -> #REF! | T27: =SUM(E27:S27) -> #REF! | U27: =IF($T$45=0,0,(T27/$T$45)) -> #REF!
C28: =IF(B27="","","CONTRAPARTIDA") -> #REF! | D28: R$ | E28: =IF(#REF!="","",((#REF!/100)*#REF!)*$U$4) -> #REF! | F28: =IF(#REF!="","",((#REF!/100)*#REF!)*$U$4) -> #REF! | G28: =IF(#REF!="","",((#REF!/100)*#REF!)*$U$4) -> #REF! | H28: =IF(#REF!="","",((#REF!/100)*#REF!)*$U$4) -> #REF! | I28: =IF(#REF!="","",((#REF!/100)*#REF!)*$U$4) -> #REF! | J28: =IF(#REF!="","",((#REF!/100)*#REF!)*$U$4) -> #REF! | K28: =IF(#REF!="","",((#REF!/100)*#REF!)*$U$4) -> #REF! | L28: =IF(#REF!="","",((#REF!/100)*#REF!)*$U$4) -> #REF! | ... S28: =IF(#REF!="","",((#REF!/100)*#REF!)*$U$4) -> #REF! | T28: =SUM(E28:S28) -> #REF! | U28: =IF($T$45=0,0,(T28/$T$45)) -> #REF!
B29: =IF(#REF!="","",#REF!) -> #REF! | C29: =IF(B29="","","FINANCIAMENTO") -> #REF! | D29: R$ | E29: =IF(#REF!="","",((#REF!/100)*#REF!)*$U$3) -> #REF! | F29: =IF(#REF!="","",((#REF!/100)*#REF!)*$U$3) -> #REF! | G29: =IF(#REF!="","",((#REF!/100)*#REF!)*$U$3) -> #REF! | H29: =IF(#REF!="","",((#REF!/100)*#REF!)*$U$3) -> #REF! | I29: =IF(#REF!="","",((#REF!/100)*#REF!)*$U$3) -> #REF! | J29: =IF(#REF!="","",((#REF!/100)*#REF!)*$U$3) -> #REF! | K29: =IF(#REF!="","",((#REF!/100)*#REF!)*$U$3) -> #REF! | L29: =IF(#REF!="","",((#REF!/100)*#REF!)*$U$3) -> #REF! | ... S29: =IF(#REF!="","",((#REF!/100)*#REF!)*$U$3) -> #REF! | T29: =SUM(E29:S29) -> #REF! | U29: =IF($T$45=0,0,(T29/$T$45)) -> #REF!
C30: =IF(B29="","","CONTRAPARTIDA") -> #REF! | D30: R$ | E30: =IF(#REF!="","",((#REF!/100)*#REF!)*$U$4) -> #REF! | F30: =IF(#REF!="","",((#REF!/100)*#REF!)*$U$4) -> #REF! | G30: =IF(#REF!="","",((#REF!/100)*#REF!)*$U$4) -> #REF! | H30: =IF(#REF!="","",((#REF!/100)*#REF!)*$U$4) -> #REF! | I30: =IF(#REF!="","",((#REF!/100)*#REF!)*$U$4) -> #REF! | J30: =IF(#REF!="","",((#REF!/100)*#REF!)*$U$4) -> #REF! | K30: =IF(#REF!="","",((#REF!/100)*#REF!)*$U$4) -> #REF! | L30: =IF(#REF!="","",((#REF!/100)*#REF!)*$U$4) -> #REF! | ... S30: =IF(#REF!="","",((#REF!/100)*#REF!)*$U$4) -> #REF! | T30: =SUM(E30:S30) -> #REF! | U30: =IF($T$45=0,0,(T30/$T$45)) -> #REF!
B31: =IF(B11="","",B11) -> 3 | C31: =IF(B31="","","FINANCIAMENTO") -> FINANCIAMENTO | D31: R$ | E31: =IF(E11="","",((E11/100)*$T$11)*$U$3) -> 6822.144 | F31: =IF(F11="","",((F11/100)*$T$11)*$U$3) -> 6822.144 | G31: =IF(G11="","",((G11/100)*$T$11)*$U$3) -> 6822.144 | H31: =IF(H11="","",((H11/100)*$T$11)*$U$3) -> 6822.144 | I31: =IF(I11="","",((I11/100)*$T$11)*$U$3) -> 6822.144 | J31: =IF(J11="","",((J11/100)*$T$11)*$U$3) -> 6822.144 | K31: =IF(K11="","",((K11/100)*$T$11)*$U$3) -> 6822.144 | L31: =IF(L11="","",((L11/100)*$T$11)*$U$3) -> 6822.144 | ... S31: =IF(S11="","",((S11/100)*$T$11)*$U$3) | T31: =SUM(E31:S31) -> 68221.44 | U31: =IF($T$45=0,0,(T31/$T$45)) -> 0.093786868
C32: =IF(B31="","","CONTRAPARTIDA") -> CONTRAPARTIDA | D32: R$ | E32: =IF(E11="","",((E11/100)*$T$11)*$U$4) -> 758.016 | F32: =IF(F11="","",((F11/100)*$T$11)*$U$4) -> 758.016 | G32: =IF(G11="","",((G11/100)*$T$11)*$U$4) -> 758.016 | H32: =IF(H11="","",((H11/100)*$T$11)*$U$4) -> 758.016 | I32: =IF(I11="","",((I11/100)*$T$11)*$U$4) -> 758.016 | J32: =IF(J11="","",((J11/100)*$T$11)*$U$4) -> 758.016 | K32: =IF(K11="","",((K11/100)*$T$11)*$U$4) -> 758.016 | L32: =IF(L11="","",((L11/100)*$T$11)*$U$4) -> 758.016 | ... S32: =IF(S11="","",((S11/100)*$T$11)*$U$4) | T32: =SUM(E32:S32) -> 7580.16 | U32: =IF($T$45=0,0,(T32/$T$45)) -> 0.010420763
B33: =IF(B12="","",B12) -> 4 | C33: =IF(B33="","","FINANCIAMENTO") -> FINANCIAMENTO | D33: R$ | E33: =IF(E12="","",((E12/100)*$T$12)*$U$3) -> 18289.152 | F33: =IF(F12="","",((F12/100)*$T$12)*$U$3) -> 18289.152 | G33: =IF(G12="","",((G12/100)*$T$12)*$U$3) -> 18289.152 | H33: =IF(H12="","",((H12/100)*$T$12)*$U$3) -> 18289.152 | I33: =IF(I12="","",((I12/100)*$T$12)*$U$3) -> 18289.152 | J33: =IF(J12="","",((J12/100)*$T$12)*$U$3) -> 18289.152 | K33: =IF(K12="","",((K12/100)*$T$12)*$U$3) -> 18289.152 | L33: =IF(L12="","",((L12/100)*$T$12)*$U$3) -> 18289.152 | ... S33: =IF(S12="","",((S12/100)*$T$12)*$U$3) | T33: =SUM(E33:S33) -> 182891.52 | U33: =IF($T$45=0,0,(T33/$T$45)) -> 0.25142862
C34: =IF(B33="","","CONTRAPARTIDA") -> CONTRAPARTIDA | D34: R$ | E34: =IF(E12="","",((E12/100)*$T$12)*$U$4) -> 2032.128 | F34: =IF(F12="","",((F12/100)*$T$12)*$U$4) -> 2032.128 | G34: =IF(G12="","",((G12/100)*$T$12)*$U$4) -> 2032.128 | H34: =IF(H12="","",((H12/100)*$T$12)*$U$4) -> 2032.128 | I34: =IF(I12="","",((I12/100)*$T$12)*$U$4) -> 2032.128 | J34: =IF(J12="","",((J12/100)*$T$12)*$U$4) -> 2032.128 | K34: =IF(K12="","",((K12/100)*$T$12)*$U$4) -> 2032.128 | L34: =IF(L12="","",((L12/100)*$T$12)*$U$4) -> 2032.128 | ... S34: =IF(S12="","",((S12/100)*$T$12)*$U$4) | T34: =SUM(E34:S34) -> 20321.28 | U34: =IF($T$45=0,0,(T34/$T$45)) -> 0.027936514
B35: =IF(B13="","",B13) -> 5 | C35: =IF(B35="","","FINANCIAMENTO") -> FINANCIAMENTO | D35: R$ | E35: =IF(E13="","",((E13/100)*$T$13)*$U$3) -> 8527.68 | F35: =IF(F13="","",((F13/100)*$T$13)*$U$3) -> 8527.68 | G35: =IF(G13="","",((G13/100)*$T$13)*$U$3) -> 8527.68 | H35: =IF(H13="","",((H13/100)*$T$13)*$U$3) -> 8527.68 | I35: =IF(I13="","",((I13/100)*$T$13)*$U$3) -> 8527.68 | J35: =IF(J13="","",((J13/100)*$T$13)*$U$3) -> 8527.68 | K35: =IF(K13="","",((K13/100)*$T$13)*$U$3) -> 8527.68 | L35: =IF(L13="","",((L13/100)*$T$13)*$U$3) -> 8527.68 | ... S35: =IF(S13="","",((S13/100)*$T$13)*$U$3) | T35: =SUM(E35:S35) -> 85276.8 | U35: =IF($T$45=0,0,(T35/$T$45)) -> 0.11723358
C36: =IF(B35="","","CONTRAPARTIDA") -> CONTRAPARTIDA | D36: R$ | E36: =IF(E13="","",((E13/100)*$T$13)*$U$4) -> 947.52 | F36: =IF(F13="","",((F13/100)*$T$13)*$U$4) -> 947.52 | G36: =IF(G13="","",((G13/100)*$T$13)*$U$4) -> 947.52 | H36: =IF(H13="","",((H13/100)*$T$13)*$U$4) -> 947.52 | I36: =IF(I13="","",((I13/100)*$T$13)*$U$4) -> 947.52 | J36: =IF(J13="","",((J13/100)*$T$13)*$U$4) -> 947.52 | K36: =IF(K13="","",((K13/100)*$T$13)*$U$4) -> 947.52 | L36: =IF(L13="","",((L13/100)*$T$13)*$U$4) -> 947.52 | ... S36: =IF(S13="","",((S13/100)*$T$13)*$U$4) | T36: =SUM(E36:S36) -> 9475.2 | U36: =IF($T$45=0,0,(T36/$T$45)) -> 0.013025954
B37: =IF(B14="","",B14) -> 6 | C37: =IF(B37="","","FINANCIAMENTO") -> FINANCIAMENTO | D37: R$ | E37: =IF(E14="","",((E14/100)*$T$14)*$U$3) -> 11662.691 | F37: =IF(F14="","",((F14/100)*$T$14)*$U$3) -> 11662.691 | G37: =IF(G14="","",((G14/100)*$T$14)*$U$3) -> 11662.691 | H37: =IF(H14="","",((H14/100)*$T$14)*$U$3) -> 11662.691 | I37: =IF(I14="","",((I14/100)*$T$14)*$U$3) -> 11662.691 | J37: =IF(J14="","",((J14/100)*$T$14)*$U$3) -> 11662.691 | K37: =IF(K14="","",((K14/100)*$T$14)*$U$3) -> 11662.691 | L37: =IF(L14="","",((L14/100)*$T$14)*$U$3) -> 11662.691 | ... S37: =IF(S14="","",((S14/100)*$T$14)*$U$3) | T37: =SUM(E37:S37) -> 116626.91 | U37: =IF($T$45=0,0,(T37/$T$45)) -> 0.1603319
C38: =IF(B37="","","CONTRAPARTIDA") -> CONTRAPARTIDA | D38: R$ | E38: =IF(E14="","",((E14/100)*$T$14)*$U$4) -> 1295.8546 | F38: =IF(F14="","",((F14/100)*$T$14)*$U$4) -> 1295.8546 | G38: =IF(G14="","",((G14/100)*$T$14)*$U$4) -> 1295.8546 | H38: =IF(H14="","",((H14/100)*$T$14)*$U$4) -> 1295.8546 | I38: =IF(I14="","",((I14/100)*$T$14)*$U$4) -> 1295.8546 | J38: =IF(J14="","",((J14/100)*$T$14)*$U$4) -> 1295.8546 | K38: =IF(K14="","",((K14/100)*$T$14)*$U$4) -> 1295.8546 | L38: =IF(L14="","",((L14/100)*$T$14)*$U$4) -> 1295.8546 | ... S38: =IF(S14="","",((S14/100)*$T$14)*$U$4) | T38: =SUM(E38:S38) -> 12958.546 | U38: =IF($T$45=0,0,(T38/$T$45)) -> 0.017814655
B39: =IF(B15="","",B15) -> 7 | C39: =IF(B39="","","FINANCIAMENTO") -> FINANCIAMENTO | D39: R$ | E39: =IF(E15="","",((E15/100)*$T$15)*$U$3) -> 5287.1616 | F39: =IF(F15="","",((F15/100)*$T$15)*$U$3) -> 5287.1616 | G39: =IF(G15="","",((G15/100)*$T$15)*$U$3) -> 5287.1616 | H39: =IF(H15="","",((H15/100)*$T$15)*$U$3) -> 5287.1616 | I39: =IF(I15="","",((I15/100)*$T$15)*$U$3) -> 5287.1616 | J39: =IF(J15="","",((J15/100)*$T$15)*$U$3) -> 5287.1616 | K39: =IF(K15="","",((K15/100)*$T$15)*$U$3) -> 5287.1616 | L39: =IF(L15="","",((L15/100)*$T$15)*$U$3) -> 5287.1616 | ... S39: =IF(S15="","",((S15/100)*$T$15)*$U$3) | T39: =SUM(E39:S39) -> 52871.616 | U39: =IF($T$45=0,0,(T39/$T$45)) -> 0.072684823
C40: =IF(B39="","","CONTRAPARTIDA") -> CONTRAPARTIDA | D40: R$ | E40: =IF(E15="","",((E15/100)*$T$15)*$U$4) -> 587.4624 | F40: =IF(F15="","",((F15/100)*$T$15)*$U$4) -> 587.4624 | G40: =IF(G15="","",((G15/100)*$T$15)*$U$4) -> 587.4624 | H40: =IF(H15="","",((H15/100)*$T$15)*$U$4) -> 587.4624 | I40: =IF(I15="","",((I15/100)*$T$15)*$U$4) -> 587.4624 | J40: =IF(J15="","",((J15/100)*$T$15)*$U$4) -> 587.4624 | K40: =IF(K15="","",((K15/100)*$T$15)*$U$4) -> 587.4624 | L40: =IF(L15="","",((L15/100)*$T$15)*$U$4) -> 587.4624 | ... S40: =IF(S15="","",((S15/100)*$T$15)*$U$4) | T40: =SUM(E40:S40) -> 5874.624 | U40: =IF($T$45=0,0,(T40/$T$45)) -> 0.0080760914
B42: SUB- | C42: FINANCIAMENTO | D42: R$ | E42: =SUMIF($C$21:$C$40,"FINANCIAMENTO",E$21:E$40) -> 67687.015 | F42: =SUMIF($C$21:$C$40,"FINANCIAMENTO",F$21:F$40) -> 65220.151 | G42: =SUMIF($C$21:$C$40,"FINANCIAMENTO",G$21:G$40) -> 65220.151 | H42: =SUMIF($C$21:$C$40,"FINANCIAMENTO",H$21:H$40) -> 65220.151 | I42: =SUMIF($C$21:$C$40,"FINANCIAMENTO",I$21:I$40) -> 79851.472 | J42: =SUMIF($C$21:$C$40,"FINANCIAMENTO",J$21:J$40) -> 72535.811 | K42: =SUMIF($C$21:$C$40,"FINANCIAMENTO",K$21:K$40) -> 65220.151 | L42: =SUMIF($C$21:$C$40,"FINANCIAMENTO",L$21:L$40) -> 65220.151 | ... U42: =SUMIF($C$21:$C$40,"FINANCIAMENTO",U$21:U$40) -> 0.89999999
B43: TOTAL | C43: CONTRAPARTIDA | D43: R$ | E43: =SUMIF($C$21:$C$40,"CONTRAPARTIDA",E$21:E$40) -> 7520.7794 | F43: =SUMIF($C$21:$C$40,"CONTRAPARTIDA",F$21:F$40) -> 7246.6834 | G43: =SUMIF($C$21:$C$40,"CONTRAPARTIDA",G$21:G$40) -> 7246.6834 | H43: =SUMIF($C$21:$C$40,"CONTRAPARTIDA",H$21:H$40) -> 7246.6834 | I43: =SUMIF($C$21:$C$40,"CONTRAPARTIDA",I$21:I$40) -> 8872.3858 | J43: =SUMIF($C$21:$C$40,"CONTRAPARTIDA",J$21:J$40) -> 8059.5346 | K43: =SUMIF($C$21:$C$40,"CONTRAPARTIDA",K$21:K$40) -> 7246.6834 | L43: =SUMIF($C$21:$C$40,"CONTRAPARTIDA",L$21:L$40) -> 7246.6834 | ... U43: =SUMIF($C$21:$C$40,"CONTRAPARTIDA",U$21:U$40) -> 0.1
B45: SEMANAL MENSAL PREVISTO | D45: R$ | E45: =SUM(E42:E43) -> 75207.794 | F45: =SUM(F42:F43) -> 72466.834 | G45: =SUM(G42:G43) -> 72466.834 | H45: =SUM(H42:H43) -> 72466.834 | I45: =SUM(I42:I43) -> 88723.858 | J45: =SUM(J42:J43) -> 80595.346 | K45: =SUM(K42:K43) -> 72466.834 | L45: =SUM(L42:L43) -> 72466.834 | ... S45: =SUM(S42:S43) -> 0 | T45: =SUM(E45:S45) -> 727409.3 | U45: =SUM(U42:U43) -> 0.99999999
B46: SEMANAL PREVISTO EM % | D46: R$ | E46: =IF($T$45=0,0,E45/$T$45) -> 0.1033913 | F46: =IF($T$45=0,0,F45/$T$45) -> 0.099623189 | G46: =IF($T$45=0,0,G45/$T$45) -> 0.099623189 | H46: =IF($T$45=0,0,H45/$T$45) -> 0.099623189 | I46: =IF($T$45=0,0,I45/$T$45) -> 0.1219724 | J46: =IF($T$45=0,0,J45/$T$45) -> 0.11079779 | K46: =IF($T$45=0,0,K45/$T$45) -> 0.099623189 | L46: =IF($T$45=0,0,L45/$T$45) -> 0.099623189 | ... T46: =IF($T$45=0,0,T45/$T$45) -> 1 | U46: =SUM(U42:U43) -> 0.99999999
B47: Pref. Municipal: | D47: Resp. Técnico: | P47: Data:
F486: 11.5
F487: 11.5
