Workbook
Name ____xlnm.Print_Area_2: #REF!
Name ____xlnm.Print_Area_3: #REF!
Name ____xlnm.Print_Area_3_1: #REF!
Name ____xlnm.Print_Titles_2: #REF!
Name ____xlnm.Print_Titles_3: #REF!
Name ___xlnm.Print_Area_2: #REF!
Name ___xlnm.Print_Area_2: #REF!
Name ___xlnm.Print_Area_3: #REF!
Name ___xlnm.Print_Area_3_1: #REF!
Name ___xlnm.Print_Titles_2: #REF!
Name ___xlnm.Print_Titles_2: #REF!
Name ___xlnm.Print_Titles_3: #REF!
Name ___xlnm.Print_Titles_3: #REF!
Name __Anonymous_Sheet_DB__0: #REF!
Name __xlnm.Print_Area_2: #REF!
Name __xlnm.Print_Area_3: #REF!
Name __xlnm.Print_Area_3_1: #REF!
Name __xlnm.Print_Titles_2: #REF!
Name __xlnm.Print_Titles_3: #REF!
Name _R10P: #REF!
Name _R10P: #REF!
Name _R10R: #REF!
Name _R10R: #REF!
Name _R10R: #REF!
Name _R11P: #REF!
Name _R11P: #REF!
Name _R11R: #REF!
Name _R12P: #REF!
Name _R12R: #REF!
Name _R13P: #REF!
Name _R13R: #REF!
Name _R14P: #REF!
Name _R14R: #REF!
Name _R15P: #REF!
Name _R15R: #REF!
Name _R16P: #REF!
Name _R16R: #REF!
Name _R17P: #REF!
Name _R17R: #REF!
Name _R18P: #REF!
Name _R18R: #REF!
Name _R19P: #REF!
Name _R19R: #REF!
Name _R1P: #REF!
Name _R1R: #REF!
Name _R20P: #REF!
Name _R20R: #REF!
Name _R21P: #REF!
Name _R21R: #REF!
Name _R22P: #REF!
Name _R22R: #REF!
Name _R23P: #REF!
Name _R23R: #REF!
Name _R24P: #REF!
Name _R24R: #REF!
Name _R2P: #REF!
Name _R2R: #REF!
Name _R3P: #REF!
Name _R3R: #REF!
Name _R4P: #REF!

Sheet faixas_ultima_medição
A1: =Dados_Obra!A2 -> USO EXCLUSIVO PARA CONVÊNIOS COM A SECID E O PARANACIDADE
B2: FAIXA DE % PARA ÚLTIMA MEDIÇÃO (MÍNIMO) | H2: REGRA DOS CONTRATOS DE ILUMINAÇÃO
B3: OBRAS DE ENGENHARIA | H3: Última medição não pode ser inferior a 25% do valor contratual (desde 2020).
B5: VALORES DOS CONTRATOS | D5: % | E5: ÚLTIMA MEDIÇÃO (VALOR MÍNIMO)
B6: INICIAL | C6: FINAL | E6: INICIAL | F6: FINAL
B7: 0 | C7: 150000 | D7: 0.15 | E7: =$D7*B7 -> 0 | F7: =$D7*C7 -> 22500
B8: =C7+1 -> 150001 | C8: 300000 | D8: 0.13 | E8: =$D8*B8 -> 19500.13 | F8: =$D8*C8 -> 39000
B9: =C8+1 -> 300001 | C9: 500000 | D9: 0.12 | E9: =$D9*B9 -> 36000.12 | F9: =$D9*C9 -> 60000
B10: =C9+1 -> 500001 | C10: =C9+500000 -> 1000000 | D10: 0.1 | E10: =$D10*B10 -> 50000.1 | F10: =$D10*C10 -> 100000
B11: =C10+1 -> 1000001 | C11: =C10+500000 -> 1500000 | D11: =D10-1% -> 0.09 | E11: =$D11*B11 -> 90000.09 | F11: =$D11*C11 -> 135000
B12: =C11+1 -> 1500001 | C12: =C11+500000 -> 2000000 | D12: =D11-1% -> 0.08 | E12: =$D12*B12 -> 120000.08 | F12: =$D12*C12 -> 160000
B13: =C12+1 -> 2000001 | C13: =C12+500000 -> 2500000 | D13: =D12-1% -> 0.07 | E13: =$D13*B13 -> 140000.07 | F13: =$D13*C13 -> 175000
B14: =C13+1 -> 2500001 | C14: =C13+500000 -> 3000000 | D14: =D13-1% -> 0.06 | E14: =$D14*B14 -> 150000.06 | F14: =$D14*C14 -> 180000
B15: =C14+1 -> 3000001 | C15: =C14+500000 -> 3500000 | D15: =D14-1% -> 0.05 | E15: =$D15*B15 -> 150000.05 | F15: =$D15*C15 -> 175000
B16: =C15+1 -> 3500001 | C16: =C15+500000 -> 4000000 | D16: =D15 -> 0.05 | E16: =$D16*B16 -> 175000.05 | F16: =$D16*C16 -> 200000
B17: =C16+1 -> 4000001 | C17: =C16+500000 -> 4500000 | D17: =D16 -> 0.05 | E17: =$D17*B17 -> 200000.05 | F17: =$D17*C17 -> 225000
B18: =C17+1 -> 4500001 | C18: =C17+500000 -> 5000000 | D18: =D17 -> 0.05 | E18: =$D18*B18 -> 225000.05 | F18: =$D18*C18 -> 250000
B19: =C18+1 -> 5000001 | C19: =C18+500000 -> 5500000 | D19: =D18 -> 0.05 | E19: =$D19*B19 -> 250000.05 | F19: =$D19*C19 -> 275000
B20: =C19+1 -> 5500001 | C20: =C19+500000 -> 6000000 | D20: =D19 -> 0.05 | E20: =$D20*B20 -> 275000.05 | F20: =$D20*C20 -> 300000
B21: =C20+1 -> 6000001 | C21: =C20+500000 -> 6500000 | D21: =D20 -> 0.05 | E21: =$D21*B21 -> 300000.05 | F21: =$D21*C21 -> 325000
B22: =C21+1 -> 6500001 | C22: =C21+500000 -> 7000000 | D22: =D21 -> 0.05 | E22: =$D22*B22 -> 325000.05 | F22: =$D22*C22 -> 350000
B23: =C22+1 -> 7000001 | C23: =C22+500000 -> 7500000 | D23: =D22 -> 0.05 | E23: =$D23*B23 -> 350000.05 | F23: =$D23*C23 -> 375000
B24: =C23+1 -> 7500001 | C24: =C23+500000 -> 8000000 | D24: =D23 -> 0.05 | E24: =$D24*B24 -> 375000.05 | F24: =$D24*C24 -> 400000
B25: Acima de R$ 3,00 milhões será de 5,0% o percentual mínimo para última medição.
B26: Para a conclusão da medição final do contrato, TODOS OS ENSAIOS TECNOLÓGICOS, deverão estar 100% APROVADOS pela fiscalização municipal e pela Supervisão do Paranacidade (preferencialmente até a penúltima medição).

Sheet Cronograma_Empresa
F1: =MEDIÇÃO_GLOBAL!F6 -> DUBAI CONSTRUÇÕES E PAVIMENTAÇÕES LTDA
B2: Município: | C2: =MEDIÇÃO_GLOBAL!F4 -> SANTA TEREZA DO OESTE | F2: SAM | G2: =MEDIÇÃO_GLOBAL!M4 -> 53 | H2: Data Assinatura Contrato | K2: Fonte do RECURSO | N2: Prioridade Nº | O2: =Dados_Obra!$L$3 -> 65 | X2: Valor Total do CONTRATO: | Y2: 0 | Z2: =IF(Y23=0,0,(Y2/Y23)) -> 0
B3: Projeto : | C3: =MEDIÇÃO_GLOBAL!F5 -> PAVIMENTAÇÃO DE VIAS URBANAS | F3: LOTE nº | G3: =MEDIÇÃO_GLOBAL!M5 -> 1 | H3: Data | I3: =MEDIÇÃO_GLOBAL!O6 -> 45926 | K3: Sigla | L3: =Dados_Obra!L6 -> PAM | X3: Contrapartida do Proponente | Y3: =Y23-Y2 -> 4250000 | Z3: =IF(Y3=0,0,1-Z2) -> 1
B4: Quantidade: | C4: =Dados_Obra!B7 -> 25069.86 | D4: =[1]Dados_Obra!D7 -> m2 | E4: CRONOGRAMA FÍSICO FINANCEIRO | X4: Valor Total | Y4: =Y23 -> 4250000 | Z4: =SUM(Z2:Z3) -> 1
B5: GRUPO | C5: SERVIÇOS | E5: Nº | F5: NÚMERO DE MEDIÇÕES / ETAPAS (%) | X5: Nº DE | Y5: TOTAL | Z5: % S/ | AD5: Controle | AE5: =IF(Y4=Y55,"OK","erro") -> OK
B6: ITEM | D6: =IF(E7<180,"Deve ser no mínimo 180 dias =","ok") -> ok | E6: =Dados_Obra!D14 -> 7 | F6: 1 | G6: 2 | H6: =IF(H7>0,G6+1,"") -> 3 | I6: =IF(I7>0,H6+1,"") -> 4 | J6: =IF(J7>0,I6+1,"") -> 5 | K6: =IF(K7>0,J6+1,"") -> 6 | L6: =IF(L7>0,K6+1,"") -> 7 | M6: =IF(M7>0,L6+1,"") | N6: =IF(N7>0,M6+1,"") | O6: =IF(O7>0,N6+1,"") | ... W6: =IF(W7>0,V6+1,"") | X6: ETAPAS | Y6: ITEM (R$) | Z6: TOTAL
D7: Número de DIAS de cada ETAPA: | E7: =SUM(F7:W7) -> 210 | F7: =Dados_Obra!E16 -> 30 | G7: =Dados_Obra!F16 -> 30 | H7: =Dados_Obra!G16 -> 30 | I7: =Dados_Obra!H16 -> 30 | J7: =Dados_Obra!I16 -> 30 | K7: =Dados_Obra!J16 -> 30 | L7: =Dados_Obra!K16 -> 30 | M7: =Dados_Obra!L16 -> 0 | ... W7: =Dados_Obra!V16 -> 0
C8: Data Início | F8: =IF(E6=0,0,I3) -> 45926 | G8: =IF(G6=0,0,F9+1) -> 45957 | H8: =IF(H6="",0,G9+1) -> 45988 | I8: =IF(I6="",0,H9+1) -> 46019 | J8: =IF(J6="",0,I9+1) -> 46050 | K8: =IF(K6="",0,J9+1) -> 46081 | L8: =IF(L6="",0,K9+1) -> 46112 | M8: =IF(M6="",0,L9+1) -> 0 | N8: =IF(N6="",0,M9+1) -> 0 | O8: =IF(O6="",0,N9+1) -> 0 | ... W8: =IF(W6="",0,V9+1) -> 0
C9: Data Fim | F9: =F8+F7 -> 45956 | G9: =G8+G7 -> 45987 | H9: =H8+H7 -> 46018 | I9: =I8+I7 -> 46049 | J9: =J8+J7 -> 46080 | K9: =K8+K7 -> 46111 | L9: =L8+L7 -> 46142 | M9: =M8+M7 -> 0 | ... W9: =W8+W7 -> 0 | BV9: Linhas Gde Itens
A10: =CONCATENATE($E$6,"|",B10) -> 7|1 | B10: 1 | C10: =RESUMO_GLOBAL!E16 -> SERVIÇOS PRELIMINARES | E10: % | F10: =IF(ISERR(RESUMO_GLOBAL!AB16),0,RESUMO_GLOBAL!AB16) -> 13.905184 | G10: =IF(ISERR(RESUMO_GLOBAL!AC16),0,RESUMO_GLOBAL!AC16) -> 27.122762 | H10: =IF(ISERR(RESUMO_GLOBAL!AD16),0,RESUMO_GLOBAL!AD16) -> 16.959425 | I10: =IF(ISERR(RESUMO_GLOBAL!AE16),0,RESUMO_GLOBAL!AE16) -> 15.481743 | J10: =IF(ISERR(RESUMO_GLOBAL!AF16),0,RESUMO_GLOBAL!AF16) -> 8.779329 | K10: =IF(ISERR(RESUMO_GLOBAL!AG16),0,RESUMO_GLOBAL!AG16) -> 17.751557 | L10: =IF(ISERR(RESUMO_GLOBAL!AH16),0,RESUMO_GLOBAL!AH16) -> 0 | M10: =IF(ISERR(RESUMO_GLOBAL!AI16),0,RESUMO_GLOBAL!AI16) -> 0 | ... W10: =IF(ISERR(RESUMO_GLOBAL!AS16),0,RESUMO_GLOBAL!AS16) -> 0 | X10: =COUNTIF(F10:W10,">0") -> 6 | Y10: =RESUMO_GLOBAL!M16 -> 40363.22 | Z10: =IF($Y$23=0,0,ROUND(Y10/$Y$23,4)) -> 0.0095 | AC10: =SUM(F10:W10) -> 100 | AD10: =Y10-Cronograma_Proposta_Empresa!X7 -> 0 | BV10: 21
A11: =CONCATENATE($E$6,"|",B11) -> 7|2 | B11: 2 | C11: =RESUMO_GLOBAL!E17 -> TERRAPLENAGEM | E11: % | F11: =IF(ISERR(RESUMO_GLOBAL!AB17),0,RESUMO_GLOBAL!AB17) -> 8.717265 | G11: =IF(ISERR(RESUMO_GLOBAL!AC17),0,RESUMO_GLOBAL!AC17) -> 10.045225 | H11: =IF(ISERR(RESUMO_GLOBAL!AD17),0,RESUMO_GLOBAL!AD17) -> 7.939795 | I11: =IF(ISERR(RESUMO_GLOBAL!AE17),0,RESUMO_GLOBAL!AE17) -> 23.829747 | J11: =IF(ISERR(RESUMO_GLOBAL!AF17),0,RESUMO_GLOBAL!AF17) -> 16.441216 | K11: =IF(ISERR(RESUMO_GLOBAL!AG17),0,RESUMO_GLOBAL!AG17) -> 24.619908 | L11: =IF(ISERR(RESUMO_GLOBAL!AH17),0,RESUMO_GLOBAL!AH17) -> 8.406845 | M11: =IF(ISERR(RESUMO_GLOBAL!AI17),0,RESUMO_GLOBAL!AI17) -> 0 | ... W11: =IF(ISERR(RESUMO_GLOBAL!AS17),0,RESUMO_GLOBAL!AS17) -> 0 | X11: =COUNTIF(F11:W11,">0") -> 7 | Y11: =RESUMO_GLOBAL!M17 -> 130561.95 | Z11: =IF($Y$23=0,0,ROUND(Y11/$Y$23,4)) -> 0.0307 | AC11: =SUM(F11:W11) -> 100 | AD11: =Y11-Cronograma_Proposta_Empresa!X8 -> 0.01 | BV11: 222
A12: =CONCATENATE($E$6,"|",B12) -> 7|3 | B12: 3 | C12: =RESUMO_GLOBAL!E18 -> DRENAGEM | E12: % | F12: =IF(ISERR(RESUMO_GLOBAL!AB18),0,RESUMO_GLOBAL!AB18) -> 10.185283 | G12: =IF(ISERR(RESUMO_GLOBAL!AC18),0,RESUMO_GLOBAL!AC18) -> 14.060247 | H12: =IF(ISERR(RESUMO_GLOBAL!AD18),0,RESUMO_GLOBAL!AD18) -> 6.551837 | I12: =IF(ISERR(RESUMO_GLOBAL!AE18),0,RESUMO_GLOBAL!AE18) -> 11.077572 | J12: =IF(ISERR(RESUMO_GLOBAL!AF18),0,RESUMO_GLOBAL!AF18) -> 15.294607 | K12: =IF(ISERR(RESUMO_GLOBAL!AG18),0,RESUMO_GLOBAL!AG18) -> 34.584189 | L12: =IF(ISERR(RESUMO_GLOBAL!AH18),0,RESUMO_GLOBAL!AH18) -> 8.246264 | M12: =IF(ISERR(RESUMO_GLOBAL!AI18),0,RESUMO_GLOBAL!AI18) -> 0 | ... W12: =IF(ISERR(RESUMO_GLOBAL!AS18),0,RESUMO_GLOBAL!AS18) -> 0 | X12: =COUNTIF(F12:W12,">0") -> 7 | Y12: =RESUMO_GLOBAL!M18 -> 469897.99 | Z12: =IF($Y$23=0,0,ROUND(Y12/$Y$23,4)) -> 0.1106 | AC12: =SUM(F12:W12) -> 99.999999 | AD12: =Y12-Cronograma_Proposta_Empresa!X9 -> 0 | BV12: 1321
A13: =CONCATENATE($E$6,"|",B13) -> 7|4 | B13: 4 | C13: =RESUMO_GLOBAL!E19 -> BASE / SUB-BASE | E13: % | F13: =IF(ISERR(RESUMO_GLOBAL!AB19),0,RESUMO_GLOBAL!AB19) -> 10.904434 | G13: =IF(ISERR(RESUMO_GLOBAL!AC19),0,RESUMO_GLOBAL!AC19) -> 11.711258 | H13: =IF(ISERR(RESUMO_GLOBAL!AD19),0,RESUMO_GLOBAL!AD19) -> 12.309979 | I13: =IF(ISERR(RESUMO_GLOBAL!AE19),0,RESUMO_GLOBAL!AE19) -> 10.90128 | J13: =IF(ISERR(RESUMO_GLOBAL!AF19),0,RESUMO_GLOBAL!AF19) -> 10.986462 | K13: =IF(ISERR(RESUMO_GLOBAL!AG19),0,RESUMO_GLOBAL!AG19) -> 21.089136 | L13: =IF(ISERR(RESUMO_GLOBAL!AH19),0,RESUMO_GLOBAL!AH19) -> 22.097451 | M13: =IF(ISERR(RESUMO_GLOBAL!AI19),0,RESUMO_GLOBAL!AI19) -> 0 | ... W13: =IF(ISERR(RESUMO_GLOBAL!AS19),0,RESUMO_GLOBAL!AS19) -> 0 | X13: =COUNTIF(F13:W13,">0") -> 7 | Y13: =RESUMO_GLOBAL!M19 -> 1043340.9 | Z13: =IF($Y$23=0,0,ROUND(Y13/$Y$23,4)) -> 0.2455 | AC13: =SUM(F13:W13) -> 100 | AD13: =Y13-Cronograma_Proposta_Empresa!X10 -> 0 | BV13: 1430
A14: =CONCATENATE($E$6,"|",B14) -> 7|5 | B14: 5 | C14: =RESUMO_GLOBAL!E20 -> REVESTIMENTO | E14: % | F14: =IF(ISERR(RESUMO_GLOBAL!AB20),0,RESUMO_GLOBAL!AB20) -> 11.165948 | G14: =IF(ISERR(RESUMO_GLOBAL!AC20),0,RESUMO_GLOBAL!AC20) -> 11.988183 | H14: =IF(ISERR(RESUMO_GLOBAL!AD20),0,RESUMO_GLOBAL!AD20) -> 10.208505 | I14: =IF(ISERR(RESUMO_GLOBAL!AE20),0,RESUMO_GLOBAL!AE20) -> 11.15914 | J14: =IF(ISERR(RESUMO_GLOBAL!AF20),0,RESUMO_GLOBAL!AF20) -> 11.250483 | K14: =IF(ISERR(RESUMO_GLOBAL!AG20),0,RESUMO_GLOBAL!AG20) -> 25.248776 | L14: =IF(ISERR(RESUMO_GLOBAL!AH20),0,RESUMO_GLOBAL!AH20) -> 18.978965 | M14: =IF(ISERR(RESUMO_GLOBAL!AI20),0,RESUMO_GLOBAL!AI20) -> 0 | ... W14: =IF(ISERR(RESUMO_GLOBAL!AS20),0,RESUMO_GLOBAL!AS20) -> 0 | X14: =COUNTIF(F14:W14,">0") -> 7 | Y14: =RESUMO_GLOBAL!M20 -> 1450053.7 | Z14: =IF($Y$23=0,0,ROUND(Y14/$Y$23,4)) -> 0.3412 | AC14: =SUM(F14:W14) -> 100 | AD14: =Y14-Cronograma_Proposta_Empresa!X11 -> -0.01 | BV14: 2087
A15: =CONCATENATE($E$6,"|",B15) -> 7|6 | B15: 6 | C15: =RESUMO_GLOBAL!E21 -> MEIO-FIO E SARJETA | E15: % | F15: =IF(ISERR(RESUMO_GLOBAL!AB21),0,RESUMO_GLOBAL!AB21) -> 3.65815 | G15: =IF(ISERR(RESUMO_GLOBAL!AC21),0,RESUMO_GLOBAL!AC21) -> 21.519674 | H15: =IF(ISERR(RESUMO_GLOBAL!AD21),0,RESUMO_GLOBAL!AD21) -> 17.409548 | I15: =IF(ISERR(RESUMO_GLOBAL!AE21),0,RESUMO_GLOBAL!AE21) -> 7.594506 | J15: =IF(ISERR(RESUMO_GLOBAL!AF21),0,RESUMO_GLOBAL!AF21) -> 8.044269 | K15: =IF(ISERR(RESUMO_GLOBAL!AG21),0,RESUMO_GLOBAL!AG21) -> 27.219485 | L15: =IF(ISERR(RESUMO_GLOBAL!AH21),0,RESUMO_GLOBAL!AH21) -> 14.554367 | M15: =IF(ISERR(RESUMO_GLOBAL!AI21),0,RESUMO_GLOBAL!AI21) -> 0 | ... W15: =IF(ISERR(RESUMO_GLOBAL!AS21),0,RESUMO_GLOBAL!AS21) -> 0 | X15: =COUNTIF(F15:W15,">0") -> 7 | Y15: =RESUMO_GLOBAL!M21 -> 266996.42 | Z15: =IF($Y$23=0,0,ROUND(Y15/$Y$23,4)) -> 0.0628 | AC15: =SUM(F15:W15) -> 99.999999 | AD15: =Y15-Cronograma_Proposta_Empresa!X12 -> 0 | BV15: 2430
A16: =CONCATENATE($E$6,"|",B16) -> 7|7 | B16: 7 | C16: =RESUMO_GLOBAL!E22 -> SERVIÇOS DE URBANIZAÇÃO | E16: % | F16: =IF(ISERR(RESUMO_GLOBAL!AB22),0,RESUMO_GLOBAL!AB22) -> 18.639556 | G16: =IF(ISERR(RESUMO_GLOBAL!AC22),0,RESUMO_GLOBAL!AC22) -> 10.354966 | H16: =IF(ISERR(RESUMO_GLOBAL!AD22),0,RESUMO_GLOBAL!AD22) -> 9.481657 | I16: =IF(ISERR(RESUMO_GLOBAL!AE22),0,RESUMO_GLOBAL!AE22) -> 9.926519 | J16: =IF(ISERR(RESUMO_GLOBAL!AF22),0,RESUMO_GLOBAL!AF22) -> 12.920543 | K16: =IF(ISERR(RESUMO_GLOBAL!AG22),0,RESUMO_GLOBAL!AG22) -> 23.711064 | L16: =IF(ISERR(RESUMO_GLOBAL!AH22),0,RESUMO_GLOBAL!AH22) -> 14.965695 | M16: =IF(ISERR(RESUMO_GLOBAL!AI22),0,RESUMO_GLOBAL!AI22) -> 0 | ... W16: =IF(ISERR(RESUMO_GLOBAL!AS22),0,RESUMO_GLOBAL!AS22) -> 0 | X16: =COUNTIF(F16:W16,">0") -> 7 | Y16: =RESUMO_GLOBAL!M22 -> 697054.92 | Z16: =IF($Y$23=0,0,ROUND(Y16/$Y$23,4)) -> 0.164 | AC16: =SUM(F16:W16) -> 100 | AD16: =Y16-Cronograma_Proposta_Empresa!X13 -> 0 | BV16: 2661
A17: =CONCATENATE($E$6,"|",B17) -> 7|8 | B17: 8 | C17: =RESUMO_GLOBAL!E23 -> SINALIZAÇÃO DE TRÂNSITO | E17: % | F17: =IF(ISERR(RESUMO_GLOBAL!AB23),0,RESUMO_GLOBAL!AB23) -> 11.680694 | G17: =IF(ISERR(RESUMO_GLOBAL!AC23),0,RESUMO_GLOBAL!AC23) -> 21.53611 | H17: =IF(ISERR(RESUMO_GLOBAL!AD23),0,RESUMO_GLOBAL!AD23) -> 9.819845 | I17: =IF(ISERR(RESUMO_GLOBAL!AE23),0,RESUMO_GLOBAL!AE23) -> 17.219138 | J17: =IF(ISERR(RESUMO_GLOBAL!AF23),0,RESUMO_GLOBAL!AF23) -> 15.788647 | K17: =IF(ISERR(RESUMO_GLOBAL!AG23),0,RESUMO_GLOBAL!AG23) -> 12.382862 | L17: =IF(ISERR(RESUMO_GLOBAL!AH23),0,RESUMO_GLOBAL!AH23) -> 11.572704 | M17: =IF(ISERR(RESUMO_GLOBAL!AI23),0,RESUMO_GLOBAL!AI23) -> 0 | ... W17: =IF(ISERR(RESUMO_GLOBAL!AS23),0,RESUMO_GLOBAL!AS23) -> 0 | X17: =COUNTIF(F17:W17,">0") -> 7 | Y17: =RESUMO_GLOBAL!M23 -> 94823.39 | Z17: =IF($Y$23=0,0,ROUND(Y17/$Y$23,4)) -> 0.0223 | AC17: =SUM(F17:W17) -> 100 | AD17: =Y17-Cronograma_Proposta_Empresa!X14 -> 0 | BV17: 2946
A18: =CONCATENATE($E$6,"|",B18) -> 7|9 | B18: 9 | C18: =RESUMO_GLOBAL!E24 -> ENSAIOS TECNOLÓGICOS | E18: % | F18: =IF(ISERR(RESUMO_GLOBAL!AB24),0,RESUMO_GLOBAL!AB24) -> 14.444792 | G18: =IF(ISERR(RESUMO_GLOBAL!AC24),0,RESUMO_GLOBAL!AC24) -> 14.444792 | H18: =IF(ISERR(RESUMO_GLOBAL!AD24),0,RESUMO_GLOBAL!AD24) -> 14.444792 | I18: =IF(ISERR(RESUMO_GLOBAL!AE24),0,RESUMO_GLOBAL!AE24) -> 14.444792 | J18: =IF(ISERR(RESUMO_GLOBAL!AF24),0,RESUMO_GLOBAL!AF24) -> 14.444792 | K18: =IF(ISERR(RESUMO_GLOBAL!AG24),0,RESUMO_GLOBAL!AG24) -> 14.444792 | L18: =IF(ISERR(RESUMO_GLOBAL!AH24),0,RESUMO_GLOBAL!AH24) -> 13.331249 | M18: =IF(ISERR(RESUMO_GLOBAL!AI24),0,RESUMO_GLOBAL!AI24) -> 0 | ... W18: =IF(ISERR(RESUMO_GLOBAL!AS24),0,RESUMO_GLOBAL!AS24) -> 0 | X18: =COUNTIF(F18:W18,">0") -> 7 | Y18: =RESUMO_GLOBAL!M24 -> 56907.57 | Z18: =IF($Y$23=0,0,ROUND(Y18/$Y$23,4)) -> 0.0134 | AC18: =SUM(F18:W18) -> 100 | AD18: =Y18-Cronograma_Proposta_Empresa!X15 -> 0 | BV18: 3780
A19: =CONCATENATE($E$6,"|",B19) -> 7|10 | B19: 10 | C19: =RESUMO_GLOBAL!E25 -> 0 | E19: % | F19: =IF(ISERR(RESUMO_GLOBAL!AB25),0,RESUMO_GLOBAL!AB25) -> 0 | G19: =IF(ISERR(RESUMO_GLOBAL!AC25),0,RESUMO_GLOBAL!AC25) -> 0 | H19: =IF(ISERR(RESUMO_GLOBAL!AD25),0,RESUMO_GLOBAL!AD25) -> 0 | I19: =IF(ISERR(RESUMO_GLOBAL!AE25),0,RESUMO_GLOBAL!AE25) -> 0 | J19: =IF(ISERR(RESUMO_GLOBAL!AF25),0,RESUMO_GLOBAL!AF25) -> 0 | K19: =IF(ISERR(RESUMO_GLOBAL!AG25),0,RESUMO_GLOBAL!AG25) -> 0 | L19: =IF(ISERR(RESUMO_GLOBAL!AH25),0,RESUMO_GLOBAL!AH25) -> 0 | M19: =IF(ISERR(RESUMO_GLOBAL!AI25),0,RESUMO_GLOBAL!AI25) -> 0 | ... W19: =IF(ISERR(RESUMO_GLOBAL!AS25),0,RESUMO_GLOBAL!AS25) -> 0 | X19: =COUNTIF(F19:W19,">0") -> 0 | Y19: =RESUMO_GLOBAL!M25 -> 0 | Z19: =IF($Y$23=0,0,ROUND(Y19/$Y$23,4)) -> 0 | AC19: =SUM(F19:W19) -> 0 | AD19: =Y19-Cronograma_Proposta_Empresa!X16 -> 0 | BV19: 5980
A20: =CONCATENATE($E$6,"|",B20) -> 7|11 | B20: 11 | C20: =RESUMO_GLOBAL!E26 -> 0 | E20: % | F20: =IF(ISERR(RESUMO_GLOBAL!AB26),0,RESUMO_GLOBAL!AB26) -> 0 | G20: =IF(ISERR(RESUMO_GLOBAL!AC26),0,RESUMO_GLOBAL!AC26) -> 0 | H20: =IF(ISERR(RESUMO_GLOBAL!AD26),0,RESUMO_GLOBAL!AD26) -> 0 | I20: =IF(ISERR(RESUMO_GLOBAL!AE26),0,RESUMO_GLOBAL!AE26) -> 0 | J20: =IF(ISERR(RESUMO_GLOBAL!AF26),0,RESUMO_GLOBAL!AF26) -> 0 | K20: =IF(ISERR(RESUMO_GLOBAL!AG26),0,RESUMO_GLOBAL!AG26) -> 0 | L20: =IF(ISERR(RESUMO_GLOBAL!AH26),0,RESUMO_GLOBAL!AH26) -> 0 | M20: =IF(ISERR(RESUMO_GLOBAL!AI26),0,RESUMO_GLOBAL!AI26) -> 0 | ... W20: =IF(ISERR(RESUMO_GLOBAL!AS26),0,RESUMO_GLOBAL!AS26) -> 0 | X20: =COUNTIF(F20:W20,">0") -> 0 | Y20: =RESUMO_GLOBAL!M26 -> 0 | Z20: =IF($Y$23=0,0,ROUND(Y20/$Y$23,4)) -> 0 | AC20: =SUM(F20:W20) -> 0 | AD20: =Y20-Cronograma_Proposta_Empresa!X17 -> 0 | BV20: 6774
A21: =CONCATENATE($E$6,"|",B21) -> 7|12 | B21: 12 | C21: =RESUMO_GLOBAL!E27 -> 0 | E21: % | F21: =IF(ISERR(RESUMO_GLOBAL!AB27),0,RESUMO_GLOBAL!AB27) -> 0 | G21: =IF(ISERR(RESUMO_GLOBAL!AC27),0,RESUMO_GLOBAL!AC27) -> 0 | H21: =IF(ISERR(RESUMO_GLOBAL!AD27),0,RESUMO_GLOBAL!AD27) -> 0 | I21: =IF(ISERR(RESUMO_GLOBAL!AE27),0,RESUMO_GLOBAL!AE27) -> 0 | J21: =IF(ISERR(RESUMO_GLOBAL!AF27),0,RESUMO_GLOBAL!AF27) -> 0 | K21: =IF(ISERR(RESUMO_GLOBAL!AG27),0,RESUMO_GLOBAL!AG27) -> 0 | L21: =IF(ISERR(RESUMO_GLOBAL!AH27),0,RESUMO_GLOBAL!AH27) -> 0 | M21: =IF(ISERR(RESUMO_GLOBAL!AI27),0,RESUMO_GLOBAL!AI27) -> 0 | ... W21: =IF(ISERR(RESUMO_GLOBAL!AS27),0,RESUMO_GLOBAL!AS27) -> 0 | X21: =COUNTIF(F21:W21,">0") -> 0 | Y21: =RESUMO_GLOBAL!M27 -> 0 | Z21: =IF($Y$23=0,0,ROUND(Y21/$Y$23,4)) -> 0 | AC21: =SUM(F21:W21) -> 0 | AD21: =Y21-Cronograma_Proposta_Empresa!X18 -> 0 | BV21: 7094
D23: TOTAIS | Y23: =SUM(Y10:Y21) -> 4250000 | Z23: =SUM(Z10:Z21) -> 1
B24: COMPOSIÇÃO DOS RECURSOS (TESOURO E CONTRAPARTIDA)
B25: ITEM | C25: SERVIÇOS | D25: FONTES | F25: ETAPAS ( R$ ) | X25: Nº DE | Y25: TOTAL | Z25: % S/ | AF25: CÉLULAS PARA AJUSTES DOS VALORES DAS ETAPAS - digitar "B" para baixar e "C" para cima no valores de cada ETAPA
E26: R$ | F26: =F6 -> 1 | G26: =G6 -> 2 | H26: =H6 -> 3 | I26: =I6 -> 4 | J26: =J6 -> 5 | K26: =K6 -> 6 | L26: =L6 -> 7 | M26: =M6 | ... W26: =W6 | X26: ETAPAS | Y26: ITEM | Z26: ITEM | AB26: Nº | AC26: Verificação dos Grandes Itens | AD26: Diferença | AE26: Nº | AG26: =[1]Dados_Obra!E14 -> 1 | AH26: =[1]Dados_Obra!F14 -> 2 | AI26: =[1]Dados_Obra!G14 -> 3 | AJ26: =[1]Dados_Obra!H14 -> 4 | AK26: =[1]Dados_Obra!I14 -> 5 | AL26: =[1]Dados_Obra!J14 -> 6 | AM26: =[1]Dados_Obra!K14 -> 0 | AN26: =[1]Dados_Obra!L14 -> 0 | ... AX26: =[1]Dados_Obra!V14 -> 0
B27: =CONCATENATE(B10,LEFT(D27,1)) -> 1T | C27: =C10 -> SERVIÇOS PRELIMINARES | D27: =IF($O$3="SFM","FINANCIAMENTO",IF($O$3="BRDE","FINANCIAMENTO","TESOURO")) -> TESOURO | E27: R$ | F27: =IF(ISERR(F10),0,IF(AG27="b",ROUNDDOWN(((F10/100)*$Y$10)*$Z$2,2),IF(AG27="c",ROUNDUP(((F10/100)*$Y$10)*$Z$2,2),ROUND(((F10/100)*$Y$10)*$Z$2,2)))) -> 0 | G27: =IF(ISERR(G10),0,IF(AH27="b",ROUNDDOWN(((G10/100)*$Y$10)*$Z$2,2),IF(AH27="c",ROUNDUP(((G10/100)*$Y$10)*$Z$2,2),ROUND(((G10/100)*$Y$10)*$Z$2,2)))) -> 0 | H27: =IF(ISERR(H10),0,IF(AI27="b",ROUNDDOWN(((H10/100)*$Y$10)*$Z$2,2),IF(AI27="c",ROUNDUP(((H10/100)*$Y$10)*$Z$2,2),ROUND(((H10/100)*$Y$10)*$Z$2,2)))) -> 0 | I27: =IF(ISERR(I10),0,IF(AJ27="b",ROUNDDOWN(((I10/100)*$Y$10)*$Z$2,2),IF(AJ27="c",ROUNDUP(((I10/100)*$Y$10)*$Z$2,2),ROUND(((I10/100)*$Y$10)*$Z$2,2)))) -> 0 | J27: =IF(ISERR(J10),0,IF(AK27="b",ROUNDDOWN(((J10/100)*$Y$10)*$Z$2,2),IF(AK27="c",ROUNDUP(((J10/100)*$Y$10)*$Z$2,2),ROUND(((J10/100)*$Y$10)*$Z$2,2)))) -> 0 | K27: =IF(ISERR(K10),0,IF(AL27="b",ROUNDDOWN(((K10/100)*$Y$10)*$Z$2,2),IF(AL27="c",ROUNDUP(((K10/100)*$Y$10)*$Z$2,2),ROUND(((K10/100)*$Y$10)*$Z$2,2)))) -> 0 | L27: =IF(ISERR(L10),0,IF(AM27="b",ROUNDDOWN(((L10/100)*$Y$10)*$Z$2,2),IF(AM27="c",ROUNDUP(((L10/100)*$Y$10)*$Z$2,2),ROUND(((L10/100)*$Y$10)*$Z$2,2)))) -> 0 | M27: =IF(ISERR(M10),0,IF(AN27="b",ROUNDDOWN(((M10/100)*$Y$10)*$Z$2,2),IF(AN27="c",ROUNDUP(((M10/100)*$Y$10)*$Z$2,2),ROUND(((M10/100)*$Y$10)*$Z$2,2)))) -> 0 | ... W27: =IF(ISERR(W10),0,IF(AX27="b",ROUNDDOWN(((W10/100)*$Y$10)*$Z$2,2),IF(AX27="c",ROUNDUP(((W10/100)*$Y$10)*$Z$2,2),ROUND(((W10/100)*$Y$10)*$Z$2,2)))) -> 0 | X27: =COUNTIF(F27:W27,">0") -> 0 | Y27: =SUM(F27:W27) -> 0 | Z27: =IF($Y$55=0,0,(Y27/$Y$55)) -> 0 | AB27: 1 | AC27: =SUM(Y27:Y28) -> 40363.22 | AD27: =IF(ROUND(AC27,2)-ROUND(Y10,2)=0,"Ok",ROUND(AC27,2)-ROUND(Y10,2)) -> Ok | AE27: 1 | AF27: =D27 -> TESOURO
B28: 1C | D28: CONTRAPARTIDA | E28: R$ | F28: =IF(ISERR(F10),0,IF(AG28="b",ROUNDDOWN(((F10/100)*$Y$10)*$Z$3,2),IF(AG28="c",ROUNDUP(((F10/100)*$Y$10)*$Z$3,2),ROUND(((F10/100)*$Y$10)*$Z$3,2)))) -> 5612.58 | G28: =IF(ISERR(G10),0,IF(AH28="b",ROUNDDOWN(((G10/100)*$Y$10)*$Z$3,2),IF(AH28="c",ROUNDUP(((G10/100)*$Y$10)*$Z$3,2),ROUND(((G10/100)*$Y$10)*$Z$3,2)))) -> 10947.62 | H28: =IF(ISERR(H10),0,IF(AI28="b",ROUNDDOWN(((H10/100)*$Y$10)*$Z$3,2),IF(AI28="c",ROUNDUP(((H10/100)*$Y$10)*$Z$3,2),ROUND(((H10/100)*$Y$10)*$Z$3,2)))) -> 6845.37 | I28: =IF(ISERR(I10),0,IF(AJ28="b",ROUNDDOWN(((I10/100)*$Y$10)*$Z$3,2),IF(AJ28="c",ROUNDUP(((I10/100)*$Y$10)*$Z$3,2),ROUND(((I10/100)*$Y$10)*$Z$3,2)))) -> 6248.93 | J28: =IF(ISERR(J10),0,IF(AK28="b",ROUNDDOWN(((J10/100)*$Y$10)*$Z$3,2),IF(AK28="c",ROUNDUP(((J10/100)*$Y$10)*$Z$3,2),ROUND(((J10/100)*$Y$10)*$Z$3,2)))) -> 3543.62 | K28: =IF(ISERR(K10),0,IF(AL28="b",ROUNDDOWN(((K10/100)*$Y$10)*$Z$3,2),IF(AL28="c",ROUNDUP(((K10/100)*$Y$10)*$Z$3,2),ROUND(((K10/100)*$Y$10)*$Z$3,2)))) -> 7165.1 | L28: =IF(ISERR(L10),0,IF(AM28="b",ROUNDDOWN(((L10/100)*$Y$10)*$Z$3,2),IF(AM28="c",ROUNDUP(((L10/100)*$Y$10)*$Z$3,2),ROUND(((L10/100)*$Y$10)*$Z$3,2)))) -> 0 | M28: =IF(ISERR(M10),0,IF(AN28="b",ROUNDDOWN(((M10/100)*$Y$10)*$Z$3,2),IF(AN28="c",ROUNDUP(((M10/100)*$Y$10)*$Z$3,2),ROUND(((M10/100)*$Y$10)*$Z$3,2)))) -> 0 | ... W28: =IF(ISERR(W10),0,IF(AX28="b",ROUNDDOWN(((W10/100)*$Y$10)*$Z$3,2),IF(AX28="c",ROUNDUP(((W10/100)*$Y$10)*$Z$3,2),ROUND(((W10/100)*$Y$10)*$Z$3,2)))) -> 0 | X28: =COUNTIF(F28:W28,">0") -> 6 | Y28: =SUM(F28:W28) -> 40363.22 | Z28: =IF($Y$55=0,0,(Y28/$Y$55)) -> 0.0094972282 | AF28: =D28 -> CONTRAPARTIDA
B29: =CONCATENATE(B11,LEFT(D29,1)) -> 2T | C29: =C11 -> TERRAPLENAGEM | D29: =$D$27 -> TESOURO | E29: R$ | F29: =IF(ISERR(F11),0,IF(AG29="b",ROUNDDOWN(((F11/100)*$Y$11)*$Z$2,2),IF(AG29="c",ROUNDUP(((F11/100)*$Y$11)*$Z$2,2),ROUND(((F11/100)*$Y$11)*$Z$2,2)))) -> 0 | G29: =IF(ISERR(G11),0,IF(AH29="b",ROUNDDOWN(((G11/100)*$Y$11)*$Z$2,2),IF(AH29="c",ROUNDUP(((G11/100)*$Y$11)*$Z$2,2),ROUND(((G11/100)*$Y$11)*$Z$2,2)))) -> 0 | H29: =IF(ISERR(H11),0,IF(AI29="b",ROUNDDOWN(((H11/100)*$Y$11)*$Z$2,2),IF(AI29="c",ROUNDUP(((H11/100)*$Y$11)*$Z$2,2),ROUND(((H11/100)*$Y$11)*$Z$2,2)))) -> 0 | I29: =IF(ISERR(I11),0,IF(AJ29="b",ROUNDDOWN(((I11/100)*$Y$11)*$Z$2,2),IF(AJ29="c",ROUNDUP(((I11/100)*$Y$11)*$Z$2,2),ROUND(((I11/100)*$Y$11)*$Z$2,2)))) -> 0 | J29: =IF(ISERR(J11),0,IF(AK29="b",ROUNDDOWN(((J11/100)*$Y$11)*$Z$2,2),IF(AK29="c",ROUNDUP(((J11/100)*$Y$11)*$Z$2,2),ROUND(((J11/100)*$Y$11)*$Z$2,2)))) -> 0 | K29: =IF(ISERR(K11),0,IF(AL29="b",ROUNDDOWN(((K11/100)*$Y$11)*$Z$2,2),IF(AL29="c",ROUNDUP(((K11/100)*$Y$11)*$Z$2,2),ROUND(((K11/100)*$Y$11)*$Z$2,2)))) -> 0 | L29: =IF(ISERR(L11),0,IF(AM29="b",ROUNDDOWN(((L11/100)*$Y$11)*$Z$2,2),IF(AM29="c",ROUNDUP(((L11/100)*$Y$11)*$Z$2,2),ROUND(((L11/100)*$Y$11)*$Z$2,2)))) -> 0 | M29: =IF(ISERR(M11),0,IF(AN29="b",ROUNDDOWN(((M11/100)*$Y$11)*$Z$2,2),IF(AN29="c",ROUNDUP(((M11/100)*$Y$11)*$Z$2,2),ROUND(((M11/100)*$Y$11)*$Z$2,2)))) -> 0 | ... W29: =IF(ISERR(W11),0,IF(AX29="b",ROUNDDOWN(((W11/100)*$Y$11)*$Z$2,2),IF(AX29="c",ROUNDUP(((W11/100)*$Y$11)*$Z$2,2),ROUND(((W11/100)*$Y$11)*$Z$2,2)))) -> 0 | X29: =COUNTIF(F29:W29,">0") -> 0 | Y29: =SUM(F29:W29) -> 0 | Z29: =IF($Y$55=0,0,(Y29/$Y$55)) -> 0 | AB29: 2 | AC29: =SUM(Y29:Y30) -> 130561.94 | AD29: =IF(ROUND(AC29,2)-ROUND(Y11,2)=0,"Ok",ROUND(AC29,2)-ROUND(Y11,2)) -> -0.01 | AE29: 2 | AF29: =D29 -> TESOURO
B30: 2C | D30: CONTRAPARTIDA | E30: R$ | F30: =IF(ISERR(F11),0,IF(AG30="b",ROUNDDOWN(((F11/100)*$Y$11)*$Z$3,2),IF(AG30="c",ROUNDUP(((F11/100)*$Y$11)*$Z$3,2),ROUND(((F11/100)*$Y$11)*$Z$3,2)))) -> 11381.43 | G30: =IF(ISERR(G11),0,IF(AH30="b",ROUNDDOWN(((G11/100)*$Y$11)*$Z$3,2),IF(AH30="c",ROUNDUP(((G11/100)*$Y$11)*$Z$3,2),ROUND(((G11/100)*$Y$11)*$Z$3,2)))) -> 13115.24 | H30: =IF(ISERR(H11),0,IF(AI30="b",ROUNDDOWN(((H11/100)*$Y$11)*$Z$3,2),IF(AI30="c",ROUNDUP(((H11/100)*$Y$11)*$Z$3,2),ROUND(((H11/100)*$Y$11)*$Z$3,2)))) -> 10366.35 | I30: =IF(ISERR(I11),0,IF(AJ30="b",ROUNDDOWN(((I11/100)*$Y$11)*$Z$3,2),IF(AJ30="c",ROUNDUP(((I11/100)*$Y$11)*$Z$3,2),ROUND(((I11/100)*$Y$11)*$Z$3,2)))) -> 31112.58 | J30: =IF(ISERR(J11),0,IF(AK30="b",ROUNDDOWN(((J11/100)*$Y$11)*$Z$3,2),IF(AK30="c",ROUNDUP(((J11/100)*$Y$11)*$Z$3,2),ROUND(((J11/100)*$Y$11)*$Z$3,2)))) -> 21465.97 | K30: =IF(ISERR(K11),0,IF(AL30="b",ROUNDDOWN(((K11/100)*$Y$11)*$Z$3,2),IF(AL30="c",ROUNDUP(((K11/100)*$Y$11)*$Z$3,2),ROUND(((K11/100)*$Y$11)*$Z$3,2)))) -> 32144.23 | L30: =IF(ISERR(L11),0,IF(AM30="b",ROUNDDOWN(((L11/100)*$Y$11)*$Z$3,2),IF(AM30="c",ROUNDUP(((L11/100)*$Y$11)*$Z$3,2),ROUND(((L11/100)*$Y$11)*$Z$3,2)))) -> 10976.14 | M30: =IF(ISERR(M11),0,IF(AN30="b",ROUNDDOWN(((M11/100)*$Y$11)*$Z$3,2),IF(AN30="c",ROUNDUP(((M11/100)*$Y$11)*$Z$3,2),ROUND(((M11/100)*$Y$11)*$Z$3,2)))) -> 0 | ... W30: =IF(ISERR(W11),0,IF(AX30="b",ROUNDDOWN(((W11/100)*$Y$11)*$Z$3,2),IF(AX30="c",ROUNDUP(((W11/100)*$Y$11)*$Z$3,2),ROUND(((W11/100)*$Y$11)*$Z$3,2)))) -> 0 | X30: =COUNTIF(F30:W30,">0") -> 7 | Y30: =SUM(F30:W30) -> 130561.94 | Z30: =IF($Y$55=0,0,(Y30/$Y$55)) -> 0.030720456 | AF30: =D30 -> CONTRAPARTIDA
B31: =CONCATENATE(B12,LEFT(D31,1)) -> 3T | C31: =C12 -> DRENAGEM | D31: =$D$27 -> TESOURO | E31: R$ | F31: =IF(ISERR(F12),0,IF(AG31="b",ROUNDDOWN(((F12/100)*$Y$12)*$Z$2,2),IF(AG31="c",ROUNDUP(((F12/100)*$Y$12)*$Z$2,2),ROUND(((F12/100)*$Y$12)*$Z$2,2)))) -> 0 | G31: =IF(ISERR(G12),0,IF(AH31="b",ROUNDDOWN(((G12/100)*$Y$12)*$Z$2,2),IF(AH31="c",ROUNDUP(((G12/100)*$Y$12)*$Z$2,2),ROUND(((G12/100)*$Y$12)*$Z$2,2)))) -> 0 | H31: =IF(ISERR(H12),0,IF(AI31="b",ROUNDDOWN(((H12/100)*$Y$12)*$Z$2,2),IF(AI31="c",ROUNDUP(((H12/100)*$Y$12)*$Z$2,2),ROUND(((H12/100)*$Y$12)*$Z$2,2)))) -> 0 | I31: =IF(ISERR(I12),0,IF(AJ31="b",ROUNDDOWN(((I12/100)*$Y$12)*$Z$2,2),IF(AJ31="c",ROUNDUP(((I12/100)*$Y$12)*$Z$2,2),ROUND(((I12/100)*$Y$12)*$Z$2,2)))) -> 0 | J31: =IF(ISERR(J12),0,IF(AK31="b",ROUNDDOWN(((J12/100)*$Y$12)*$Z$2,2),IF(AK31="c",ROUNDUP(((J12/100)*$Y$12)*$Z$2,2),ROUND(((J12/100)*$Y$12)*$Z$2,2)))) -> 0 | K31: =IF(ISERR(K12),0,IF(AL31="b",ROUNDDOWN(((K12/100)*$Y$12)*$Z$2,2),IF(AL31="c",ROUNDUP(((K12/100)*$Y$12)*$Z$2,2),ROUND(((K12/100)*$Y$12)*$Z$2,2)))) -> 0 | L31: =IF(ISERR(L12),0,IF(AM31="b",ROUNDDOWN(((L12/100)*$Y$12)*$Z$2,2),IF(AM31="c",ROUNDUP(((L12/100)*$Y$12)*$Z$2,2),ROUND(((L12/100)*$Y$12)*$Z$2,2)))) -> 0 | M31: =IF(ISERR(M12),0,IF(AN31="b",ROUNDDOWN(((M12/100)*$Y$12)*$Z$2,2),IF(AN31="c",ROUNDUP(((M12/100)*$Y$12)*$Z$2,2),ROUND(((M12/100)*$Y$12)*$Z$2,2)))) -> 0 | ... W31: =IF(ISERR(W12),0,IF(AX31="b",ROUNDDOWN(((W12/100)*$Y$12)*$Z$2,2),IF(AX31="c",ROUNDUP(((W12/100)*$Y$12)*$Z$2,2),ROUND(((W12/100)*$Y$12)*$Z$2,2)))) -> 0 | X31: =COUNTIF(F31:W31,">0") -> 0 | Y31: =SUM(F31:W31) -> 0 | Z31: =IF($Y$55=0,0,(Y31/$Y$55)) -> 0 | AB31: 3 | AC31: =SUM(Y31:Y32) -> 469897.99 | AD31: =IF(ROUND(AC31,2)-ROUND(Y12,2)=0,"Ok",ROUND(AC31,2)-ROUND(Y12,2)) -> Ok | AE31: 3 | AF31: =D31 -> TESOURO
B32: 3C | D32: CONTRAPARTIDA | E32: R$ | F32: =IF(ISERR(F12),0,IF(AG32="b",ROUNDDOWN(((F12/100)*$Y$12)*$Z$3,2),IF(AG32="c",ROUNDUP(((F12/100)*$Y$12)*$Z$3,2),ROUND(((F12/100)*$Y$12)*$Z$3,2)))) -> 47860.44 | G32: =IF(ISERR(G12),0,IF(AH32="b",ROUNDDOWN(((G12/100)*$Y$12)*$Z$3,2),IF(AH32="c",ROUNDUP(((G12/100)*$Y$12)*$Z$3,2),ROUND(((G12/100)*$Y$12)*$Z$3,2)))) -> 66068.82 | H32: =IF(ISERR(H12),0,IF(AI32="b",ROUNDDOWN(((H12/100)*$Y$12)*$Z$3,2),IF(AI32="c",ROUNDUP(((H12/100)*$Y$12)*$Z$3,2),ROUND(((H12/100)*$Y$12)*$Z$3,2)))) -> 30786.95 | I32: =IF(ISERR(I12),0,IF(AJ32="b",ROUNDDOWN(((I12/100)*$Y$12)*$Z$3,2),IF(AJ32="c",ROUNDUP(((I12/100)*$Y$12)*$Z$3,2),ROUND(((I12/100)*$Y$12)*$Z$3,2)))) -> 52053.29 | J32: =IF(ISERR(J12),0,IF(AK32="b",ROUNDDOWN(((J12/100)*$Y$12)*$Z$3,2),IF(AK32="c",ROUNDUP(((J12/100)*$Y$12)*$Z$3,2),ROUND(((J12/100)*$Y$12)*$Z$3,2)))) -> 71869.05 | K32: =IF(ISERR(K12),0,IF(AL32="b",ROUNDDOWN(((K12/100)*$Y$12)*$Z$3,2),IF(AL32="c",ROUNDUP(((K12/100)*$Y$12)*$Z$3,2),ROUND(((K12/100)*$Y$12)*$Z$3,2)))) -> 162510.41 | L32: =IF(ISERR(L12),0,IF(AM32="b",ROUNDDOWN(((L12/100)*$Y$12)*$Z$3,2),IF(AM32="c",ROUNDUP(((L12/100)*$Y$12)*$Z$3,2),ROUND(((L12/100)*$Y$12)*$Z$3,2)))) -> 38749.03 | M32: =IF(ISERR(M12),0,IF(AN32="b",ROUNDDOWN(((M12/100)*$Y$12)*$Z$3,2),IF(AN32="c",ROUNDUP(((M12/100)*$Y$12)*$Z$3,2),ROUND(((M12/100)*$Y$12)*$Z$3,2)))) -> 0 | ... W32: =IF(ISERR(W12),0,IF(AX32="b",ROUNDDOWN(((W12/100)*$Y$12)*$Z$3,2),IF(AX32="c",ROUNDUP(((W12/100)*$Y$12)*$Z$3,2),ROUND(((W12/100)*$Y$12)*$Z$3,2)))) -> 0 | X32: =COUNTIF(F32:W32,">0") -> 7 | Y32: =SUM(F32:W32) -> 469897.99 | Z32: =IF($Y$55=0,0,(Y32/$Y$55)) -> 0.11056423 | AF32: =D32 -> CONTRAPARTIDA
B33: =CONCATENATE(B13,LEFT(D33,1)) -> 4T | C33: =C13 -> BASE / SUB-BASE | D33: =$D$27 -> TESOURO | E33: R$ | F33: =IF(ISERR(F13),0,IF(AG33="b",ROUNDDOWN(((F13/100)*$Y$13)*$Z$2,2),IF(AG33="c",ROUNDUP(((F13/100)*$Y$13)*$Z$2,2),ROUND(((F13/100)*$Y$13)*$Z$2,2)))) -> 0 | G33: =IF(ISERR(G13),0,IF(AH33="b",ROUNDDOWN(((G13/100)*$Y$13)*$Z$2,2),IF(AH33="c",ROUNDUP(((G13/100)*$Y$13)*$Z$2,2),ROUND(((G13/100)*$Y$13)*$Z$2,2)))) -> 0 | H33: =IF(ISERR(H13),0,IF(AI33="b",ROUNDDOWN(((H13/100)*$Y$13)*$Z$2,2),IF(AI33="c",ROUNDUP(((H13/100)*$Y$13)*$Z$2,2),ROUND(((H13/100)*$Y$13)*$Z$2,2)))) -> 0 | I33: =IF(ISERR(I13),0,IF(AJ33="b",ROUNDDOWN(((I13/100)*$Y$13)*$Z$2,2),IF(AJ33="c",ROUNDUP(((I13/100)*$Y$13)*$Z$2,2),ROUND(((I13/100)*$Y$13)*$Z$2,2)))) -> 0 | J33: =IF(ISERR(J13),0,IF(AK33="b",ROUNDDOWN(((J13/100)*$Y$13)*$Z$2,2),IF(AK33="c",ROUNDUP(((J13/100)*$Y$13)*$Z$2,2),ROUND(((J13/100)*$Y$13)*$Z$2,2)))) -> 0 | K33: =IF(ISERR(K13),0,IF(AL33="b",ROUNDDOWN(((K13/100)*$Y$13)*$Z$2,2),IF(AL33="c",ROUNDUP(((K13/100)*$Y$13)*$Z$2,2),ROUND(((K13/100)*$Y$13)*$Z$2,2)))) -> 0 | L33: =IF(ISERR(L13),0,IF(AM33="b",ROUNDDOWN(((L13/100)*$Y$13)*$Z$2,2),IF(AM33="c",ROUNDUP(((L13/100)*$Y$13)*$Z$2,2),ROUND(((L13/100)*$Y$13)*$Z$2,2)))) -> 0 | M33: =IF(ISERR(M13),0,IF(AN33="b",ROUNDDOWN(((M13/100)*$Y$13)*$Z$2,2),IF(AN33="c",ROUNDUP(((M13/100)*$Y$13)*$Z$2,2),ROUND(((M13/100)*$Y$13)*$Z$2,2)))) -> 0 | ... W33: =IF(ISERR(W13),0,IF(AX33="b",ROUNDDOWN(((W13/100)*$Y$13)*$Z$2,2),IF(AX33="c",ROUNDUP(((W13/100)*$Y$13)*$Z$2,2),ROUND(((W13/100)*$Y$13)*$Z$2,2)))) -> 0 | X33: =COUNTIF(F33:W33,">0") -> 0 | Y33: =SUM(F33:W33) -> 0 | Z33: =IF($Y$55=0,0,(Y33/$Y$55)) -> 0 | AB33: 4 | AC33: =SUM(Y33:Y34) -> 1043340.9 | AD33: =IF(ROUND(AC33,2)-ROUND(Y13,2)=0,"Ok",ROUND(AC33,2)-ROUND(Y13,2)) -> Ok | AE33: 4 | AF33: =D33 -> TESOURO
B34: 4C | D34: CONTRAPARTIDA | E34: R$ | F34: =IF(ISERR(F13),0,IF(AG34="b",ROUNDDOWN(((F13/100)*$Y$13)*$Z$3,2),IF(AG34="c",ROUNDUP(((F13/100)*$Y$13)*$Z$3,2),ROUND(((F13/100)*$Y$13)*$Z$3,2)))) -> 113770.42 | G34: =IF(ISERR(G13),0,IF(AH34="b",ROUNDDOWN(((G13/100)*$Y$13)*$Z$3,2),IF(AH34="c",ROUNDUP(((G13/100)*$Y$13)*$Z$3,2),ROUND(((G13/100)*$Y$13)*$Z$3,2)))) -> 122188.34 | H34: =IF(ISERR(H13),0,IF(AI34="b",ROUNDDOWN(((H13/100)*$Y$13)*$Z$3,2),IF(AI34="c",ROUNDUP(((H13/100)*$Y$13)*$Z$3,2),ROUND(((H13/100)*$Y$13)*$Z$3,2)))) -> 128435.04 | I34: =IF(ISERR(I13),0,IF(AJ34="b",ROUNDDOWN(((I13/100)*$Y$13)*$Z$3,2),IF(AJ34="c",ROUNDUP(((I13/100)*$Y$13)*$Z$3,2),ROUND(((I13/100)*$Y$13)*$Z$3,2)))) -> 113737.51 | J34: =IF(ISERR(J13),0,IF(AK34="b",ROUNDDOWN(((J13/100)*$Y$13)*$Z$3,2),IF(AK34="c",ROUNDUP(((J13/100)*$Y$13)*$Z$3,2),ROUND(((J13/100)*$Y$13)*$Z$3,2)))) -> 114626.25 | K34: =IF(ISERR(K13),0,IF(AL34="b",ROUNDDOWN(((K13/100)*$Y$13)*$Z$3,2),IF(AL34="c",ROUNDUP(((K13/100)*$Y$13)*$Z$3,2),ROUND(((K13/100)*$Y$13)*$Z$3,2)))) -> 220031.58 | L34: =IF(ISERR(L13),0,IF(AM34="b",ROUNDDOWN(((L13/100)*$Y$13)*$Z$3,2),IF(AM34="c",ROUNDUP(((L13/100)*$Y$13)*$Z$3,2),ROUND(((L13/100)*$Y$13)*$Z$3,2)))) -> 230551.74 | M34: =IF(ISERR(M13),0,IF(AN34="b",ROUNDDOWN(((M13/100)*$Y$13)*$Z$3,2),IF(AN34="c",ROUNDUP(((M13/100)*$Y$13)*$Z$3,2),ROUND(((M13/100)*$Y$13)*$Z$3,2)))) -> 0 | ... W34: =IF(ISERR(W13),0,IF(AX34="b",ROUNDDOWN(((W13/100)*$Y$13)*$Z$3,2),IF(AX34="c",ROUNDUP(((W13/100)*$Y$13)*$Z$3,2),ROUND(((W13/100)*$Y$13)*$Z$3,2)))) -> 0 | X34: =COUNTIF(F34:W34,">0") -> 7 | Y34: =SUM(F34:W34) -> 1043340.9 | Z34: =IF($Y$55=0,0,(Y34/$Y$55)) -> 0.24549197 | AF34: =D34 -> CONTRAPARTIDA
B35: =CONCATENATE(B14,LEFT(D35,1)) -> 5T | C35: =C14 -> REVESTIMENTO | D35: =$D$27 -> TESOURO | E35: R$ | F35: =IF(ISERR(F14),0,IF(AG35="b",ROUNDDOWN(((F14/100)*$Y$14)*$Z$2,2),IF(AG35="c",ROUNDUP(((F14/100)*$Y$14)*$Z$2,2),ROUND(((F14/100)*$Y$14)*$Z$2,2)))) -> 0 | G35: =IF(ISERR(G14),0,IF(AH35="b",ROUNDDOWN(((G14/100)*$Y$14)*$Z$2,2),IF(AH35="c",ROUNDUP(((G14/100)*$Y$14)*$Z$2,2),ROUND(((G14/100)*$Y$14)*$Z$2,2)))) -> 0 | H35: =IF(ISERR(H14),0,IF(AI35="b",ROUNDDOWN(((H14/100)*$Y$14)*$Z$2,2),IF(AI35="c",ROUNDUP(((H14/100)*$Y$14)*$Z$2,2),ROUND(((H14/100)*$Y$14)*$Z$2,2)))) -> 0 | I35: =IF(ISERR(I14),0,IF(AJ35="b",ROUNDDOWN(((I14/100)*$Y$14)*$Z$2,2),IF(AJ35="c",ROUNDUP(((I14/100)*$Y$14)*$Z$2,2),ROUND(((I14/100)*$Y$14)*$Z$2,2)))) -> 0 | J35: =IF(ISERR(J14),0,IF(AK35="b",ROUNDDOWN(((J14/100)*$Y$14)*$Z$2,2),IF(AK35="c",ROUNDUP(((J14/100)*$Y$14)*$Z$2,2),ROUND(((J14/100)*$Y$14)*$Z$2,2)))) -> 0 | K35: =IF(ISERR(K14),0,IF(AL35="b",ROUNDDOWN(((K14/100)*$Y$14)*$Z$2,2),IF(AL35="c",ROUNDUP(((K14/100)*$Y$14)*$Z$2,2),ROUND(((K14/100)*$Y$14)*$Z$2,2)))) -> 0 | L35: =IF(ISERR(L14),0,IF(AM35="b",ROUNDDOWN(((L14/100)*$Y$14)*$Z$2,2),IF(AM35="c",ROUNDUP(((L14/100)*$Y$14)*$Z$2,2),ROUND(((L14/100)*$Y$14)*$Z$2,2)))) -> 0 | M35: =IF(ISERR(M14),0,IF(AN35="b",ROUNDDOWN(((M14/100)*$Y$14)*$Z$2,2),IF(AN35="c",ROUNDUP(((M14/100)*$Y$14)*$Z$2,2),ROUND(((M14/100)*$Y$14)*$Z$2,2)))) -> 0 | ... W35: =IF(ISERR(W14),0,IF(AX35="b",ROUNDDOWN(((W14/100)*$Y$14)*$Z$2,2),IF(AX35="c",ROUNDUP(((W14/100)*$Y$14)*$Z$2,2),ROUND(((W14/100)*$Y$14)*$Z$2,2)))) -> 0 | X35: =COUNTIF(F35:W35,">0") -> 0 | Y35: =SUM(F35:W35) -> 0 | Z35: =IF($Y$55=0,0,(Y35/$Y$55)) -> 0 | AB35: 5 | AC35: =SUM(Y35:Y36) -> 1450053.7 | AD35: =IF(ROUND(AC35,2)-ROUND(Y14,2)=0,"Ok",ROUND(AC35,2)-ROUND(Y14,2)) -> 0.01 | AE35: 5 | AF35: =D35 -> TESOURO
B36: 5C | D36: CONTRAPARTIDA | E36: R$ | F36: =IF(ISERR(F14),0,IF(AG36="b",ROUNDDOWN(((F14/100)*$Y$14)*$Z$3,2),IF(AG36="c",ROUNDUP(((F14/100)*$Y$14)*$Z$3,2),ROUND(((F14/100)*$Y$14)*$Z$3,2)))) -> 161912.24 | G36: =IF(ISERR(G14),0,IF(AH36="b",ROUNDDOWN(((G14/100)*$Y$14)*$Z$3,2),IF(AH36="c",ROUNDUP(((G14/100)*$Y$14)*$Z$3,2),ROUND(((G14/100)*$Y$14)*$Z$3,2)))) -> 173835.09 | H36: =IF(ISERR(H14),0,IF(AI36="b",ROUNDDOWN(((H14/100)*$Y$14)*$Z$3,2),IF(AI36="c",ROUNDUP(((H14/100)*$Y$14)*$Z$3,2),ROUND(((H14/100)*$Y$14)*$Z$3,2)))) -> 148028.8 | I36: =IF(ISERR(I14),0,IF(AJ36="b",ROUNDDOWN(((I14/100)*$Y$14)*$Z$3,2),IF(AJ36="c",ROUNDUP(((I14/100)*$Y$14)*$Z$3,2),ROUND(((I14/100)*$Y$14)*$Z$3,2)))) -> 161813.52 | J36: =IF(ISERR(J14),0,IF(AK36="b",ROUNDDOWN(((J14/100)*$Y$14)*$Z$3,2),IF(AK36="c",ROUNDUP(((J14/100)*$Y$14)*$Z$3,2),ROUND(((J14/100)*$Y$14)*$Z$3,2)))) -> 163138.04 | K36: =IF(ISERR(K14),0,IF(AL36="b",ROUNDDOWN(((K14/100)*$Y$14)*$Z$3,2),IF(AL36="c",ROUNDUP(((K14/100)*$Y$14)*$Z$3,2),ROUND(((K14/100)*$Y$14)*$Z$3,2)))) -> 366120.8 | L36: =IF(ISERR(L14),0,IF(AM36="b",ROUNDDOWN(((L14/100)*$Y$14)*$Z$3,2),IF(AM36="c",ROUNDUP(((L14/100)*$Y$14)*$Z$3,2),ROUND(((L14/100)*$Y$14)*$Z$3,2)))) -> 275205.18 | M36: =IF(ISERR(M14),0,IF(AN36="b",ROUNDDOWN(((M14/100)*$Y$14)*$Z$3,2),IF(AN36="c",ROUNDUP(((M14/100)*$Y$14)*$Z$3,2),ROUND(((M14/100)*$Y$14)*$Z$3,2)))) -> 0 | ... W36: =IF(ISERR(W14),0,IF(AX36="b",ROUNDDOWN(((W14/100)*$Y$14)*$Z$3,2),IF(AX36="c",ROUNDUP(((W14/100)*$Y$14)*$Z$3,2),ROUND(((W14/100)*$Y$14)*$Z$3,2)))) -> 0 | X36: =COUNTIF(F36:W36,">0") -> 7 | Y36: =SUM(F36:W36) -> 1450053.7 | Z36: =IF($Y$55=0,0,(Y36/$Y$55)) -> 0.3411891 | AF36: =D36 -> CONTRAPARTIDA
B37: =CONCATENATE(B15,LEFT(D37,1)) -> 6T | C37: =C15 -> MEIO-FIO E SARJETA | D37: =$D$27 -> TESOURO | E37: R$ | F37: =IF(ISERR(F15),0,IF(AG37="b",ROUNDDOWN(((F15/100)*$Y$15)*$Z$2,2),IF(AG37="c",ROUNDUP(((F15/100)*$Y$15)*$Z$2,2),ROUND(((F15/100)*$Y$15)*$Z$2,2)))) -> 0 | G37: =IF(ISERR(G15),0,IF(AH37="b",ROUNDDOWN(((G15/100)*$Y$15)*$Z$2,2),IF(AH37="c",ROUNDUP(((G15/100)*$Y$15)*$Z$2,2),ROUND(((G15/100)*$Y$15)*$Z$2,2)))) -> 0 | H37: =IF(ISERR(H15),0,IF(AI37="b",ROUNDDOWN(((H15/100)*$Y$15)*$Z$2,2),IF(AI37="c",ROUNDUP(((H15/100)*$Y$15)*$Z$2,2),ROUND(((H15/100)*$Y$15)*$Z$2,2)))) -> 0 | I37: =IF(ISERR(I15),0,IF(AJ37="b",ROUNDDOWN(((I15/100)*$Y$15)*$Z$2,2),IF(AJ37="c",ROUNDUP(((I15/100)*$Y$15)*$Z$2,2),ROUND(((I15/100)*$Y$15)*$Z$2,2)))) -> 0 | J37: =IF(ISERR(J15),0,IF(AK37="b",ROUNDDOWN(((J15/100)*$Y$15)*$Z$2,2),IF(AK37="c",ROUNDUP(((J15/100)*$Y$15)*$Z$2,2),ROUND(((J15/100)*$Y$15)*$Z$2,2)))) -> 0 | K37: =IF(ISERR(K15),0,IF(AL37="b",ROUNDDOWN(((K15/100)*$Y$15)*$Z$2,2),IF(AL37="c",ROUNDUP(((K15/100)*$Y$15)*$Z$2,2),ROUND(((K15/100)*$Y$15)*$Z$2,2)))) -> 0 | L37: =IF(ISERR(L15),0,IF(AM37="b",ROUNDDOWN(((L15/100)*$Y$15)*$Z$2,2),IF(AM37="c",ROUNDUP(((L15/100)*$Y$15)*$Z$2,2),ROUND(((L15/100)*$Y$15)*$Z$2,2)))) -> 0 | M37: =IF(ISERR(M15),0,IF(AN37="b",ROUNDDOWN(((M15/100)*$Y$15)*$Z$2,2),IF(AN37="c",ROUNDUP(((M15/100)*$Y$15)*$Z$2,2),ROUND(((M15/100)*$Y$15)*$Z$2,2)))) -> 0 | ... W37: =IF(ISERR(W15),0,IF(AX37="b",ROUNDDOWN(((W15/100)*$Y$15)*$Z$2,2),IF(AX37="c",ROUNDUP(((W15/100)*$Y$15)*$Z$2,2),ROUND(((W15/100)*$Y$15)*$Z$2,2)))) -> 0 | X37: =COUNTIF(F37:W37,">0") -> 0 | Y37: =SUM(F37:W37) -> 0 | Z37: =IF($Y$55=0,0,(Y37/$Y$55)) -> 0 | AB37: 6 | AC37: =SUM(Y37:Y38) -> 266996.42 | AD37: =IF(ROUND(AC37,2)-ROUND(Y15,2)=0,"Ok",ROUND(AC37,2)-ROUND(Y15,2)) -> Ok | AE37: 6 | AF37: =D37 -> TESOURO
B38: 6C | D38: CONTRAPARTIDA | E38: R$ | F38: =IF(ISERR(F15),0,IF(AG38="b",ROUNDDOWN(((F15/100)*$Y$15)*$Z$3,2),IF(AG38="c",ROUNDUP(((F15/100)*$Y$15)*$Z$3,2),ROUND(((F15/100)*$Y$15)*$Z$3,2)))) -> 9767.13 | G38: =IF(ISERR(G15),0,IF(AH38="b",ROUNDDOWN(((G15/100)*$Y$15)*$Z$3,2),IF(AH38="c",ROUNDUP(((G15/100)*$Y$15)*$Z$3,2),ROUND(((G15/100)*$Y$15)*$Z$3,2)))) -> 57456.76 | H38: =IF(ISERR(H15),0,IF(AI38="b",ROUNDDOWN(((H15/100)*$Y$15)*$Z$3,2),IF(AI38="c",ROUNDUP(((H15/100)*$Y$15)*$Z$3,2),ROUND(((H15/100)*$Y$15)*$Z$3,2)))) -> 46482.87 | I38: =IF(ISERR(I15),0,IF(AJ38="b",ROUNDDOWN(((I15/100)*$Y$15)*$Z$3,2),IF(AJ38="c",ROUNDUP(((I15/100)*$Y$15)*$Z$3,2),ROUND(((I15/100)*$Y$15)*$Z$3,2)))) -> 20277.06 | J38: =IF(ISERR(J15),0,IF(AK38="b",ROUNDDOWN(((J15/100)*$Y$15)*$Z$3,2),IF(AK38="c",ROUNDUP(((J15/100)*$Y$15)*$Z$3,2),ROUND(((J15/100)*$Y$15)*$Z$3,2)))) -> 21477.91 | K38: =IF(ISERR(K15),0,IF(AL38="b",ROUNDDOWN(((K15/100)*$Y$15)*$Z$3,2),IF(AL38="c",ROUNDUP(((K15/100)*$Y$15)*$Z$3,2),ROUND(((K15/100)*$Y$15)*$Z$3,2)))) -> 72675.05 | L38: =IF(ISERR(L15),0,IF(AM38="b",ROUNDDOWN(((L15/100)*$Y$15)*$Z$3,2),IF(AM38="c",ROUNDUP(((L15/100)*$Y$15)*$Z$3,2),ROUND(((L15/100)*$Y$15)*$Z$3,2)))) -> 38859.64 | M38: =IF(ISERR(M15),0,IF(AN38="b",ROUNDDOWN(((M15/100)*$Y$15)*$Z$3,2),IF(AN38="c",ROUNDUP(((M15/100)*$Y$15)*$Z$3,2),ROUND(((M15/100)*$Y$15)*$Z$3,2)))) -> 0 | ... W38: =IF(ISERR(W15),0,IF(AX38="b",ROUNDDOWN(((W15/100)*$Y$15)*$Z$3,2),IF(AX38="c",ROUNDUP(((W15/100)*$Y$15)*$Z$3,2),ROUND(((W15/100)*$Y$15)*$Z$3,2)))) -> 0 | X38: =COUNTIF(F38:W38,">0") -> 7 | Y38: =SUM(F38:W38) -> 266996.42 | Z38: =IF($Y$55=0,0,(Y38/$Y$55)) -> 0.062822687 | AF38: =D38 -> CONTRAPARTIDA
B39: =CONCATENATE(B16,LEFT(D39,1)) -> 7T | C39: =C16 -> SERVIÇOS DE URBANIZAÇÃO | D39: =$D$27 -> TESOURO | E39: R$ | F39: =IF(ISERR(F16),0,IF(AG39="b",ROUNDDOWN(((F16/100)*$Y$16)*$Z$2,2),IF(AG39="c",ROUNDUP(((F16/100)*$Y$16)*$Z$2,2),ROUND(((F16/100)*$Y$16)*$Z$2,2)))) -> 0 | G39: =IF(ISERR(G16),0,IF(AH39="b",ROUNDDOWN(((G16/100)*$Y$16)*$Z$2,2),IF(AH39="c",ROUNDUP(((G16/100)*$Y$16)*$Z$2,2),ROUND(((G16/100)*$Y$16)*$Z$2,2)))) -> 0 | H39: =IF(ISERR(H16),0,IF(AI39="b",ROUNDDOWN(((H16/100)*$Y$16)*$Z$2,2),IF(AI39="c",ROUNDUP(((H16/100)*$Y$16)*$Z$2,2),ROUND(((H16/100)*$Y$16)*$Z$2,2)))) -> 0 | I39: =IF(ISERR(I16),0,IF(AJ39="b",ROUNDDOWN(((I16/100)*$Y$16)*$Z$2,2),IF(AJ39="c",ROUNDUP(((I16/100)*$Y$16)*$Z$2,2),ROUND(((I16/100)*$Y$16)*$Z$2,2)))) -> 0 | J39: =IF(ISERR(J16),0,IF(AK39="b",ROUNDDOWN(((J16/100)*$Y$16)*$Z$2,2),IF(AK39="c",ROUNDUP(((J16/100)*$Y$16)*$Z$2,2),ROUND(((J16/100)*$Y$16)*$Z$2,2)))) -> 0 | K39: =IF(ISERR(K16),0,IF(AL39="b",ROUNDDOWN(((K16/100)*$Y$16)*$Z$2,2),IF(AL39="c",ROUNDUP(((K16/100)*$Y$16)*$Z$2,2),ROUND(((K16/100)*$Y$16)*$Z$2,2)))) -> 0 | L39: =IF(ISERR(L16),0,IF(AM39="b",ROUNDDOWN(((L16/100)*$Y$16)*$Z$2,2),IF(AM39="c",ROUNDUP(((L16/100)*$Y$16)*$Z$2,2),ROUND(((L16/100)*$Y$16)*$Z$2,2)))) -> 0 | M39: =IF(ISERR(M16),0,IF(AN39="b",ROUNDDOWN(((M16/100)*$Y$16)*$Z$2,2),IF(AN39="c",ROUNDUP(((M16/100)*$Y$16)*$Z$2,2),ROUND(((M16/100)*$Y$16)*$Z$2,2)))) -> 0 | ... W39: =IF(ISERR(W16),0,IF(AX39="b",ROUNDDOWN(((W16/100)*$Y$16)*$Z$2,2),IF(AX39="c",ROUNDUP(((W16/100)*$Y$16)*$Z$2,2),ROUND(((W16/100)*$Y$16)*$Z$2,2)))) -> 0 | X39: =COUNTIF(F39:W39,">0") -> 0 | Y39: =SUM(F39:W39) -> 0 | Z39: =IF($Y$55=0,0,(Y39/$Y$55)) -> 0 | AB39: 7 | AC39: =SUM(Y39:Y40) -> 697054.92 | AD39: =IF(ROUND(AC39,2)-ROUND(Y16,2)=0,"Ok",ROUND(AC39,2)-ROUND(Y16,2)) -> Ok | AE39: 7 | AF39: =D39 -> TESOURO
B40: 7C | D40: CONTRAPARTIDA | E40: R$ | F40: =IF(ISERR(F16),0,IF(AG40="b",ROUNDDOWN(((F16/100)*$Y$16)*$Z$3,2),IF(AG40="c",ROUNDUP(((F16/100)*$Y$16)*$Z$3,2),ROUND(((F16/100)*$Y$16)*$Z$3,2)))) -> 129927.94 | G40: =IF(ISERR(G16),0,IF(AH40="b",ROUNDDOWN(((G16/100)*$Y$16)*$Z$3,2),IF(AH40="c",ROUNDUP(((G16/100)*$Y$16)*$Z$3,2),ROUND(((G16/100)*$Y$16)*$Z$3,2)))) -> 72179.8 | H40: =IF(ISERR(H16),0,IF(AI40="b",ROUNDDOWN(((H16/100)*$Y$16)*$Z$3,2),IF(AI40="c",ROUNDUP(((H16/100)*$Y$16)*$Z$3,2),ROUND(((H16/100)*$Y$16)*$Z$3,2)))) -> 66092.36 | I40: =IF(ISERR(I16),0,IF(AJ40="b",ROUNDDOWN(((I16/100)*$Y$16)*$Z$3,2),IF(AJ40="c",ROUNDUP(((I16/100)*$Y$16)*$Z$3,2),ROUND(((I16/100)*$Y$16)*$Z$3,2)))) -> 69193.29 | J40: =IF(ISERR(J16),0,IF(AK40="b",ROUNDDOWN(((J16/100)*$Y$16)*$Z$3,2),IF(AK40="c",ROUNDUP(((J16/100)*$Y$16)*$Z$3,2),ROUND(((J16/100)*$Y$16)*$Z$3,2)))) -> 90063.28 | K40: =IF(ISERR(K16),0,IF(AL40="b",ROUNDDOWN(((K16/100)*$Y$16)*$Z$3,2),IF(AL40="c",ROUNDUP(((K16/100)*$Y$16)*$Z$3,2),ROUND(((K16/100)*$Y$16)*$Z$3,2)))) -> 165279.14 | L40: =IF(ISERR(L16),0,IF(AM40="b",ROUNDDOWN(((L16/100)*$Y$16)*$Z$3,2),IF(AM40="c",ROUNDUP(((L16/100)*$Y$16)*$Z$3,2),ROUND(((L16/100)*$Y$16)*$Z$3,2)))) -> 104319.11 | M40: =IF(ISERR(M16),0,IF(AN40="b",ROUNDDOWN(((M16/100)*$Y$16)*$Z$3,2),IF(AN40="c",ROUNDUP(((M16/100)*$Y$16)*$Z$3,2),ROUND(((M16/100)*$Y$16)*$Z$3,2)))) -> 0 | ... W40: =IF(ISERR(W16),0,IF(AX40="b",ROUNDDOWN(((W16/100)*$Y$16)*$Z$3,2),IF(AX40="c",ROUNDUP(((W16/100)*$Y$16)*$Z$3,2),ROUND(((W16/100)*$Y$16)*$Z$3,2)))) -> 0 | X40: =COUNTIF(F40:W40,">0") -> 7 | Y40: =SUM(F40:W40) -> 697054.92 | Z40: =IF($Y$55=0,0,(Y40/$Y$55)) -> 0.16401292 | AF40: =D40 -> CONTRAPARTIDA
B41: =CONCATENATE(B17,LEFT(D41,1)) -> 8T | C41: =C17 -> SINALIZAÇÃO DE TRÂNSITO | D41: =$D$27 -> TESOURO | E41: R$ | F41: =IF(ISERR(F17),0,IF(AG41="b",ROUNDDOWN(((F17/100)*$Y$17)*$Z$2,2),IF(AG41="c",ROUNDUP(((F17/100)*$Y$17)*$Z$2,2),ROUND(((F17/100)*$Y$17)*$Z$2,2)))) -> 0 | G41: =IF(ISERR(G17),0,IF(AH41="b",ROUNDDOWN(((G17/100)*$Y$17)*$Z$2,2),IF(AH41="c",ROUNDUP(((G17/100)*$Y$17)*$Z$2,2),ROUND(((G17/100)*$Y$17)*$Z$2,2)))) -> 0 | H41: =IF(ISERR(H17),0,IF(AI41="b",ROUNDDOWN(((H17/100)*$Y$17)*$Z$2,2),IF(AI41="c",ROUNDUP(((H17/100)*$Y$17)*$Z$2,2),ROUND(((H17/100)*$Y$17)*$Z$2,2)))) -> 0 | I41: =IF(ISERR(I17),0,IF(AJ41="b",ROUNDDOWN(((I17/100)*$Y$17)*$Z$2,2),IF(AJ41="c",ROUNDUP(((I17/100)*$Y$17)*$Z$2,2),ROUND(((I17/100)*$Y$17)*$Z$2,2)))) -> 0 | J41: =IF(ISERR(J17),0,IF(AK41="b",ROUNDDOWN(((J17/100)*$Y$17)*$Z$2,2),IF(AK41="c",ROUNDUP(((J17/100)*$Y$17)*$Z$2,2),ROUND(((J17/100)*$Y$17)*$Z$2,2)))) -> 0 | K41: =IF(ISERR(K17),0,IF(AL41="b",ROUNDDOWN(((K17/100)*$Y$17)*$Z$2,2),IF(AL41="c",ROUNDUP(((K17/100)*$Y$17)*$Z$2,2),ROUND(((K17/100)*$Y$17)*$Z$2,2)))) -> 0 | L41: =IF(ISERR(L17),0,IF(AM41="b",ROUNDDOWN(((L17/100)*$Y$17)*$Z$2,2),IF(AM41="c",ROUNDUP(((L17/100)*$Y$17)*$Z$2,2),ROUND(((L17/100)*$Y$17)*$Z$2,2)))) -> 0 | M41: =IF(ISERR(M17),0,IF(AN41="b",ROUNDDOWN(((M17/100)*$Y$17)*$Z$2,2),IF(AN41="c",ROUNDUP(((M17/100)*$Y$17)*$Z$2,2),ROUND(((M17/100)*$Y$17)*$Z$2,2)))) -> 0 | ... W41: =IF(ISERR(W17),0,IF(AX41="b",ROUNDDOWN(((W17/100)*$Y$17)*$Z$2,2),IF(AX41="c",ROUNDUP(((W17/100)*$Y$17)*$Z$2,2),ROUND(((W17/100)*$Y$17)*$Z$2,2)))) -> 0 | X41: =COUNTIF(F41:W41,">0") -> 0 | Y41: =SUM(F41:W41) -> 0 | Z41: =IF($Y$55=0,0,(Y41/$Y$55)) -> 0 | AB41: 8 | AC41: =SUM(Y41:Y42) -> 94823.39 | AD41: =IF(ROUND(AC41,2)-ROUND(Y17,2)=0,"Ok",ROUND(AC41,2)-ROUND(Y17,2)) -> Ok | AE41: 8 | AF41: =D41 -> TESOURO
...

Sheet Descrições_ETAPAS_Empresa
B1: =CONCATENATE("PLANEJAMENTO DA OBRA DE ",Dados_Obra!F5," - CONTRATO") -> PLANEJAMENTO DA OBRA DE PAVIMENTAÇÃO DE VIAS URBANAS - CONTRATO
B2: RELAÇÃO DOS DESCRITIVOS DE CADA ETAPA DO PROJETO / OBRA
B4: Município: | C4: =Dados_Obra!B3 -> SANTA TEREZA DO OESTE | H4: =CONCATENATE(" PRIORIDADE Nº ",Dados_Obra!L3) -> PRIORIDADE Nº 65 | I4: SAM | J4: =Dados_Obra!L4 -> 53
B5: Projeto : | C5: =Dados_Obra!$F$5 -> PAVIMENTAÇÃO DE VIAS URBANAS | I5: LOTE nº | J5: =Dados_Obra!L5 -> 1
B6: Local da Obra: | C6: =Dados_Obra!$B$6 -> VIAS URBANAS DE SANTA TEREZA DO OESTE
B7: Fonte do Recurso: | C7: =Dados_Obra!$L$6 -> PAM | I7: Data Base da aprovação do Orçamento (Decreto 10.086/22 do Paraná, que regulamenta a Lei 14.133/21): | J7: =Dados_Obra!$L$10 -> 45814
B8: NÚMERO DE ETAPAS DESTE PROJETO: | D8: =Dados_Obra!$D$14 -> 7 | E8: Observação: Vetado a medição por preço unitário. Só será liberado a emissão da Nota Fiscal após o atingimento de 100% da Etapa.
B13: Valor GLOBAL do CONTRATO: | D13: =MEDIÇÃO_GLOBAL!total -> 4250000
B14: =CONCATENATE("Empresa Contratada: ",Dados_Obra!$B$23) -> Empresa Contratada: DUBAI CONSTRUÇÕES E PAVIMENTAÇÕES LTDA
A17: FILTRO | B17: SEQUÊNCIA DAS ETAPAS | C17: Nº DIAS DE EXECUÇÃO | D17: VALOR CRONOGRAMADO P/ CADA ETAPA | E17: DESCRIÇÃO DAS ETAPAS
A18: 1 | B18: TOTAL: | C18: =SUM(C19:C36) -> 210 | D18: =SUM(D19:D36) -> 4250000
A19: 1 | B19: =IF(A19=0,0,CONCATENATE(A19,"ª MEDIÇÃO")) -> 1ª MEDIÇÃO | C19: =Cronograma_Empresa!F7 -> 30 | D19: =IF(C19=0,0,Cronograma_Proposta_Empresa!E$2) -> 499528.39
A20: =IF(A19+1>$D$8,0,IF(A19=0,0,A19+1)) -> 2 | B20: =IF(A20=0,0,CONCATENATE(A20,"ª MEDIÇÃO")) -> 2ª MEDIÇÃO | C20: =Cronograma_Empresa!G7 -> 30 | D20: =IF(C20=0,0,Cronograma_Proposta_Empresa!F$2) -> 544433.12
A21: =IF(A20+1>$D$8,0,IF(A20=0,0,A20+1)) -> 3 | B21: =IF(A21=0,0,CONCATENATE(A21,"ª MEDIÇÃO")) -> 3ª MEDIÇÃO | C21: =Cronograma_Empresa!H7 -> 30 | D21: =IF(C21=0,0,Cronograma_Proposta_Empresa!G$2) -> 454569.43
A22: =IF(A21+1>$D$8,0,IF(A21=0,0,A21+1)) -> 4 | B22: =IF(A22=0,0,CONCATENATE(A22,"ª MEDIÇÃO")) -> 4ª MEDIÇÃO | C22: =Cronograma_Empresa!I7 -> 30 | D22: =IF(C22=0,0,Cronograma_Proposta_Empresa!H$2) -> 478984.13
A23: =IF(A22+1>$D$8,0,IF(A22=0,0,A22+1)) -> 5 | B23: =IF(A23=0,0,CONCATENATE(A23,"ª MEDIÇÃO")) -> 5ª MEDIÇÃO | C23: =Cronograma_Empresa!J7 -> 30 | D23: =IF(C23=0,0,Cronograma_Proposta_Empresa!I$2) -> 509375.63
A24: =IF(A23+1>$D$8,0,IF(A23=0,0,A23+1)) -> 6 | B24: =IF(A24=0,0,CONCATENATE(A24,"ª MEDIÇÃO")) -> 6ª MEDIÇÃO | C24: =Cronograma_Empresa!K7 -> 30 | D24: =IF(C24=0,0,Cronograma_Proposta_Empresa!J$2) -> 1045888.3
A25: =IF(A24+1>$D$8,0,IF(A24=0,0,A24+1)) -> 7 | B25: =IF(A25=0,0,CONCATENATE(A25,"ª MEDIÇÃO")) -> 7ª MEDIÇÃO | C25: =Cronograma_Empresa!L7 -> 30 | D25: =IF(C25=0,0,Cronograma_Proposta_Empresa!K$2) -> 717220.96
A26: =IF(A25+1>$D$8,0,IF(A25=0,0,A25+1)) -> 0 | B26: =IF(A26=0,0,CONCATENATE(A26,"ª MEDIÇÃO")) -> 0 | C26: =Cronograma_Empresa!M7 -> 0 | D26: =IF(C26=0,0,Cronograma_Proposta_Empresa!L$2) -> 0
A27: =IF(A26+1>$D$8,0,IF(A26=0,0,A26+1)) -> 0 | B27: =IF(A27=0,0,CONCATENATE(A27,"ª MEDIÇÃO")) -> 0 | C27: =Cronograma_Empresa!N7 -> 0 | D27: =IF(C27=0,0,Cronograma_Proposta_Empresa!M$2) -> 0
A28: =IF(A27+1>$D$8,0,IF(A27=0,0,A27+1)) -> 0 | B28: =IF(A28=0,0,CONCATENATE(A28,"ª MEDIÇÃO")) -> 0 | C28: =Cronograma_Empresa!O7 -> 0 | D28: =IF(C28=0,0,Cronograma_Proposta_Empresa!N$2) -> 0
A29: =IF(A28+1>$D$8,0,IF(A28=0,0,A28+1)) -> 0 | B29: =IF(A29=0,0,CONCATENATE(A29,"ª MEDIÇÃO")) -> 0 | C29: =Cronograma_Empresa!P7 -> 0 | D29: =IF(C29=0,0,Cronograma_Proposta_Empresa!O$2) -> 0
A30: =IF(A29+1>$D$8,0,IF(A29=0,0,A29+1)) -> 0 | B30: =IF(A30=0,0,CONCATENATE(A30,"ª MEDIÇÃO")) -> 0 | C30: =Cronograma_Empresa!Q7 -> 0 | D30: =IF(C30=0,0,Cronograma_Proposta_Empresa!P$2) -> 0
A31: =IF(A30+1>$D$8,0,IF(A30=0,0,A30+1)) -> 0 | B31: =IF(A31=0,0,CONCATENATE(A31,"ª MEDIÇÃO")) -> 0 | C31: =Cronograma_Empresa!R7 -> 0 | D31: =IF(C31=0,0,Cronograma_Proposta_Empresa!Q$2) -> 0
A32: =IF(A31+1>$D$8,0,IF(A31=0,0,A31+1)) -> 0 | B32: =IF(A32=0,0,CONCATENATE(A32,"ª MEDIÇÃO")) -> 0 | C32: =Cronograma_Empresa!S7 -> 0 | D32: =IF(C32=0,0,Cronograma_Proposta_Empresa!R$2) -> 0
A33: =IF(A32+1>$D$8,0,IF(A32=0,0,A32+1)) -> 0 | B33: =IF(A33=0,0,CONCATENATE(A33,"ª MEDIÇÃO")) -> 0 | C33: =Cronograma_Empresa!T7 -> 0 | D33: =IF(C33=0,0,Cronograma_Proposta_Empresa!S$2) -> 0
A34: =IF(A33+1>$D$8,0,IF(A33=0,0,A33+1)) -> 0 | B34: =IF(A34=0,0,CONCATENATE(A34,"ª MEDIÇÃO")) -> 0 | C34: =Cronograma_Empresa!U7 -> 0 | D34: =IF(C34=0,0,Cronograma_Proposta_Empresa!T$2) -> 0
A35: =IF(A34+1>$D$8,0,IF(A34=0,0,A34+1)) -> 0 | B35: =IF(A35=0,0,CONCATENATE(A35,"ª MEDIÇÃO")) -> 0 | C35: =Cronograma_Empresa!V7 -> 0 | D35: =IF(C35=0,0,Cronograma_Proposta_Empresa!U$2) -> 0
A36: =IF(A35+1>$D$8,0,IF(A35=0,0,A35+1)) -> 0 | B36: =IF(A36=0,0,CONCATENATE(A36,"ª MEDIÇÃO")) -> 0 | C36: =Cronograma_Empresa!W7 -> 0 | D36: =IF(C36=0,0,Cronograma_Proposta_Empresa!V$2) -> 0
A37: 1
A38: 1 | B38: Representante da Empresa (Assinatura Digital): | F38: Resp. Técnico da Empresa e CREA/CAU (Assinatura Digital): | J38: Data da Proposta:
A39: 1 | J39: =Dados_Obra!L24 -> 45936
A40: 1 | B40: =Dados_Obra!B24 -> JOBERSON BRUNO POMPEU | F40: =CONCATENATE(Dados_Obra!B25," - ",Dados_Obra!L25) -> TALISSON FAHIR BERNARDES - CREA MG-367322/D
A41: 1
A42: 1 | B42: USO EXCLUSIVO DO CONVÊNIO DA SECRETARIA DE ESTADO DAS CIDADES - SECID COM O PARANACIDADE
A43: 1 | J43: Direitos autorais do PARANACIDADE

Sheet Carimbo_Unificado
C2: ATESTADO/AUTORIZAÇÃO
B4: =CONCATENATE("Atesto, para os devidos fins, que foram recebidos os Bens e/ou Serviços do presente documento, referente à Licitação na Modalidade ",RESUMO_GLOBAL!K11,", nº ",RESUMO_GLOBAL!Q11,", Projeto ",MEDIÇÃO_GLOBAL!F5," do PROGRAMA no qual o PARANACIDADE é o Agente Técnico Operacional.") -> Atesto, para os devidos fins, que foram recebidos os Bens e/ou Serviços do presente documento, referente à Licitação na Modalidade CONCORRÊNCIA ELETRÔNICA, nº 008/2025, Projeto PAVIMENTAÇÃO DE VIAS URBANAS do PROGRAMA no qual o PARANACIDADE é o Agente Técnico Operacional.
B6: =CONCATENATE("EM ",MEDIÇÃO_GLOBAL!F4,", DE DE ",YEAR(TODAY()),".") -> EM SANTA TEREZA DO OESTE, DE DE 2026.
B8: ASS: ____________________________________________________
B9: =CONCATENATE("NOME: ",Dados_Obra!BC103," - ",Dados_Obra!BC104) -> NOME: EDUARDO ARAUJO BERTOGLIO - ENGº CIVIL - CREA PR-188.244/D
B10: CARGO: FISCAL DO CONTRATO
B11: AUTORIZO O PAGAMENTO
B13: ASS.: ____________________________________________________
B14: =CONCATENATE("NOME: ",Dados_Obra!BE103) -> NOME: AMARILDO RIGOLIN
B15: =CONCATENATE(" ",Dados_Obra!BE102) -> PREFEITO MUNICIPAL DE SANTA TEREZA DO OESTE
C18: SECRETARIA DE ESTADO DAS CIDADES – SECID
C20: SERVIÇO SOCIAL AUTÔNOMO PARANACIDADE
B22: =CONCATENATE("Os Bens e/ou Serviços do presente documento, referentes à Licitação na Modalidade ",RESUMO_GLOBAL!K11,", nº ",RESUMO_GLOBAL!Q11,", Projeto ",MEDIÇÃO_GLOBAL!F5," do PROGRAMA no qual o PARANACIDADE é o Agente Técnico Operacional, estão de acordo com a medição realizada pela Prefeitura Municipal e Supervisionada pelo Serviço Social Autonômo PARANACIDADE.") -> Os Bens e/ou Serviços do presente documento, referentes à Licitação na Modalidade CONCORRÊNCIA ELETRÔNICA, nº 008/2025, Projeto PAVIMENTAÇÃO DE VIAS URBANAS do PROGRAMA no qual o PARANACIDADE é o Agente Técnico Operacional, estão de acordo com a medição realizada pela Prefeitura Municipal e Supervisionada pelo Serviço Social Autonômo PARANACIDADE.
B24: =B6 -> EM SANTA TEREZA DO OESTE, DE DE 2026.
B26: ASS: _____________________________________________________
B27: =CONCATENATE("NOME: ",Dados_Obra!C33," - ",Dados_Obra!C34) -> NOME: Fernanda Espindola de Oliveira - CREA 178038/D
B28: =CONCATENATE("CARGO: ",Dados_Obra!C35) -> CARGO: ENGENHEIRA CIVIL

Sheet MEDIÇÃO_OBJETO (1)
A1: =Dados_GLOBAL_Inicial!$A$1 -> Versão da planilha: 06 de 22/05/2025 - 14:40h | F1: =CONCATENATE("PREFEITURA MUNICIPAL DE ",F4) -> PREFEITURA MUNICIPAL DE SANTA TEREZA DO OESTE | N1: ESTADO DO PARANÁ
N2: REGIONAL | O2: =MEDIÇÃO_GLOBAL!$O$2 -> Cascavel | P2: ASSOCIAÇÃO | Q2: =MEDIÇÃO_GLOBAL!$Q$2 -> Amop | Z2: =MEDIÇÃO_GLOBAL!W2 -> Informar qual foi a última MEDIÇÃO/ETAPA ACUMULADA PAGA? | AA2: =MEDIÇÃO_GLOBAL!Z2 -> 0
K3: LICITADO PELA LEI Nº 14.133 / 2021 | L3: Mês | M3: =VLOOKUP(MONTH($Q$3),RESUMO_GLOBAL!$C$89:$D$100,2,FALSE) -> Mar | N3: PARCELA | O3: =MEDIÇÃO_GLOBAL!$O$3 -> 2 | P3: DATA | Q3: =MEDIÇÃO_GLOBAL!$Q$3 -> 46107 | Z3: =MEDIÇÃO_GLOBAL!W3 -> Até quais MEDIÇÕES / ETAPAS a serem PAGAS nesta medição? | AA3: =MEDIÇÃO_GLOBAL!Z3 -> 1
C4: MUNICÍPIO: | F4: =MEDIÇÃO_GLOBAL!$F$4 -> SANTA TEREZA DO OESTE | J4: CÓDIGO SAM MUNIC.: | K4: =MEDIÇÃO_GLOBAL!K4 -> 292 | L4: SAM | M4: =MEDIÇÃO_GLOBAL!$M$4 -> 53 | N4: CONTRATO EMPREITADA: | P4: ORDEM DE SERVIÇO: | S4: Valores do Aditivo | Z4: MEDIÇÃO: | AA4: =MEDIÇÃO_GLOBAL!Z4 -> 2ª | AB4: 3
C5: SUBPROJETO: | F5: =MEDIÇÃO_GLOBAL!$F$5 -> PAVIMENTAÇÃO DE VIAS URBANAS | L5: Lote | M5: =MEDIÇÃO_GLOBAL!$M$5 -> 1 | N5: Nº | O5: =MEDIÇÃO_GLOBAL!$O$5 -> 256/2025 | P5: Nº | S5: Total Aditivo | T5: =S8+T8 -> 0 | Z5: PRAZO DE EXECUÇÃO: | AA5: =Dados_Obra!K29 -> 46136 | AB5: =AB4+1 -> 4
C6: FIRMA EMPREITERA: | F6: =MEDIÇÃO_GLOBAL!$F$6 -> DUBAI CONSTRUÇÕES E PAVIMENTAÇÕES LTDA | J6: CNPJ: | K6: =MEDIÇÃO_GLOBAL!$K$6 -> 57.902.002/0001-93 | N6: DATA: | O6: =MEDIÇÃO_GLOBAL!$O$6 -> 45926 | P6: DATA | S6: Acréscimos | T6: Supressões | Z6: PRAZO DE VIGÊNCIA: | AA6: =Dados_Obra!K30 -> 46346 | AB6: =AB5+1 -> 5 | AG6: 1 | AH6: =AG6+1 -> 2 | AI6: =AH6+1 -> 3 | AJ6: =AI6+1 -> 4 | AK6: =AJ6+1 -> 5 | AL6: =AK6+1 -> 6 | AM6: =AL6+1 -> 7 | AN6: =AM6+1 -> 8 | AO6: =AN6+1 -> 9 | ... AX6: =AW6+1 -> 18
A7: FILTRO | C7: MEDIÇÃO DOS SERVIÇOS | N7: ORÇAMENTO | S7: =IF(MEDIÇÃO_GLOBAL!$P$716=0,0,ROUND(S8/MEDIÇÃO_GLOBAL!$P$716,6)) -> 0 | T7: =IF(MEDIÇÃO_GLOBAL!$P$716=0,0,ROUND(T8/MEDIÇÃO_GLOBAL!$P$716,6)) -> 0 | X7: CONTROLE | AB7: =AB6+1 -> 6 | AG7: MEDIÇÃO DAS QUANTIDADES EXECUTADAS PELA EMPRESA
A8: itens do projeto | C8: Nº | D8: CÓDIGO | E8: ORIGEM | F8: DISCRIMINAÇÃO DO SERVIÇOS | G8: Unid | H8: Quantid. Licitada | I8: Diferença | J8: =IF(SUM(I10:I71)<>0,"Quantid. ADITADA","Quantid. LICITADA") -> Quantid. LICITADA | K8: % Exe- cutada | L8: Coef. De Influên. (ABC) | M8: % Total | N8: Custo Unitário | O8: Valor Medido | P8: Total do Contrato | Q8: Saldo Contrato | S8: =SUM(S10:S713) -> 0 | T8: =SUM(T10:T713) -> 0 | V8: arredondamentos VALOR "c" = cima "b" = baixo | X8: Ítem - Medição Acumulada | Y8: Sub - Totais Medição | Z8: Ítem-Contrato Acumulado | AA8: Sub - Totais Contratuais | AB8: =AB7+1 -> 7 | AC8: Quantid. Executada Acumulada | AD8: % Executada | AF8: GRANDES ITENS | AG8: =CONCATENATE(AG6,"ª MEDIÇÃO Executada") -> 1ª MEDIÇÃO Executada | AH8: =CONCATENATE(AH6,"ª MEDIÇÃO Executada") -> 2ª MEDIÇÃO Executada | AI8: =CONCATENATE(AI6,"ª MEDIÇÃO Executada") -> 3ª MEDIÇÃO Executada | AJ8: =CONCATENATE(AJ6,"ª MEDIÇÃO Executada") -> 4ª MEDIÇÃO Executada | AK8: =CONCATENATE(AK6,"ª MEDIÇÃO Executada") -> 5ª MEDIÇÃO Executada | AL8: =CONCATENATE(AL6,"ª MEDIÇÃO Executada") -> 6ª MEDIÇÃO Executada | AM8: =CONCATENATE(AM6,"ª MEDIÇÃO Executada") -> 7ª MEDIÇÃO Executada | AN8: =CONCATENATE(AN6,"ª MEDIÇÃO Executada") -> 8ª MEDIÇÃO Executada | ... AW8: =CONCATENATE(AW6,"ª MEDIÇÃO Executada") -> 17ª MEDIÇÃO Executada | AX8: =CONCATENATE(AX6,"ª ETAPA Executada") -> 18ª ETAPA Executada
A9: x | C9: =IF(Dados_Obra!$H$37=1,CONCATENATE("GLOBAL - LOTE ",M5),CONCATENATE(Dados_Obra!H39," - ",Dados_Obra!B39)) -> GLOBAL - LOTE 1 | V9: Valor Medido | W9: Total do Contrato | X9: =IF(ISBLANK(J9),0,X10+O9) -> 0 | Y9: =IF(ISBLANK(J9),X10,0) -> 0 | Z9: =IF(ISBLANK(J9),0,Z10+P9) -> 0 | AA9: =IF(ISBLANK(J9),Z10,0) -> 0 | AB9: =AB8+1 -> 8
A10: x | C10: =MEDIÇÃO_GLOBAL!C10 -> 1 | D10: =MEDIÇÃO_GLOBAL!D10 | E10: =MEDIÇÃO_GLOBAL!E10 -> 550 | F10: =MEDIÇÃO_GLOBAL!F10 -> SERVIÇOS PRELIMINARES | G10: =MEDIÇÃO_GLOBAL!G10 | H10: =Dados_GLOBAL_Inicial!S10 | J10: =SUM(H10:I10) -> 0 | K10: =AD10 -> 0 | L10: =IF(total=0,0,ROUND(P10/total,4)) -> 0 | M10: =IF(J10=0,0,IF(K10>100%,"excesso",IF(ISNUMBER(K10),ROUND(K10*L10,4),IF(K10="<excesso",ROUND(100%*L10,4),0)))) -> 0 | N10: =IF(IFERROR(VALUE(MEDIÇÃO_GLOBAL!N10),0)=0,0,MEDIÇÃO_GLOBAL!N10) -> 0 | O10: =IF(K10>100%,P10,IF(ISBLANK(J10),0,IF((V10)="c",ROUNDUP(K10*P10,2),IF((V10)="b",ROUNDDOWN(K10*P10,2),ROUND(K10*P10,2))))) -> 0 | Q10: =P10-O10 -> 0 | S10: =IF(I10>0,ROUND(I10*N10,2),0) -> 0 | T10: =IF(I10<0,ROUND(I10*N10,2),0) -> 0 | X10: =IF(C10<>0,0,X11+O10) -> 0 | Y10: =IF(C10<>0,X11,0) -> 5812.42 | Z10: =IF(C10<>0,0,Z11+P10) -> 0 | AA10: =IF(C10<>0,Z11,0) -> 40363.22 | AB10: =AB9+1 -> 9 | AC10: =IF(SUM(AG10:AX10)>J10,J10,SUM(AG10:AX10)) -> 0 | AD10: =IF(J10=0,0,IF(AC10>J10,1,AC10/J10)) -> 0 | AF10: =IFERROR(IF(C10=0,0,C10),0) -> 1
A11: =IF(LEN(F11)>3,"x",IF(N11<0,"x","")) -> x | C11: =MEDIÇÃO_GLOBAL!C11 -> 0 | D11: =MEDIÇÃO_GLOBAL!D11 -> 00051 | E11: =MEDIÇÃO_GLOBAL!E11 -> ORSE | F11: =MEDIÇÃO_GLOBAL!F11 -> PLACA DE OBRA 4,00 X 2,00 M, EM CHAPA DE ACO GALVANIZADO, INCLUSIVE ARMAÇÃO EM MADEIRA E PONTALETES | G11: =MEDIÇÃO_GLOBAL!G11 -> un | H11: =Dados_GLOBAL_Inicial!S11 -> 4 | J11: =SUM(H11:I11) -> 4 | K11: =AD11 -> 0.25 | L11: =IF(total=0,0,ROUND(P11/total,4)) -> 0.0027 | M11: =IF(J11=0,0,IF(K11>100%,"excesso",IF(ISNUMBER(K11),ROUND(K11*L11,4),IF(K11="<excesso",ROUND(100%*L11,4),0)))) -> 0.0007 | N11: =IF(IFERROR(VALUE(MEDIÇÃO_GLOBAL!N11),0)=0,0,MEDIÇÃO_GLOBAL!N11) -> 2895.34 | O11: =IF(K11>100%,P11,IF(ISBLANK(J11),0,IF((V11)="c",ROUNDUP(K11*P11,2),IF((V11)="b",ROUNDDOWN(K11*P11,2),ROUND(K11*P11,2))))) -> 2895.34 | P11: =IF(Dados_Obra!$H$37=1,Dados_GLOBAL_Inicial!M11,IF((W11)="c",ROUNDUP(J11*N11,2),IF((W11)="b",ROUNDDOWN(J11*N11,2),ROUND(J11*N11,2)))) -> 11581.36 | Q11: =P11-O11 -> 8686.02 | S11: =IF(I11>0,ROUND(I11*N11,2),0) -> 0 | T11: =IF(I11<0,ROUND(I11*N11,2),0) -> 0 | V11: 1 | X11: =IF(C11<>0,0,X12+O11) -> 5812.42 | Y11: =IF(C11<>0,X12,0) -> 0 | Z11: =IF(C11<>0,0,Z12+P11) -> 40363.22 | AA11: =IF(C11<>0,Z12,0) -> 0 | AB11: =AB10+1 -> 10 | AC11: =IF(SUM(AG11:AX11)>J11,J11,SUM(AG11:AX11)) -> 1 | AD11: =IF(J11=0,0,IF(AC11>J11,1,AC11/J11)) -> 0.25 | AF11: =IFERROR(IF(C11=0,0,C11),0) -> 0 | AG11: 1 | AH11: 0
